BEGIN:VCALENDAR
VERSION:2.0
PRODID:-//jEvents 2.0 for Joomla//EN
CALSCALE:GREGORIAN
METHOD:PUBLISH
BEGIN:VTIMEZONE
TZID:Europe/Berlin
BEGIN:STANDARD
DTSTART:20220114T113000
RDATE:20220327T030000
TZOFFSETFROM:+0200
TZOFFSETTO:+0100
TZNAME:Europe/Berlin CET
END:STANDARD
BEGIN:STANDARD
DTSTART:20221030T020000
RDATE:20230326T030000
TZOFFSETFROM:+0200
TZOFFSETTO:+0100
TZNAME:Europe/Berlin CET
END:STANDARD
BEGIN:STANDARD
DTSTART:20231029T020000
RDATE:20240331T030000
TZOFFSETFROM:+0200
TZOFFSETTO:+0100
TZNAME:Europe/Berlin CET
END:STANDARD
BEGIN:STANDARD
DTSTART:20241027T020000
RDATE:20250330T030000
TZOFFSETFROM:+0200
TZOFFSETTO:+0100
TZNAME:Europe/Berlin CET
END:STANDARD
BEGIN:STANDARD
DTSTART:20251026T020000
RDATE:20260329T030000
TZOFFSETFROM:+0200
TZOFFSETTO:+0100
TZNAME:Europe/Berlin CET
END:STANDARD
BEGIN:STANDARD
DTSTART:20261025T020000
RDATE:20270328T030000
TZOFFSETFROM:+0200
TZOFFSETTO:+0100
TZNAME:Europe/Berlin CET
END:STANDARD
BEGIN:STANDARD
DTSTART:20271031T020000
RDATE:20280326T030000
TZOFFSETFROM:+0200
TZOFFSETTO:+0100
TZNAME:Europe/Berlin CET
END:STANDARD
BEGIN:STANDARD
DTSTART:20281029T020000
RDATE:20290325T030000
TZOFFSETFROM:+0200
TZOFFSETTO:+0100
TZNAME:Europe/Berlin CET
END:STANDARD
BEGIN:STANDARD
DTSTART:20291028T020000
RDATE:20300331T030000
TZOFFSETFROM:+0200
TZOFFSETTO:+0100
TZNAME:Europe/Berlin CET
END:STANDARD
BEGIN:DAYLIGHT
DTSTART:20220327T030000
RDATE:20221030T020000
TZOFFSETFROM:+0100
TZOFFSETTO:+0200
TZNAME:Europe/Berlin CEST
END:DAYLIGHT
BEGIN:DAYLIGHT
DTSTART:20230326T030000
RDATE:20231029T020000
TZOFFSETFROM:+0100
TZOFFSETTO:+0200
TZNAME:Europe/Berlin CEST
END:DAYLIGHT
BEGIN:DAYLIGHT
DTSTART:20240331T030000
RDATE:20241027T020000
TZOFFSETFROM:+0100
TZOFFSETTO:+0200
TZNAME:Europe/Berlin CEST
END:DAYLIGHT
BEGIN:DAYLIGHT
DTSTART:20250330T030000
RDATE:20251026T020000
TZOFFSETFROM:+0100
TZOFFSETTO:+0200
TZNAME:Europe/Berlin CEST
END:DAYLIGHT
BEGIN:DAYLIGHT
DTSTART:20260329T030000
RDATE:20261025T020000
TZOFFSETFROM:+0100
TZOFFSETTO:+0200
TZNAME:Europe/Berlin CEST
END:DAYLIGHT
BEGIN:DAYLIGHT
DTSTART:20270328T030000
RDATE:20271031T020000
TZOFFSETFROM:+0100
TZOFFSETTO:+0200
TZNAME:Europe/Berlin CEST
END:DAYLIGHT
BEGIN:DAYLIGHT
DTSTART:20280326T030000
RDATE:20281029T020000
TZOFFSETFROM:+0100
TZOFFSETTO:+0200
TZNAME:Europe/Berlin CEST
END:DAYLIGHT
BEGIN:DAYLIGHT
DTSTART:20290325T030000
RDATE:20291028T020000
TZOFFSETFROM:+0100
TZOFFSETTO:+0200
TZNAME:Europe/Berlin CEST
END:DAYLIGHT
END:VTIMEZONE
BEGIN:VEVENT
UID:f3bd4d86198653d0b254fcb1495eb761RR52
CATEGORIES:Museum
CREATED:20221208T131323
SUMMARY:Familienführung:  Baumwolle spinnen
URL;VALUE=URI:https://www.cromford-ev.de/crom/veranstaltungen/eventdetail/52/-/familienfu
 ehrung-baumwolle-spinnen?tmpl=component
DESCRIPTION:<p>Wer aus der Familie kann am besten einen Faden spinnen? Die Kinder? Oder
  doch die Eltern oder Großeltern? Gute Vorbereitung ist alles, um aus der B
 aumwolle mit den Fingern einen Faden zu spinnen: Am Schlagtisch wird die Ba
 umwolle aufgelockert und gereinigt, anschließend muss sie kardiert, also ge
 kämmt, und das Vlies zu einer Rolle aufgewickelt werden. Und dann zeigt sic
 h, wer am geschicktesten aus der Watterolle Fasern ausziehen und verdrehen 
 kann! Hält der Faden? Das jedenfalls konnte der Unternehmer Johann Gottfrie
 d Brügelmann von dem Garn behaupten, das er seit 1783 in der ersten Fabrik 
 auf dem Kontinent herstellte. Auch heute noch kann man sich in der Hohen Fa
 brik überzeugen: Die Water Frame spinnt schneller als es mit der Hand mögli
 ch ist. Und sie wickelt einen starken, festen Faden auf ihre Spulen.</p><p>
 &nbsp;</p><p><strong>Eine Anmeldung ist nicht erforderlich.</strong> <br />
  Tickets sind buchbar unter 02234-9921555 oder im Webshop: <a href="http://
 www.shop.industriemuseum.lvr.de/">www.shop.industriemuseum.lvr.de</a></p><p
 ><br /> <strong>Preise:</strong><br /> Kosten Erwachsene 11,50 €</p><p>Kind
 er und Jugendliche unter 18 Jahre: 3,00 € <br /> max. 20 Personen</p><p>Wei
 tere Informationen:<br /> kulturinfo rheinland, Tel.: 02234/9921-555 oder</
 p><p>LVR-Industriemuseum, Textilfabrik Cromford, Tel.: 02102/86449-0,<br />
  <a href="http://www.industriemuseum.lvr.de/"><span id="lblKosten">www.indu
 striemuseum.lvr.de</span></a></p>
DTSTAMP:20260424T154143
DTSTART;TZID=Europe/Berlin:20230115T113000
DTEND;TZID=Europe/Berlin:20230115T123000
SEQUENCE:0
TRANSP:OPAQUE
END:VEVENT
END:VCALENDAR