BEGIN:VCALENDAR
VERSION:2.0
PRODID:-//jEvents 2.0 for Joomla//EN
CALSCALE:GREGORIAN
METHOD:PUBLISH
BEGIN:VTIMEZONE
TZID:Europe/Berlin
BEGIN:STANDARD
DTSTART:20221030T020000
RDATE:20230326T030000
TZOFFSETFROM:+0200
TZOFFSETTO:+0100
TZNAME:Europe/Berlin CET
END:STANDARD
BEGIN:STANDARD
DTSTART:20231029T020000
RDATE:20240331T030000
TZOFFSETFROM:+0200
TZOFFSETTO:+0100
TZNAME:Europe/Berlin CET
END:STANDARD
BEGIN:STANDARD
DTSTART:20241027T020000
RDATE:20250330T030000
TZOFFSETFROM:+0200
TZOFFSETTO:+0100
TZNAME:Europe/Berlin CET
END:STANDARD
BEGIN:STANDARD
DTSTART:20251026T020000
RDATE:20260329T030000
TZOFFSETFROM:+0200
TZOFFSETTO:+0100
TZNAME:Europe/Berlin CET
END:STANDARD
BEGIN:STANDARD
DTSTART:20261025T020000
RDATE:20270328T030000
TZOFFSETFROM:+0200
TZOFFSETTO:+0100
TZNAME:Europe/Berlin CET
END:STANDARD
BEGIN:STANDARD
DTSTART:20271031T020000
RDATE:20280326T030000
TZOFFSETFROM:+0200
TZOFFSETTO:+0100
TZNAME:Europe/Berlin CET
END:STANDARD
BEGIN:STANDARD
DTSTART:20281029T020000
RDATE:20290325T030000
TZOFFSETFROM:+0200
TZOFFSETTO:+0100
TZNAME:Europe/Berlin CET
END:STANDARD
BEGIN:STANDARD
DTSTART:20291028T020000
RDATE:20300331T030000
TZOFFSETFROM:+0200
TZOFFSETTO:+0100
TZNAME:Europe/Berlin CET
END:STANDARD
BEGIN:DAYLIGHT
DTSTART:20220722T140000
RDATE:20221030T020000
TZOFFSETFROM:+0100
TZOFFSETTO:+0200
TZNAME:Europe/Berlin CEST
END:DAYLIGHT
BEGIN:DAYLIGHT
DTSTART:20230326T030000
RDATE:20231029T020000
TZOFFSETFROM:+0100
TZOFFSETTO:+0200
TZNAME:Europe/Berlin CEST
END:DAYLIGHT
BEGIN:DAYLIGHT
DTSTART:20240331T030000
RDATE:20241027T020000
TZOFFSETFROM:+0100
TZOFFSETTO:+0200
TZNAME:Europe/Berlin CEST
END:DAYLIGHT
BEGIN:DAYLIGHT
DTSTART:20250330T030000
RDATE:20251026T020000
TZOFFSETFROM:+0100
TZOFFSETTO:+0200
TZNAME:Europe/Berlin CEST
END:DAYLIGHT
BEGIN:DAYLIGHT
DTSTART:20260329T030000
RDATE:20261025T020000
TZOFFSETFROM:+0100
TZOFFSETTO:+0200
TZNAME:Europe/Berlin CEST
END:DAYLIGHT
BEGIN:DAYLIGHT
DTSTART:20270328T030000
RDATE:20271031T020000
TZOFFSETFROM:+0100
TZOFFSETTO:+0200
TZNAME:Europe/Berlin CEST
END:DAYLIGHT
BEGIN:DAYLIGHT
DTSTART:20280326T030000
RDATE:20281029T020000
TZOFFSETFROM:+0100
TZOFFSETTO:+0200
TZNAME:Europe/Berlin CEST
END:DAYLIGHT
BEGIN:DAYLIGHT
DTSTART:20290325T030000
RDATE:20291028T020000
TZOFFSETFROM:+0100
TZOFFSETTO:+0200
TZNAME:Europe/Berlin CEST
END:DAYLIGHT
END:VTIMEZONE
BEGIN:VEVENT
UID:00e33cd6f661c88c8459772dcb6949cd
CATEGORIES:Museum
CREATED:20230427T184956
SUMMARY:Außenführung: Historischer Spaziergang von Unter- nach Obercromford
URL;VALUE=URI:https://www.cromford-ev.de/crom/veranstaltungen/eventdetail/85/-/aussenfueh
 rung-historischer-spaziergang-von-unter-nach-obercromford?tmpl=component
DESCRIPTION:Wo einst Fabrikhallen das Stadtbild prägten, befinden sich nun Wohnhäuser u
 nd ausgedehnte Wiesen. An das ehemals weitläufige Fabrikensemble der Textil
 fabrik Cromford erinnern heute vor allem das spätbarocke Herrenhaus, die Ho
 he Fabrik und einige Arbeiterwohnungen. In welche Umgebung war die erste Fa
 brik auf dem Kontinent eingebettet und wie entwickelte sich das Viertel in 
 seiner 200-jährigen Fabrikgeschichte? Beim Spaziergang von Unter- nach Ober
 cromford, entlang der Anger und durch den Poensgen Park, erschließt sich di
 e wechselvolle Geschichte der Unternehmerfamilie Brügelmann und der Textilf
 abrik Cromford. Spannende Details rund um das Fabrikviertel warten darauf, 
 erlaufen zu werden.\n \n \nEine Anmeldung ist nicht erforderlich. \nTickets
  sind buchbar unter 02234-9921555 oder im Webshop: www.shop.industriemuseum
 .lvr.de (http://www.shop.industriemuseum.lvr.de/)\nmax. 20 Personen \n\nPre
 ise:\nKosten Erwachsene 10,50 €\nKinder und Jugendliche bis 18 Jahre:  3,00
  €\n\n\nWeitere Informationen:\nkulturinfo rheinland, Tel.: 02234/9921-555 
 oder\nLVR-Industriemuseum, Textilfabrik Cromford, Tel.: 02102/86449-0,\nwww
 .industriemuseum.lvr.de (http://www.industriemuseum.lvr.de/)\n Dieser Event
  wurde importiert von: https://www.cromford-ev.de/crom/veranstaltungen/even
 tdetail/85/-/aussenfuehrung-historischer-spaziergang-von-unter-nach-obercro
 mford?tmpl=component (https://www.cromford-ev.de/crom/veranstaltungen/event
 detail/85/-/aussenfuehrung-historischer-spaziergang-von-unter-nach-obercrom
 ford?tmpl=component)
X-ALT-DESC;FMTTYPE=text/html:<p>Wo einst Fabrikhallen das Stadtbild prägten, befinden sich nun Wohnhäuse
 r und ausgedehnte Wiesen. An das ehemals weitläufige Fabrikensemble der Tex
 tilfabrik Cromford erinnern heute vor allem das spätbarocke Herrenhaus, die
  Hohe Fabrik und einige Arbeiterwohnungen. In welche Umgebung war die erste
  Fabrik auf dem Kontinent eingebettet und wie entwickelte sich das Viertel 
 in seiner 200-jährigen Fabrikgeschichte? Beim Spaziergang von Unter- nach O
 bercromford, entlang der Anger und durch den Poensgen Park, erschließt sich
  die wechselvolle Geschichte der Unternehmerfamilie Brügelmann und der Text
 ilfabrik Cromford. Spannende Details rund um das Fabrikviertel warten darau
 f, erlaufen zu werden.</p><p>&nbsp;</p><p>&nbsp;</p><p><strong>Eine Anmeldu
 ng ist nicht erforderlich.</strong> <br />Tickets sind buchbar unter 02234-
 9921555 oder im Webshop: <a href="http://www.shop.industriemuseum.lvr.de/">
 www.shop.industriemuseum.lvr.de</a></p><p>max. 20 Personen&nbsp;</p><p><br 
 /><span style="text-decoration: underline;"><strong>Preise:</strong></span>
 <br />Kosten Erwachsene 10,50 €</p><p>Kinder und Jugendliche bis 18 Jahre:&
 nbsp; 3,00 €<br /><br /></p><p>Weitere Informationen:<br />kulturinfo rhein
 land, Tel.: 02234/9921-555 oder</p><p>LVR-Industriemuseum, Textilfabrik Cro
 mford, Tel.: 02102/86449-0,<br /><span id="lblKosten"><a href="http://www.i
 ndustriemuseum.lvr.de/">www.industriemuseum.lvr.de</a></span></p> <a href="
 https://www.cromford-ev.de/crom/veranstaltungen/eventdetail/85/-/aussenfueh
 rung-historischer-spaziergang-von-unter-nach-obercromford?tmpl=component">D
 ieser Event wurde importiert von: https://www.cromford-ev.de/crom/veranstal
 tungen/eventdetail/85/-/aussenfuehrung-historischer-spaziergang-von-unter-n
 ach-obercromford?tmpl=component</a>DTSTAMP:20260425T012709
DTSTART;TZID=Europe/Berlin:20230723T140000
DTEND;TZID=Europe/Berlin:20230723T153000
SEQUENCE:0
TRANSP:OPAQUE
END:VEVENT
END:VCALENDAR