BEGIN:VCALENDAR
VERSION:2.0
PRODID:-//jEvents 2.0 for Joomla//EN
CALSCALE:GREGORIAN
METHOD:PUBLISH
BEGIN:VTIMEZONE
TZID:Europe/Berlin
BEGIN:STANDARD
DTSTART:20221030T020000
RDATE:20230326T030000
TZOFFSETFROM:+0200
TZOFFSETTO:+0100
TZNAME:Europe/Berlin CET
END:STANDARD
BEGIN:STANDARD
DTSTART:20231029T020000
RDATE:20240331T030000
TZOFFSETFROM:+0200
TZOFFSETTO:+0100
TZNAME:Europe/Berlin CET
END:STANDARD
BEGIN:STANDARD
DTSTART:20241027T020000
RDATE:20250330T030000
TZOFFSETFROM:+0200
TZOFFSETTO:+0100
TZNAME:Europe/Berlin CET
END:STANDARD
BEGIN:STANDARD
DTSTART:20251026T020000
RDATE:20260329T030000
TZOFFSETFROM:+0200
TZOFFSETTO:+0100
TZNAME:Europe/Berlin CET
END:STANDARD
BEGIN:STANDARD
DTSTART:20261025T020000
RDATE:20270328T030000
TZOFFSETFROM:+0200
TZOFFSETTO:+0100
TZNAME:Europe/Berlin CET
END:STANDARD
BEGIN:STANDARD
DTSTART:20271031T020000
RDATE:20280326T030000
TZOFFSETFROM:+0200
TZOFFSETTO:+0100
TZNAME:Europe/Berlin CET
END:STANDARD
BEGIN:STANDARD
DTSTART:20281029T020000
RDATE:20290325T030000
TZOFFSETFROM:+0200
TZOFFSETTO:+0100
TZNAME:Europe/Berlin CET
END:STANDARD
BEGIN:STANDARD
DTSTART:20291028T020000
RDATE:20300331T030000
TZOFFSETFROM:+0200
TZOFFSETTO:+0100
TZNAME:Europe/Berlin CET
END:STANDARD
BEGIN:DAYLIGHT
DTSTART:20220724T173000
RDATE:20221030T020000
TZOFFSETFROM:+0100
TZOFFSETTO:+0200
TZNAME:Europe/Berlin CEST
END:DAYLIGHT
BEGIN:DAYLIGHT
DTSTART:20230326T030000
RDATE:20231029T020000
TZOFFSETFROM:+0100
TZOFFSETTO:+0200
TZNAME:Europe/Berlin CEST
END:DAYLIGHT
BEGIN:DAYLIGHT
DTSTART:20240331T030000
RDATE:20241027T020000
TZOFFSETFROM:+0100
TZOFFSETTO:+0200
TZNAME:Europe/Berlin CEST
END:DAYLIGHT
BEGIN:DAYLIGHT
DTSTART:20250330T030000
RDATE:20251026T020000
TZOFFSETFROM:+0100
TZOFFSETTO:+0200
TZNAME:Europe/Berlin CEST
END:DAYLIGHT
BEGIN:DAYLIGHT
DTSTART:20260329T030000
RDATE:20261025T020000
TZOFFSETFROM:+0100
TZOFFSETTO:+0200
TZNAME:Europe/Berlin CEST
END:DAYLIGHT
BEGIN:DAYLIGHT
DTSTART:20270328T030000
RDATE:20271031T020000
TZOFFSETFROM:+0100
TZOFFSETTO:+0200
TZNAME:Europe/Berlin CEST
END:DAYLIGHT
BEGIN:DAYLIGHT
DTSTART:20280326T030000
RDATE:20281029T020000
TZOFFSETFROM:+0100
TZOFFSETTO:+0200
TZNAME:Europe/Berlin CEST
END:DAYLIGHT
BEGIN:DAYLIGHT
DTSTART:20290325T030000
RDATE:20291028T020000
TZOFFSETFROM:+0100
TZOFFSETTO:+0200
TZNAME:Europe/Berlin CEST
END:DAYLIGHT
END:VTIMEZONE
BEGIN:VEVENT
UID:4b9aaf5a29c91f4b141d45690b163801
CATEGORIES:Museum
CREATED:20230427T184538
SUMMARY:Workshop: Upcycling – Sticken am Wasserrad
URL;VALUE=URI:https://www.cromford-ev.de/crom/veranstaltungen/eventdetail/84/-/workshop-u
 pcycling-sticken-am-wasserrad?tmpl=component
DESCRIPTION:Fast Fashion, umweltschädlicher Baumwollanbau, katastrophale Arbeitsbedingu
 ngen – in Nachhaltigkeitsfragen hat die Textilindustrie noch enormes Steige
 rungspotenzial. Doch was können wir tun, um ressourcenschonend mit dem, was
  uns kleidet, umzugehen? Der Workshop am Wasserrad der Textilfabrik Cromfor
 d führt ein in die Sticktechnik des Sashiko. Mit dieser aus Japan stammende
 n Verziertechnik lässt sich alte oder kaputte Kleidung Stich für Stich aufw
 erten. So kann den ausrangierten Stücken neues Leben eingehaucht und der te
 xtile Kreislauf verlängert werden.\n \nVor Beginn des Workshops besteht die
  Möglichkeit, an einer halbstündigen Maschinenvorführung teilzunehmen und a
 n originalgetreu nachgebauten Spinnmaschinen des 18. Jahrhunderts zu erlebe
 n, wie aus Baumwolle ein Faden gesponnen wird.\n \nHinweis: Bitte ein bis z
 wei Kleidungsstücke aus nicht (!) dehnbaren Stoffen (z.B. Jeans) mitbringen
 , die aufgewertet werden sollen.\nAnmeldung unter:\nkulturinfo rheinland, T
 elefon 02234/9921-555\n oder im Webshop buchen: www.shop.industriemuseum.lv
 r.de (http://www.shop.industriemuseum.lvr.de/)\nmax. 15 Personen\n Preise: 
 Kosten: 15 € p.P.\nWeitere Informationen:\n kulturinfo rheinland, Tel.: 022
 34/9921-555 oder\nLVR-Industriemuseum, Textilfabrik Cromford, Tel.: 02102/8
 6449-0,\n www.industriemuseum.lvr.de (http://www.industriemuseum.lvr.de/)\n
  Dieser Event wurde importiert von: https://www.cromford-ev.de/crom/veranst
 altungen/eventdetail/84/-/workshop-upcycling-sticken-am-wasserrad?tmpl=comp
 onent (https://www.cromford-ev.de/crom/veranstaltungen/eventdetail/84/-/wor
 kshop-upcycling-sticken-am-wasserrad?tmpl=component)
X-ALT-DESC;FMTTYPE=text/html:<p>Fast Fashion, umweltschädlicher Baumwollanbau, katastrophale Arbeitsbedi
 ngungen – in Nachhaltigkeitsfragen hat die Textilindustrie noch enormes Ste
 igerungspotenzial. Doch was können wir tun, um ressourcenschonend mit dem, 
 was uns kleidet, umzugehen? Der Workshop am Wasserrad der Textilfabrik Crom
 ford führt ein in die Sticktechnik des Sashiko. Mit dieser aus Japan stamme
 nden Verziertechnik lässt sich alte oder kaputte Kleidung Stich für Stich a
 ufwerten. So kann den ausrangierten Stücken neues Leben eingehaucht und der
  textile Kreislauf verlängert werden.</p><p>&nbsp;</p><p>Vor Beginn des Wor
 kshops besteht die Möglichkeit, an einer halbstündigen Maschinenvorführung 
 teilzunehmen und an originalgetreu nachgebauten Spinnmaschinen des 18. Jahr
 hunderts zu erleben, wie aus Baumwolle ein Faden gesponnen wird.</p><p>&nbs
 p;</p><p><strong><em>Hinweis: Bitte ein bis zwei Kleidungsstücke aus nicht 
 (!) dehnbaren Stoffen (z.B. Jeans) mitbringen, die aufgewertet werden solle
 n.</em></strong></p><p><strong>Anmeldung unter:</strong></p><p><strong>kult
 urinfo rheinland, Telefon 02234/9921-555<br /> </strong>oder im Webshop buc
 hen: <a href="http://www.shop.industriemuseum.lvr.de/" target="_blank" rel=
 "noopener" title="Externer Link öffnet neues Fenster">www.shop.industriemus
 eum.lvr.de</a></p><p>max. 15 Personen<br /> <strong>Preise: </strong>Kosten
 : 15 € p.P.</p><p>Weitere Informationen:<br /> kulturinfo rheinland, Tel.: 
 02234/9921-555 oder</p><p>LVR-Industriemuseum, Textilfabrik Cromford, Tel.:
  02102/86449-0,<br /> <span id="lblKosten"><a href="http://www.industriemus
 eum.lvr.de/">www.industriemuseum.lvr.de</a></span></p> <a href="https://www
 .cromford-ev.de/crom/veranstaltungen/eventdetail/84/-/workshop-upcycling-st
 icken-am-wasserrad?tmpl=component">Dieser Event wurde importiert von: https
 ://www.cromford-ev.de/crom/veranstaltungen/eventdetail/84/-/workshop-upcycl
 ing-sticken-am-wasserrad?tmpl=component</a>DTSTAMP:20260425T012709
DTSTART;TZID=Europe/Berlin:20230725T173000
DTEND;TZID=Europe/Berlin:20230725T200000
SEQUENCE:0
TRANSP:OPAQUE
END:VEVENT
END:VCALENDAR