BEGIN:VCALENDAR
VERSION:2.0
PRODID:-//jEvents 2.0 for Joomla//EN
CALSCALE:GREGORIAN
METHOD:PUBLISH
BEGIN:VTIMEZONE
TZID:Europe/Berlin
BEGIN:STANDARD
DTSTART:20221030T020000
RDATE:20230326T030000
TZOFFSETFROM:+0200
TZOFFSETTO:+0100
TZNAME:Europe/Berlin CET
END:STANDARD
BEGIN:STANDARD
DTSTART:20231029T020000
RDATE:20240331T030000
TZOFFSETFROM:+0200
TZOFFSETTO:+0100
TZNAME:Europe/Berlin CET
END:STANDARD
BEGIN:STANDARD
DTSTART:20241027T020000
RDATE:20250330T030000
TZOFFSETFROM:+0200
TZOFFSETTO:+0100
TZNAME:Europe/Berlin CET
END:STANDARD
BEGIN:STANDARD
DTSTART:20251026T020000
RDATE:20260329T030000
TZOFFSETFROM:+0200
TZOFFSETTO:+0100
TZNAME:Europe/Berlin CET
END:STANDARD
BEGIN:STANDARD
DTSTART:20261025T020000
RDATE:20270328T030000
TZOFFSETFROM:+0200
TZOFFSETTO:+0100
TZNAME:Europe/Berlin CET
END:STANDARD
BEGIN:STANDARD
DTSTART:20271031T020000
RDATE:20280326T030000
TZOFFSETFROM:+0200
TZOFFSETTO:+0100
TZNAME:Europe/Berlin CET
END:STANDARD
BEGIN:STANDARD
DTSTART:20281029T020000
RDATE:20290325T030000
TZOFFSETFROM:+0200
TZOFFSETTO:+0100
TZNAME:Europe/Berlin CET
END:STANDARD
BEGIN:STANDARD
DTSTART:20291028T020000
RDATE:20300331T030000
TZOFFSETFROM:+0200
TZOFFSETTO:+0100
TZNAME:Europe/Berlin CET
END:STANDARD
BEGIN:DAYLIGHT
DTSTART:20220425T173000
RDATE:20221030T020000
TZOFFSETFROM:+0100
TZOFFSETTO:+0200
TZNAME:Europe/Berlin CEST
END:DAYLIGHT
BEGIN:DAYLIGHT
DTSTART:20230326T030000
RDATE:20231029T020000
TZOFFSETFROM:+0100
TZOFFSETTO:+0200
TZNAME:Europe/Berlin CEST
END:DAYLIGHT
BEGIN:DAYLIGHT
DTSTART:20240331T030000
RDATE:20241027T020000
TZOFFSETFROM:+0100
TZOFFSETTO:+0200
TZNAME:Europe/Berlin CEST
END:DAYLIGHT
BEGIN:DAYLIGHT
DTSTART:20250330T030000
RDATE:20251026T020000
TZOFFSETFROM:+0100
TZOFFSETTO:+0200
TZNAME:Europe/Berlin CEST
END:DAYLIGHT
BEGIN:DAYLIGHT
DTSTART:20260329T030000
RDATE:20261025T020000
TZOFFSETFROM:+0100
TZOFFSETTO:+0200
TZNAME:Europe/Berlin CEST
END:DAYLIGHT
BEGIN:DAYLIGHT
DTSTART:20270328T030000
RDATE:20271031T020000
TZOFFSETFROM:+0100
TZOFFSETTO:+0200
TZNAME:Europe/Berlin CEST
END:DAYLIGHT
BEGIN:DAYLIGHT
DTSTART:20280326T030000
RDATE:20281029T020000
TZOFFSETFROM:+0100
TZOFFSETTO:+0200
TZNAME:Europe/Berlin CEST
END:DAYLIGHT
BEGIN:DAYLIGHT
DTSTART:20290325T030000
RDATE:20291028T020000
TZOFFSETFROM:+0100
TZOFFSETTO:+0200
TZNAME:Europe/Berlin CEST
END:DAYLIGHT
END:VTIMEZONE
BEGIN:VEVENT
UID:17478d690892ea20e55add71c5aa7f07
CATEGORIES:Förderverein
CREATED:20230327T191943
SUMMARY:Vortrag „Mut zum Unternehmertum und zur Hightech-Innovation mitten in Deutschland“
URL;VALUE=URI:https://www.cromford-ev.de/crom/veranstaltungen/eventdetail/72/-/vortrag-mu
 t-zum-unternehmertum-und-zur-hightech-innovation-mitten-in-deutschland?tmpl
 =component
DESCRIPTION:<p>Einladung zur</p><p style="text-align: center;">Vortragsveranstaltung <b
 r />am Mittwoch, d. 26. April 2023, 17:30 Uhr <br />Tünkers Maschinenbau Gm
 bH, <br />Am Rosenkothen 8, Halle 8 <br />40880 Ratingen</p><p>&nbsp;</p><h
 3 style="text-align: center;">„Mut zum Unternehmertum und zur Hightech-Inno
 vation mitten in Deutschland“</h3><p>Sehr geehrte Damen und Herren, <br />w
 as zeichnet Unternehmertum aus? Welcher Skills bedarf es? Was ist der Lohn?
 </p><p>&nbsp;</p><p>Antworten auf diese und weitere Fragen gibt <strong>Dr.
  Jörg Haas</strong>, CEO der Scopevisio AG, in der gemeinsam vom Verein "Fr
 eunde und Förderer des Industriemuseums Cromford" und Unternehmensverband R
 atingen e.V. (UVR) durchgeführten Vortragsveranstaltung</p><p>&nbsp;</p><p 
 style="text-align: center;"><strong> „Mut zum Unternehmertum und zur Highte
 ch-Innovation mitten in Deutschland“</strong></p><p>&nbsp;</p><p><strong>Dr
 . Jörg Haas</strong> ist Unternehmer aus Leidenschaft. Als Visionär und Str
 atege entwickelt er anspruchsvolle Business Software Unternehmen, so in der
  Vergangenheit die GWI AG oder gegenwärtig die Scopevisio AG. Daneben ist e
 r Gründer und Gesellschafter der BonnVisio Gruppe sowie der Invite Group. A
 n autobiografischen Beispielen wird Dr. Haas aufzeigen, wie man als Unterne
 hmer in unterschiedlichen Branchen und mit veränderten Voraussetzungen etwa
 s Entscheidendes erreichen kann. Dass soziale und ökologische unternehmeris
 che Verantwortung Erfolgsfaktoren sind. Dass übermächtig erscheinende Welt-
 Konzerne durch clevere Mittelständler verwundbar und angreifbar sind. Dass 
 Europa, Deutschland und wir in NRW nicht dümmer als die Menschen im Silicon
  Valley sind und wir durchaus bei Innovation, unternehmerischer Phantasie u
 nd deren Umsetzung mithalten können.</p><p>&nbsp;</p><p>Im Anschluss an den
  Vortrag von Herrn Dr. Haas findet ein Imbiss statt, zu dem Sie herzlich ei
 ngeladen sind. Darüber hinaus besteht die Möglichkeit, an einer Betriebsfüh
 rung bei der Tünkers Maschinenbau GmbH teilzunehmen.</p><p>&nbsp;</p><p>Bit
 te geben Sie bis zum <strong>12. April 2023</strong> Ihre Rückmeldung an Ju
 liane Zurhorst (UVR) unter <joomla-hidden-mail  is-link="1" is-email="1" fi
 rst="b2ZmaWNl" last="dW50ZXJuZWhtZW5zdmVyYmFuZC5jb20=" text="b2ZmaWNlQHVudG
 VybmVobWVuc3ZlcmJhbmQuY29t" base="/crom" >Diese E-Mail-Adresse ist vor Spam
 bots geschützt! Zur Anzeige muss JavaScript eingeschaltet sein.</joomla-hid
 den-mail>, ob Sie an der Veranstaltung und an dem anschließenden Imbiss tei
 lnehmen.</p><p>&nbsp;</p><p>Soweit Sie Gäste mitbringen möchten, geben Sie 
 auch deren vollständigen Namen an.</p><p>&nbsp;</p><p>Wir freuen uns auf ei
 nen spannenden Vortrag und den persönlichen Austausch mit Ihnen.</p><p>&nbs
 p;</p><p>Hannelore Hanning, Vorsitzende des Vereins "Freunde und Förderer d
 es Industriemuseums Cromford e. V."</p><p>Olaf Tünkers, Vorsitzender des Un
 ternehmensverband Ratingen e.V.</p> <a href="https://www.cromford-ev.de/cro
 m/veranstaltungen/eventdetail/72/-/vortrag-mut-zum-unternehmertum-und-zur-h
 ightech-innovation-mitten-in-deutschland?tmpl=component">Dieser Event wurde
  importiert von: https://www.cromford-ev.de/crom/veranstaltungen/eventdetai
 l/72/-/vortrag-mut-zum-unternehmertum-und-zur-hightech-innovation-mitten-in
 -deutschland?tmpl=component</a>DTSTAMP:20260424T190741
DTSTART;TZID=Europe/Berlin:20230426T173000
SEQUENCE:0
TRANSP:OPAQUE
END:VEVENT
END:VCALENDAR