BEGIN:VCALENDAR
VERSION:2.0
PRODID:-//jEvents 2.0 for Joomla//EN
CALSCALE:GREGORIAN
METHOD:PUBLISH
BEGIN:VTIMEZONE
TZID:Europe/Berlin
BEGIN:STANDARD
DTSTART:20221030T020000
RDATE:20230326T030000
TZOFFSETFROM:+0200
TZOFFSETTO:+0100
TZNAME:Europe/Berlin CET
END:STANDARD
BEGIN:STANDARD
DTSTART:20231029T020000
RDATE:20240331T030000
TZOFFSETFROM:+0200
TZOFFSETTO:+0100
TZNAME:Europe/Berlin CET
END:STANDARD
BEGIN:STANDARD
DTSTART:20241027T020000
RDATE:20250330T030000
TZOFFSETFROM:+0200
TZOFFSETTO:+0100
TZNAME:Europe/Berlin CET
END:STANDARD
BEGIN:STANDARD
DTSTART:20251026T020000
RDATE:20260329T030000
TZOFFSETFROM:+0200
TZOFFSETTO:+0100
TZNAME:Europe/Berlin CET
END:STANDARD
BEGIN:STANDARD
DTSTART:20261025T020000
RDATE:20270328T030000
TZOFFSETFROM:+0200
TZOFFSETTO:+0100
TZNAME:Europe/Berlin CET
END:STANDARD
BEGIN:STANDARD
DTSTART:20271031T020000
RDATE:20280326T030000
TZOFFSETFROM:+0200
TZOFFSETTO:+0100
TZNAME:Europe/Berlin CET
END:STANDARD
BEGIN:STANDARD
DTSTART:20281029T020000
RDATE:20290325T030000
TZOFFSETFROM:+0200
TZOFFSETTO:+0100
TZNAME:Europe/Berlin CET
END:STANDARD
BEGIN:STANDARD
DTSTART:20291028T020000
RDATE:20300331T030000
TZOFFSETFROM:+0200
TZOFFSETTO:+0100
TZNAME:Europe/Berlin CET
END:STANDARD
BEGIN:DAYLIGHT
DTSTART:20220522T130000
RDATE:20221030T020000
TZOFFSETFROM:+0100
TZOFFSETTO:+0200
TZNAME:Europe/Berlin CEST
END:DAYLIGHT
BEGIN:DAYLIGHT
DTSTART:20230326T030000
RDATE:20231029T020000
TZOFFSETFROM:+0100
TZOFFSETTO:+0200
TZNAME:Europe/Berlin CEST
END:DAYLIGHT
BEGIN:DAYLIGHT
DTSTART:20240331T030000
RDATE:20241027T020000
TZOFFSETFROM:+0100
TZOFFSETTO:+0200
TZNAME:Europe/Berlin CEST
END:DAYLIGHT
BEGIN:DAYLIGHT
DTSTART:20250330T030000
RDATE:20251026T020000
TZOFFSETFROM:+0100
TZOFFSETTO:+0200
TZNAME:Europe/Berlin CEST
END:DAYLIGHT
BEGIN:DAYLIGHT
DTSTART:20260329T030000
RDATE:20261025T020000
TZOFFSETFROM:+0100
TZOFFSETTO:+0200
TZNAME:Europe/Berlin CEST
END:DAYLIGHT
BEGIN:DAYLIGHT
DTSTART:20270328T030000
RDATE:20271031T020000
TZOFFSETFROM:+0100
TZOFFSETTO:+0200
TZNAME:Europe/Berlin CEST
END:DAYLIGHT
BEGIN:DAYLIGHT
DTSTART:20280326T030000
RDATE:20281029T020000
TZOFFSETFROM:+0100
TZOFFSETTO:+0200
TZNAME:Europe/Berlin CEST
END:DAYLIGHT
BEGIN:DAYLIGHT
DTSTART:20290325T030000
RDATE:20291028T020000
TZOFFSETFROM:+0100
TZOFFSETTO:+0200
TZNAME:Europe/Berlin CEST
END:DAYLIGHT
END:VTIMEZONE
BEGIN:VEVENT
UID:66765f9ffec3d04d48e7b3ddd0644f81
CATEGORIES:Förderverein
CREATED:20220901T171018
SUMMARY:Exkursion Westdeutsche Dochtfabrik / Fa. WEDO
URL;VALUE=URI:https://www.cromford-ev.de/crom/veranstaltungen/eventdetail/7/-/exkursion-w
 estdeutsche-dochtfabrik-fa-wedo?tmpl=component
DESCRIPTION:Liebe Mitglieder, sehr geehrte Damen und Herren,\nund wieder sind wir unter
 wegs. Der Weg führt uns zur Westdeutschen Dochtfabrik GmbH (seit 1954) nach
  Nettetal.\nAufhorchen lässt die eigene Werbung des Unternehmens:\n \nWEDO 
 ist der Hersteller von Hochleistungsgeflechten für die Kerzenindustrie und 
 weitere zukunftsträchtige Anwendungen\nWEDO empfiehlt die technischen Gefle
 chte für alle Anwendungen und viele andere Industrien\n WEDO kooperiert bei
  Forschung und Entwicklung bundesweit mit anderen Instituten\n WEDO betreib
 t innovative Forschung und Entwicklung in eigenen Laboratorien\n \nBei der 
 Produktion von Elektromotoren sind technische Geflechte nicht wegzudenken. 
 – von Medizin bis zur Raumfahrt.\nDer Einsatz textiler technischer Geflecht
 e ist nahezu unbegrenzt möglich. Maßgeschneiderte Geflechte werden auf Anfr
 age individuell gefertigt.\n \nNeu ist die Dochtfiguration.\nAm Beispiel de
 r Dochte kann das Anliegen des Unternehmens, Qualität zu liefern, anschauli
 ch dargestellt werden.\nDochte werden konfiguriert, müssen auf ein bestimmt
 es gewünschtes Kerzensystem abgestimmt werden, damit bestmögliche Brennerge
 bnisse erzielt werden.\nFür geflochtene Kerzendochte ist die Firma WEDO Wel
 tmarktführer.\n \nNeugier geweckt?\n \nBei einer fachkundigen Führung tauch
 en Sie exklusiv als Mitglieder der Freunde und Förderer des Industriemuseum
 s Cromford in dieses hochinteressante Thema ein und werden wieder mit neuen
  Erkenntnissen, Anregungen und erhöhter Wertschätzung innovativer Unternehm
 enskultur den Heimweg antreten.\nDa auch diese Exkursion sicher wieder zu e
 inem intensiven Austausch unter den Teilnehmern nach dem Besuch anregt, wir
 d der Vorstand sich nach einem geeigneten Restaurant in der Nähe umschauen.
  Bitte teilen Sie uns Ihre mögliche Teilnahme an dem Restaurantbesuch mit. 
 Abweichende Informationen gehen Ihnen rechtzeitig zu, ansonsten gelten die 
 Daten der Einladung.\n \nFalls Sie im Vorfeld den Wunsch haben, sich näher 
 über das Unternehmen zu informieren, empfehlen wir Ihnen die Homepage des U
 nternehmens    \nWEDO – Dochte Technische Geflechte –www.wedobraids.com\nWi
 r würden uns sehr freuen, Sie zu dieser attraktiven Exkursion begrüßen zu d
 ürfen und bitten um Ihre verbindliche Anmeldung, spätestens bis zum 16.05.2
 023! \nAnmeldung per E-Mail über Diese E-Mail-Adresse ist vor Spambots gesc
 hützt! Zur Anzeige muss JavaScript eingeschaltet sein. oder telefonisch unt
 er 02102- 86449-200\nBitte organisieren Sie individuell, wenn möglich, Fahr
 gemeinschaften und geben diese bei Ihrer Anmeldung bekannt.\n \nWestdeutsch
 e Dochtfabrik / Fa. WEDO\nRavensstr. 46 , 41334 Nettetal\n \n\nBleiben Sie 
 mit uns neugierig!\n \n \n Dieser Event wurde importiert von: https://www.c
 romford-ev.de/crom/veranstaltungen/eventdetail/7/-/exkursion-westdeutsche-d
 ochtfabrik-fa-wedo?tmpl=component (https://www.cromford-ev.de/crom/veransta
 ltungen/eventdetail/7/-/exkursion-westdeutsche-dochtfabrik-fa-wedo?tmpl=com
 ponent)
X-ALT-DESC;FMTTYPE=text/html:<p>Liebe Mitglieder, sehr geehrte Damen und Herren,</p><p>und wieder sind w
 ir unterwegs. Der Weg führt uns zur Westdeutschen Dochtfabrik GmbH (seit 19
 54) nach Nettetal.</p><p>Aufhorchen lässt die eigene Werbung des Unternehme
 ns:</p><p>&nbsp;</p><p style="text-align: center;"><strong>WEDO ist der Her
 steller von Hochleistungsgeflechten für die Kerzenindustrie und weitere zuk
 unftsträchtige Anwendungen</strong></p><p style="text-align: center;"><stro
 ng>WEDO empfiehlt die technischen Geflechte für alle Anwendungen und viele 
 andere Industrien</strong></p><p style="text-align: center;"><strong>&nbsp;
 WEDO kooperiert bei Forschung und Entwicklung bundesweit mit anderen Instit
 uten</strong></p><p style="text-align: center;"><strong>&nbsp;WEDO betreibt
  innovative Forschung und Entwicklung in eigenen Laboratorien</strong></p><
 p>&nbsp;</p><p>Bei der Produktion von Elektromotoren sind technische Geflec
 hte nicht wegzudenken. – von Medizin bis zur Raumfahrt.</p><p>Der Einsatz t
 extiler technischer Geflechte ist nahezu unbegrenzt möglich. Maßgeschneider
 te Geflechte werden auf Anfrage individuell gefertigt.</p><p>&nbsp;</p><p>N
 eu ist die Dochtfiguration.<br />Am Beispiel der Dochte kann das Anliegen d
 es Unternehmens, Qualität zu liefern, anschaulich dargestellt werden.<br />
 Dochte werden konfiguriert, müssen auf ein bestimmtes gewünschtes Kerzensys
 tem abgestimmt werden, damit bestmögliche Brennergebnisse erzielt werden.<b
 r />Für geflochtene Kerzendochte ist die Firma WEDO Weltmarktführer.</p><p>
 &nbsp;</p><p>Neugier geweckt?</p><p>&nbsp;</p><p>Bei einer fachkundigen Füh
 rung tauchen Sie exklusiv als Mitglieder der Freunde und Förderer des Indus
 triemuseums Cromford in dieses hochinteressante Thema ein und werden wieder
  mit neuen Erkenntnissen, Anregungen und erhöhter Wertschätzung innovativer
  Unternehmenskultur den Heimweg antreten.</p><p>Da auch diese Exkursion sic
 her wieder zu einem intensiven Austausch unter den Teilnehmern nach dem Bes
 uch anregt, wird der Vorstand sich nach einem geeigneten Restaurant in der 
 Nähe umschauen. Bitte teilen Sie uns Ihre mögliche Teilnahme an dem Restaur
 antbesuch mit. Abweichende Informationen gehen Ihnen rechtzeitig zu, ansons
 ten gelten die Daten der Einladung.</p><p>&nbsp;</p><p>Falls Sie im Vorfeld
  den Wunsch haben, sich näher über das Unternehmen zu informieren, empfehle
 n wir Ihnen die Homepage des Unternehmens&nbsp;&nbsp;&nbsp;&nbsp;</p><p sty
 le="text-align: center;"><strong>WEDO – Dochte Technische Geflechte –www.we
 dobraids.com</strong></p><p>Wir würden uns sehr freuen, Sie zu dieser attra
 ktiven Exkursion begrüßen zu dürfen und bitten um Ihre verbindliche Anmeldu
 ng, spätestens bis zum 16.05.2023<strong>! </strong></p><p>Anmeldung per E-
 Mail über <joomla-hidden-mail  is-link="1" is-email="1" first="UklNLVJhdGlu
 Z2Vu" last="bHZyLmRl" text="UklNLVJhdGluZ2VuQGx2ci5kZQ==" base="/crom" >Die
 se E-Mail-Adresse ist vor Spambots geschützt! Zur Anzeige muss JavaScript e
 ingeschaltet sein.</joomla-hidden-mail> oder telefonisch unter 02102- 86449
 -200</p><p>Bitte organisieren Sie individuell, wenn möglich, Fahrgemeinscha
 ften und geben diese bei Ihrer Anmeldung bekannt.</p><p>&nbsp;</p><p><stron
 g>Westdeutsche Dochtfabrik / Fa. WEDO</strong></p><p><strong>Ravensstr. 46 
 , 41334 Nettetal</strong></p><p>&nbsp;<strong><br /></strong></p><p style="
 text-align: center;"><strong>Bleiben Sie mit uns neugierig!</strong></p><p>
 &nbsp;</p><p>&nbsp;</p> <a href="https://www.cromford-ev.de/crom/veranstalt
 ungen/eventdetail/7/-/exkursion-westdeutsche-dochtfabrik-fa-wedo?tmpl=compo
 nent">Dieser Event wurde importiert von: https://www.cromford-ev.de/crom/ve
 ranstaltungen/eventdetail/7/-/exkursion-westdeutsche-dochtfabrik-fa-wedo?tm
 pl=component</a>DTSTAMP:20260424T220701
DTSTART;TZID=Europe/Berlin:20230523T130000
DTEND;TZID=Europe/Berlin:20230523T170000
SEQUENCE:0
TRANSP:OPAQUE
END:VEVENT
END:VCALENDAR