BEGIN:VCALENDAR
VERSION:2.0
PRODID:-//jEvents 2.0 for Joomla//EN
CALSCALE:GREGORIAN
METHOD:PUBLISH
BEGIN:VTIMEZONE
TZID:Europe/Berlin
BEGIN:STANDARD
DTSTART:20221030T020000
RDATE:20230326T030000
TZOFFSETFROM:+0200
TZOFFSETTO:+0100
TZNAME:Europe/Berlin CET
END:STANDARD
BEGIN:STANDARD
DTSTART:20231029T020000
RDATE:20240331T030000
TZOFFSETFROM:+0200
TZOFFSETTO:+0100
TZNAME:Europe/Berlin CET
END:STANDARD
BEGIN:STANDARD
DTSTART:20241027T020000
RDATE:20250330T030000
TZOFFSETFROM:+0200
TZOFFSETTO:+0100
TZNAME:Europe/Berlin CET
END:STANDARD
BEGIN:STANDARD
DTSTART:20251026T020000
RDATE:20260329T030000
TZOFFSETFROM:+0200
TZOFFSETTO:+0100
TZNAME:Europe/Berlin CET
END:STANDARD
BEGIN:STANDARD
DTSTART:20261025T020000
RDATE:20270328T030000
TZOFFSETFROM:+0200
TZOFFSETTO:+0100
TZNAME:Europe/Berlin CET
END:STANDARD
BEGIN:STANDARD
DTSTART:20271031T020000
RDATE:20280326T030000
TZOFFSETFROM:+0200
TZOFFSETTO:+0100
TZNAME:Europe/Berlin CET
END:STANDARD
BEGIN:STANDARD
DTSTART:20281029T020000
RDATE:20290325T030000
TZOFFSETFROM:+0200
TZOFFSETTO:+0100
TZNAME:Europe/Berlin CET
END:STANDARD
BEGIN:STANDARD
DTSTART:20291028T020000
RDATE:20300331T030000
TZOFFSETFROM:+0200
TZOFFSETTO:+0100
TZNAME:Europe/Berlin CET
END:STANDARD
BEGIN:DAYLIGHT
DTSTART:20220408T140000
RDATE:20221030T020000
TZOFFSETFROM:+0100
TZOFFSETTO:+0200
TZNAME:Europe/Berlin CEST
END:DAYLIGHT
BEGIN:DAYLIGHT
DTSTART:20230326T030000
RDATE:20231029T020000
TZOFFSETFROM:+0100
TZOFFSETTO:+0200
TZNAME:Europe/Berlin CEST
END:DAYLIGHT
BEGIN:DAYLIGHT
DTSTART:20240331T030000
RDATE:20241027T020000
TZOFFSETFROM:+0100
TZOFFSETTO:+0200
TZNAME:Europe/Berlin CEST
END:DAYLIGHT
BEGIN:DAYLIGHT
DTSTART:20250330T030000
RDATE:20251026T020000
TZOFFSETFROM:+0100
TZOFFSETTO:+0200
TZNAME:Europe/Berlin CEST
END:DAYLIGHT
BEGIN:DAYLIGHT
DTSTART:20260329T030000
RDATE:20261025T020000
TZOFFSETFROM:+0100
TZOFFSETTO:+0200
TZNAME:Europe/Berlin CEST
END:DAYLIGHT
BEGIN:DAYLIGHT
DTSTART:20270328T030000
RDATE:20271031T020000
TZOFFSETFROM:+0100
TZOFFSETTO:+0200
TZNAME:Europe/Berlin CEST
END:DAYLIGHT
BEGIN:DAYLIGHT
DTSTART:20280326T030000
RDATE:20281029T020000
TZOFFSETFROM:+0100
TZOFFSETTO:+0200
TZNAME:Europe/Berlin CEST
END:DAYLIGHT
BEGIN:DAYLIGHT
DTSTART:20290325T030000
RDATE:20291028T020000
TZOFFSETFROM:+0100
TZOFFSETTO:+0200
TZNAME:Europe/Berlin CEST
END:DAYLIGHT
END:VTIMEZONE
BEGIN:VEVENT
UID:1924fbd81190bbdef4875ca87903ce46
CATEGORIES:Museum
CREATED:20230224T125349
SUMMARY:Führung „Cromford-Ratingen. Die erste Fabrik auf dem Kontinent“ 
URL;VALUE=URI:https://www.cromford-ev.de/crom/veranstaltungen/eventdetail/69/-/fuehrung-c
 romford-ratingen-die-erste-fabrik-auf-dem-kontinent?tmpl=component
DESCRIPTION: \nAm Anfang stand eine weitreichende Entscheidung: Als der Wuppertaler Kau
 fmann Johann Gottfried Brügelmann 1783/84 vor den Toren der Stadt Ratingen 
 eine Baumwollspinnerei nach englischem Vorbild zu errichtete, konnte er nic
 ht ahnen, welch tiefgreifende Folgen dies haben würde. Die Anlage gilt als 
 erste Fabrik auf dem Kontinent und steht für den Beginn der Industrialisier
 ung in Deutschland. Doch wie gelangte Brügelmann an das Geheimnis der engli
 schen Spinnmaschinen? Und wie gestaltete sich der Arbeitsalltag in der Fabr
 ik?\nDie originalgetreu nachgebauten Maschinen des 18. Jahrhunderts zeigen 
 noch heute wie aus Rohbaumwolle ein fester Faden gesponnen wird: Angetriebe
 n von einem mächtigen Wasserrad werden die Vorspinnmaschinen in Bewegung ge
 setzt und zum Schluss das Herzstück des Museums, die Water Frame.\n \nEine 
 Anmeldung ist nicht erforderlich. \nTickets sind buchbar unter 02234-992155
 5 oder im Webshop: www.shop.industriemuseum.lvr.de (http://www.shop.industr
 iemuseum.lvr.de/)\n \n\nPreise:\nKosten Erwachsene 10,50 €\nKinder und Juge
 ndliche bis 18 Jahre: € 3,00 \n\n\nWeitere Informationen:\nkulturinfo rhein
 land, Tel.: 02234/9921-555 oder\nLVR-Industriemuseum, Textilfabrik Cromford
 , Tel.: 02102/86449-0,\nwww.industriemuseum.lvr.de (http://www.industriemus
 eum.lvr.de/)\n Dieser Event wurde importiert von: https://www.cromford-ev.d
 e/crom/veranstaltungen/eventdetail/69/-/fuehrung-cromford-ratingen-die-erst
 e-fabrik-auf-dem-kontinent?tmpl=component (https://www.cromford-ev.de/crom/
 veranstaltungen/eventdetail/69/-/fuehrung-cromford-ratingen-die-erste-fabri
 k-auf-dem-kontinent?tmpl=component)
X-ALT-DESC;FMTTYPE=text/html:<p>&nbsp;</p><p>Am Anfang stand eine weitreichende Entscheidung: Als der Wu
 ppertaler Kaufmann Johann Gottfried Brügelmann 1783/84 vor den Toren der St
 adt Ratingen eine Baumwollspinnerei nach englischem Vorbild zu errichtete, 
 konnte er nicht ahnen, welch tiefgreifende Folgen dies haben würde. Die Anl
 age gilt als erste Fabrik auf dem Kontinent und steht für den Beginn der In
 dustrialisierung in Deutschland. Doch wie gelangte Brügelmann an das Geheim
 nis der englischen Spinnmaschinen? Und wie gestaltete sich der Arbeitsallta
 g in der Fabrik?</p><p>Die originalgetreu nachgebauten Maschinen des 18. Ja
 hrhunderts zeigen noch heute wie aus Rohbaumwolle ein fester Faden gesponne
 n wird: Angetrieben von einem mächtigen Wasserrad werden die Vorspinnmaschi
 nen in Bewegung gesetzt und zum Schluss das Herzstück des Museums, die Wate
 r Frame.</p><p>&nbsp;</p><p><strong>Eine Anmeldung ist nicht erforderlich.<
 /strong> <br />Tickets sind buchbar unter 02234-9921555 oder im Webshop: <a
  href="http://www.shop.industriemuseum.lvr.de/">www.shop.industriemuseum.lv
 r.de</a></p><p>&nbsp;</p><p><br /><span style="text-decoration: underline;"
 ><strong>Preise:</strong></span><br />Kosten Erwachsene 10,50 €</p><p>Kinde
 r und Jugendliche bis 18 Jahre: € 3,00 <br /><br /></p><p>Weitere Informati
 onen:<br />kulturinfo rheinland, Tel.: 02234/9921-555 oder</p><p>LVR-Indust
 riemuseum, Textilfabrik Cromford, Tel.: 02102/86449-0,<br /><span id="lblKo
 sten"><a href="http://www.industriemuseum.lvr.de/">www.industriemuseum.lvr.
 de</a></span></p> <a href="https://www.cromford-ev.de/crom/veranstaltungen/
 eventdetail/69/-/fuehrung-cromford-ratingen-die-erste-fabrik-auf-dem-kontin
 ent?tmpl=component">Dieser Event wurde importiert von: https://www.cromford
 -ev.de/crom/veranstaltungen/eventdetail/69/-/fuehrung-cromford-ratingen-die
 -erste-fabrik-auf-dem-kontinent?tmpl=component</a>DTSTAMP:20260425T012711
DTSTART;TZID=Europe/Berlin:20230409T140000
DTEND;TZID=Europe/Berlin:20230409T153000
SEQUENCE:0
TRANSP:OPAQUE
END:VEVENT
END:VCALENDAR