BEGIN:VCALENDAR
VERSION:2.0
PRODID:-//jEvents 2.0 for Joomla//EN
CALSCALE:GREGORIAN
METHOD:PUBLISH
BEGIN:VTIMEZONE
TZID:Europe/Berlin
BEGIN:STANDARD
DTSTART:20220314T180000
RDATE:20220327T030000
TZOFFSETFROM:+0200
TZOFFSETTO:+0100
TZNAME:Europe/Berlin CET
END:STANDARD
BEGIN:STANDARD
DTSTART:20221030T020000
RDATE:20230326T030000
TZOFFSETFROM:+0200
TZOFFSETTO:+0100
TZNAME:Europe/Berlin CET
END:STANDARD
BEGIN:STANDARD
DTSTART:20231029T020000
RDATE:20240331T030000
TZOFFSETFROM:+0200
TZOFFSETTO:+0100
TZNAME:Europe/Berlin CET
END:STANDARD
BEGIN:STANDARD
DTSTART:20241027T020000
RDATE:20250330T030000
TZOFFSETFROM:+0200
TZOFFSETTO:+0100
TZNAME:Europe/Berlin CET
END:STANDARD
BEGIN:STANDARD
DTSTART:20251026T020000
RDATE:20260329T030000
TZOFFSETFROM:+0200
TZOFFSETTO:+0100
TZNAME:Europe/Berlin CET
END:STANDARD
BEGIN:STANDARD
DTSTART:20261025T020000
RDATE:20270328T030000
TZOFFSETFROM:+0200
TZOFFSETTO:+0100
TZNAME:Europe/Berlin CET
END:STANDARD
BEGIN:STANDARD
DTSTART:20271031T020000
RDATE:20280326T030000
TZOFFSETFROM:+0200
TZOFFSETTO:+0100
TZNAME:Europe/Berlin CET
END:STANDARD
BEGIN:STANDARD
DTSTART:20281029T020000
RDATE:20290325T030000
TZOFFSETFROM:+0200
TZOFFSETTO:+0100
TZNAME:Europe/Berlin CET
END:STANDARD
BEGIN:STANDARD
DTSTART:20291028T020000
RDATE:20300331T030000
TZOFFSETFROM:+0200
TZOFFSETTO:+0100
TZNAME:Europe/Berlin CET
END:STANDARD
BEGIN:DAYLIGHT
DTSTART:20220327T030000
RDATE:20221030T020000
TZOFFSETFROM:+0100
TZOFFSETTO:+0200
TZNAME:Europe/Berlin CEST
END:DAYLIGHT
BEGIN:DAYLIGHT
DTSTART:20230326T030000
RDATE:20231029T020000
TZOFFSETFROM:+0100
TZOFFSETTO:+0200
TZNAME:Europe/Berlin CEST
END:DAYLIGHT
BEGIN:DAYLIGHT
DTSTART:20240331T030000
RDATE:20241027T020000
TZOFFSETFROM:+0100
TZOFFSETTO:+0200
TZNAME:Europe/Berlin CEST
END:DAYLIGHT
BEGIN:DAYLIGHT
DTSTART:20250330T030000
RDATE:20251026T020000
TZOFFSETFROM:+0100
TZOFFSETTO:+0200
TZNAME:Europe/Berlin CEST
END:DAYLIGHT
BEGIN:DAYLIGHT
DTSTART:20260329T030000
RDATE:20261025T020000
TZOFFSETFROM:+0100
TZOFFSETTO:+0200
TZNAME:Europe/Berlin CEST
END:DAYLIGHT
BEGIN:DAYLIGHT
DTSTART:20270328T030000
RDATE:20271031T020000
TZOFFSETFROM:+0100
TZOFFSETTO:+0200
TZNAME:Europe/Berlin CEST
END:DAYLIGHT
BEGIN:DAYLIGHT
DTSTART:20280326T030000
RDATE:20281029T020000
TZOFFSETFROM:+0100
TZOFFSETTO:+0200
TZNAME:Europe/Berlin CEST
END:DAYLIGHT
BEGIN:DAYLIGHT
DTSTART:20290325T030000
RDATE:20291028T020000
TZOFFSETFROM:+0100
TZOFFSETTO:+0200
TZNAME:Europe/Berlin CEST
END:DAYLIGHT
END:VTIMEZONE
BEGIN:VEVENT
UID:46855eb4f7fc34e0945969daef744ce6
CATEGORIES:Förderverein
CREATED:20230213T083531
SUMMARY:Einladung zur Mitgliederversammlung 2023
URL;VALUE=URI:https://www.cromford-ev.de/crom/veranstaltungen/eventdetail/67/-/einladung-
 zur-mitgliederversammlung-2023?tmpl=component
DESCRIPTION:Sehr geehrte Damen und Herren, liebe Mitglieder,\n\nder Vorstand der Freund
 e und Förderer des Industriemuseums Cromford e.V. lädt Sie zur ordentlichen
  Mitgliederversammlung 2023 herzlich ein:\n\n Mittwoch, 15.03.2023, 18:00 U
 hr\nIndustriemuseum Cromford, Herrenhaus/Cafeteria\nTagesordnung\n\n - Begr
 üßung durch die Vorsitzende Hannelore Hanning\n - Feststellung der ordnungs
 gemäßen Einladung und der Beschlussfähigkeit\n - Verabschiedung des Protoko
 lls vom 25.08.2022\n - Bericht des Vorstands\n - Bericht des Schatzmeisters
 \n - Bericht der Kassenprüfer\n - Aussprache\n - Genehmigung des Kassenberi
 chts\n - Entlastung des Vorstands\n - Wahl der Kassenprüfer\n - Bericht der
  Museumsleiterin Claudia Gottfried\n - Bericht über die laufenden Projekte\
 n - Abfrage nach Interesse an einem Besuch in England Cromford\n - Verschie
 denesIm Anschluss an die Mitgliederversammlung – ca. 19:30 Uhr wird Herr Dr
 . Reiner Goetzen einen Vortrag zu dem Thema ‚Wohnungsnot in Deutschland – K
 onsequenzen für Ratingen‘ halten und einen Bogen zu dem neuen Vorhaben im D
 üsseldorfer Hafen – Errichtung des Cradle Houses - schlagen, das von intere
 ssierten Mitgliedern am 22.04.2023 /11:00 Uhr unter sachkundiger Führung be
 sichtigt werden kann. (Eine gesonderte Einladung hierzu wird zeitnah erfolg
 en.)\n\nWir freuen uns sehr darüber, dass wir Herrn Dr. Goetzen für einen V
 ortrag zu einem Thema, das uns alle sehr bewegt und das die aktuelle Diskus
 sion um Nachhaltigkeit und Kreislaufwirtschaft auch in der Baubranche aufgr
 eift, gewinnen konnten.\n\nZu dem Vortrag von Herrn Dr. Goetzen sind auch I
 hre Freunde und Bekannten herzlich eingeladen.\n\nNach der Veranstaltung bi
 tten wir Sie zu einem kleinen Imbiss. So können wir in lockerer Atmosphäre 
 unseren Gedanken- und Meinungsaustausch fortsetzen.\nWir freuen uns auf Ihr
  Kommen!\n Dieser Event wurde importiert von: https://www.cromford-ev.de/cr
 om/veranstaltungen/eventdetail/67/-/einladung-zur-mitgliederversammlung-202
 3?tmpl=component (https://www.cromford-ev.de/crom/veranstaltungen/eventdeta
 il/67/-/einladung-zur-mitgliederversammlung-2023?tmpl=component)
X-ALT-DESC;FMTTYPE=text/html:<p>Sehr geehrte Damen und Herren, liebe Mitglieder,</p><p><br />der Vorstan
 d der Freunde und Förderer des Industriemuseums Cromford e.V. lädt Sie zur 
 ordentlichen Mitgliederversammlung 2023 herzlich ein:</p><p style="text-ali
 gn: center;"><br /> <strong>Mittwoch, 15.03.2023, 18:00 Uhr</strong></p><p 
 style="text-align: center;">Industriemuseum Cromford, Herrenhaus/Cafeteria<
 /p><p><strong>Tagesordnung</strong></p><ol><li>Begrüßung durch die Vorsitze
 nde Hannelore Hanning</li><li>Feststellung der ordnungsgemäßen Einladung un
 d der Beschlussfähigkeit</li><li>Verabschiedung des Protokolls vom 25.08.20
 22</li><li>Bericht des Vorstands</li><li>Bericht des Schatzmeisters</li><li
 >Bericht der Kassenprüfer</li><li>Aussprache</li><li>Genehmigung des Kassen
 berichts</li><li>Entlastung des Vorstands</li><li>Wahl der Kassenprüfer</li
 ><li>Bericht der Museumsleiterin Claudia Gottfried</li><li>Bericht über die
  laufenden Projekte</li><li>Abfrage nach Interesse an einem Besuch in Engla
 nd Cromford</li><li>Verschiedenes</li></ol><p>Im Anschluss an die Mitgliede
 rversammlung – ca. 19:30 Uhr wird Herr Dr. Reiner Goetzen einen Vortrag zu 
 dem Thema ‚Wohnungsnot in Deutschland – Konsequenzen für Ratingen‘ halten u
 nd einen Bogen zu dem neuen Vorhaben im Düsseldorfer Hafen – Errichtung des
  Cradle Houses - schlagen, das von interessierten Mitgliedern am 22.04.2023
  /11:00 Uhr unter sachkundiger Führung besichtigt werden kann. (Eine gesond
 erte Einladung hierzu wird zeitnah erfolgen.)</p><p><br />Wir freuen uns se
 hr darüber, dass wir Herrn Dr. Goetzen für einen Vortrag zu einem Thema, da
 s uns alle sehr bewegt und das die aktuelle Diskussion um Nachhaltigkeit un
 d Kreislaufwirtschaft auch in der Baubranche aufgreift, gewinnen konnten.</
 p><p><br /><strong><em>Zu dem Vortrag von Herrn Dr. Goetzen sind auch Ihre 
 Freunde und Bekannten herzlich eingeladen.</em></strong></p><p><br />Nach d
 er Veranstaltung bitten wir Sie zu einem kleinen Imbiss. So können wir in l
 ockerer Atmosphäre unseren Gedanken- und Meinungsaustausch fortsetzen.<br /
 >Wir freuen uns auf Ihr Kommen!</p> <a href="https://www.cromford-ev.de/cro
 m/veranstaltungen/eventdetail/67/-/einladung-zur-mitgliederversammlung-2023
 ?tmpl=component">Dieser Event wurde importiert von: https://www.cromford-ev
 .de/crom/veranstaltungen/eventdetail/67/-/einladung-zur-mitgliederversammlu
 ng-2023?tmpl=component</a>DTSTAMP:20260424T220753
DTSTART;TZID=Europe/Berlin:20230315T180000
SEQUENCE:0
TRANSP:OPAQUE
END:VEVENT
END:VCALENDAR