BEGIN:VCALENDAR
VERSION:2.0
PRODID:-//jEvents 2.0 for Joomla//EN
CALSCALE:GREGORIAN
METHOD:PUBLISH
BEGIN:VTIMEZONE
TZID:Europe/Berlin
BEGIN:STANDARD
DTSTART:20221030T020000
RDATE:20230326T030000
TZOFFSETFROM:+0200
TZOFFSETTO:+0100
TZNAME:Europe/Berlin CET
END:STANDARD
BEGIN:STANDARD
DTSTART:20231029T020000
RDATE:20240331T030000
TZOFFSETFROM:+0200
TZOFFSETTO:+0100
TZNAME:Europe/Berlin CET
END:STANDARD
BEGIN:STANDARD
DTSTART:20241027T020000
RDATE:20250330T030000
TZOFFSETFROM:+0200
TZOFFSETTO:+0100
TZNAME:Europe/Berlin CET
END:STANDARD
BEGIN:STANDARD
DTSTART:20251026T020000
RDATE:20260329T030000
TZOFFSETFROM:+0200
TZOFFSETTO:+0100
TZNAME:Europe/Berlin CET
END:STANDARD
BEGIN:STANDARD
DTSTART:20261025T020000
RDATE:20270328T030000
TZOFFSETFROM:+0200
TZOFFSETTO:+0100
TZNAME:Europe/Berlin CET
END:STANDARD
BEGIN:STANDARD
DTSTART:20271031T020000
RDATE:20280326T030000
TZOFFSETFROM:+0200
TZOFFSETTO:+0100
TZNAME:Europe/Berlin CET
END:STANDARD
BEGIN:STANDARD
DTSTART:20281029T020000
RDATE:20290325T030000
TZOFFSETFROM:+0200
TZOFFSETTO:+0100
TZNAME:Europe/Berlin CET
END:STANDARD
BEGIN:STANDARD
DTSTART:20291028T020000
RDATE:20300331T030000
TZOFFSETFROM:+0200
TZOFFSETTO:+0100
TZNAME:Europe/Berlin CET
END:STANDARD
BEGIN:DAYLIGHT
DTSTART:20220405T133000
RDATE:20221030T020000
TZOFFSETFROM:+0100
TZOFFSETTO:+0200
TZNAME:Europe/Berlin CEST
END:DAYLIGHT
BEGIN:DAYLIGHT
DTSTART:20230326T030000
RDATE:20231029T020000
TZOFFSETFROM:+0100
TZOFFSETTO:+0200
TZNAME:Europe/Berlin CEST
END:DAYLIGHT
BEGIN:DAYLIGHT
DTSTART:20240331T030000
RDATE:20241027T020000
TZOFFSETFROM:+0100
TZOFFSETTO:+0200
TZNAME:Europe/Berlin CEST
END:DAYLIGHT
BEGIN:DAYLIGHT
DTSTART:20250330T030000
RDATE:20251026T020000
TZOFFSETFROM:+0100
TZOFFSETTO:+0200
TZNAME:Europe/Berlin CEST
END:DAYLIGHT
BEGIN:DAYLIGHT
DTSTART:20260329T030000
RDATE:20261025T020000
TZOFFSETFROM:+0100
TZOFFSETTO:+0200
TZNAME:Europe/Berlin CEST
END:DAYLIGHT
BEGIN:DAYLIGHT
DTSTART:20270328T030000
RDATE:20271031T020000
TZOFFSETFROM:+0100
TZOFFSETTO:+0200
TZNAME:Europe/Berlin CEST
END:DAYLIGHT
BEGIN:DAYLIGHT
DTSTART:20280326T030000
RDATE:20281029T020000
TZOFFSETFROM:+0100
TZOFFSETTO:+0200
TZNAME:Europe/Berlin CEST
END:DAYLIGHT
BEGIN:DAYLIGHT
DTSTART:20290325T030000
RDATE:20291028T020000
TZOFFSETFROM:+0100
TZOFFSETTO:+0200
TZNAME:Europe/Berlin CEST
END:DAYLIGHT
END:VTIMEZONE
BEGIN:VEVENT
UID:f295e036281d75ebfd55afb6212b97e2
CATEGORIES:Museum
CREATED:20221208T170144
SUMMARY:Ferienaktion:  Upcycling in Cromford – aus alt mach neu
URL;VALUE=URI:https://www.cromford-ev.de/crom/veranstaltungen/eventdetail/62/-/ferienakti
 on-upcycling-in-cromford-aus-alt-mach-neu?tmpl=component
DESCRIPTION:Ein Loch im T-Shirt, ein Fleck auf der Jeans, der Pulli, der nicht mehr in 
 ist – was mache ich mit Kleidung, die ich nicht mehr tragen will? Ab in die
  Tonne? Oder können wir nachhaltiger mit den Stücken in unseren Kleiderschr
 änken umgehen? Der Workshop führt ein in unterschiedliche Techniken des Upc
 yclings und zeigt, wie aus einem alten Kleidungsstück ein echter Hingucker 
 gestaltet werden kann. Mithilfe von Scheren, Flicken, Bändern, Stickgarn, F
 arbe und selbst gemachten Stempeln soll der mitgebrachten Kleidung neues Le
 ben eingehaucht werden.\nEine Anmeldung ist erforderlich. \n Tickets sind b
 uchbar unter 02234-9921555 oder im Webshop: www.shop.industriemuseum.lvr.de
  (http://www.shop.industriemuseum.lvr.de/)\n\n Preise:\nKosten: 8 € p.P.\nA
 lter: 10 bis 14 Jahre\nmax. 12 Personen\nHinweis: Bitte ein bis zwei Kleidu
 ngsstücke mitbringen, die aufgewertet werden sollen\nWeitere Informationen:
 \n kulturinfo rheinland, Tel.: 02234/9921-555 oder\nLVR-Industriemuseum, Te
 xtilfabrik Cromford, Tel.: 02102/86449-0,\n www.industriemuseum.lvr.de (htt
 p://www.industriemuseum.lvr.de/)\n Dieser Event wurde importiert von: https
 ://www.cromford-ev.de/crom/veranstaltungen/eventdetail/62/-/ferienaktion-up
 cycling-in-cromford-aus-alt-mach-neu?tmpl=component (https://www.cromford-e
 v.de/crom/veranstaltungen/eventdetail/62/-/ferienaktion-upcycling-in-cromfo
 rd-aus-alt-mach-neu?tmpl=component)
X-ALT-DESC;FMTTYPE=text/html:<p>Ein Loch im T-Shirt, ein Fleck auf der Jeans, der Pulli, der nicht mehr 
 in ist – was mache ich mit Kleidung, die ich nicht mehr tragen will? Ab in 
 die Tonne? Oder können wir nachhaltiger mit den Stücken in unseren Kleiders
 chränken umgehen? Der Workshop führt ein in unterschiedliche Techniken des 
 Upcyclings und zeigt, wie aus einem alten Kleidungsstück ein echter Hinguck
 er gestaltet werden kann. Mithilfe von Scheren, Flicken, Bändern, Stickgarn
 , Farbe und selbst gemachten Stempeln soll der mitgebrachten Kleidung neues
  Leben eingehaucht werden.</p><p><strong>Eine Anmeldung ist erforderlich.</
 strong> <br /> Tickets sind buchbar unter 02234-9921555 oder im Webshop: <a
  href="http://www.shop.industriemuseum.lvr.de/">www.shop.industriemuseum.lv
 r.de</a></p><p><br /> <strong>Preise:</strong></p><p>Kosten: 8 € p.P.<br />
 Alter: 10 bis 14 Jahre<br />max. 12 Personen</p><p><em><strong>Hinweis: Bit
 te ein bis zwei Kleidungsstücke mitbringen, die aufgewertet werden sollen</
 strong></em></p><p>Weitere Informationen:<br /> kulturinfo rheinland, Tel.:
  02234/9921-555 oder</p><p>LVR-Industriemuseum, Textilfabrik Cromford, Tel.
 : 02102/86449-0,<br /> <a href="http://www.industriemuseum.lvr.de/"><span i
 d="lblKosten">www.industriemuseum.lvr.de</span></a></p> <a href="https://ww
 w.cromford-ev.de/crom/veranstaltungen/eventdetail/62/-/ferienaktion-upcycli
 ng-in-cromford-aus-alt-mach-neu?tmpl=component">Dieser Event wurde importie
 rt von: https://www.cromford-ev.de/crom/veranstaltungen/eventdetail/62/-/fe
 rienaktion-upcycling-in-cromford-aus-alt-mach-neu?tmpl=component</a>DTSTAMP:20260425T012713
DTSTART;TZID=Europe/Berlin:20230406T133000
DTEND;TZID=Europe/Berlin:20230406T160000
SEQUENCE:0
TRANSP:OPAQUE
END:VEVENT
END:VCALENDAR