BEGIN:VCALENDAR
VERSION:2.0
PRODID:-//jEvents 2.0 for Joomla//EN
CALSCALE:GREGORIAN
METHOD:PUBLISH
BEGIN:VTIMEZONE
TZID:Europe/Berlin
BEGIN:STANDARD
DTSTART:20221030T020000
RDATE:20230326T030000
TZOFFSETFROM:+0200
TZOFFSETTO:+0100
TZNAME:Europe/Berlin CET
END:STANDARD
BEGIN:STANDARD
DTSTART:20231029T020000
RDATE:20240331T030000
TZOFFSETFROM:+0200
TZOFFSETTO:+0100
TZNAME:Europe/Berlin CET
END:STANDARD
BEGIN:STANDARD
DTSTART:20241027T020000
RDATE:20250330T030000
TZOFFSETFROM:+0200
TZOFFSETTO:+0100
TZNAME:Europe/Berlin CET
END:STANDARD
BEGIN:STANDARD
DTSTART:20251026T020000
RDATE:20260329T030000
TZOFFSETFROM:+0200
TZOFFSETTO:+0100
TZNAME:Europe/Berlin CET
END:STANDARD
BEGIN:STANDARD
DTSTART:20261025T020000
RDATE:20270328T030000
TZOFFSETFROM:+0200
TZOFFSETTO:+0100
TZNAME:Europe/Berlin CET
END:STANDARD
BEGIN:STANDARD
DTSTART:20271031T020000
RDATE:20280326T030000
TZOFFSETFROM:+0200
TZOFFSETTO:+0100
TZNAME:Europe/Berlin CET
END:STANDARD
BEGIN:STANDARD
DTSTART:20281029T020000
RDATE:20290325T030000
TZOFFSETFROM:+0200
TZOFFSETTO:+0100
TZNAME:Europe/Berlin CET
END:STANDARD
BEGIN:STANDARD
DTSTART:20291028T020000
RDATE:20300331T030000
TZOFFSETFROM:+0200
TZOFFSETTO:+0100
TZNAME:Europe/Berlin CET
END:STANDARD
BEGIN:DAYLIGHT
DTSTART:20220404T133000
RDATE:20221030T020000
TZOFFSETFROM:+0100
TZOFFSETTO:+0200
TZNAME:Europe/Berlin CEST
END:DAYLIGHT
BEGIN:DAYLIGHT
DTSTART:20230326T030000
RDATE:20231029T020000
TZOFFSETFROM:+0100
TZOFFSETTO:+0200
TZNAME:Europe/Berlin CEST
END:DAYLIGHT
BEGIN:DAYLIGHT
DTSTART:20240331T030000
RDATE:20241027T020000
TZOFFSETFROM:+0100
TZOFFSETTO:+0200
TZNAME:Europe/Berlin CEST
END:DAYLIGHT
BEGIN:DAYLIGHT
DTSTART:20250330T030000
RDATE:20251026T020000
TZOFFSETFROM:+0100
TZOFFSETTO:+0200
TZNAME:Europe/Berlin CEST
END:DAYLIGHT
BEGIN:DAYLIGHT
DTSTART:20260329T030000
RDATE:20261025T020000
TZOFFSETFROM:+0100
TZOFFSETTO:+0200
TZNAME:Europe/Berlin CEST
END:DAYLIGHT
BEGIN:DAYLIGHT
DTSTART:20270328T030000
RDATE:20271031T020000
TZOFFSETFROM:+0100
TZOFFSETTO:+0200
TZNAME:Europe/Berlin CEST
END:DAYLIGHT
BEGIN:DAYLIGHT
DTSTART:20280326T030000
RDATE:20281029T020000
TZOFFSETFROM:+0100
TZOFFSETTO:+0200
TZNAME:Europe/Berlin CEST
END:DAYLIGHT
BEGIN:DAYLIGHT
DTSTART:20290325T030000
RDATE:20291028T020000
TZOFFSETFROM:+0100
TZOFFSETTO:+0200
TZNAME:Europe/Berlin CEST
END:DAYLIGHT
END:VTIMEZONE
BEGIN:VEVENT
UID:537cebe4462eecf7bac00d64c8359650
CATEGORIES:Museum
CREATED:20221208T165047
SUMMARY:Ferienaktion: Cromforder Scribble Book
URL;VALUE=URI:https://www.cromford-ev.de/crom/veranstaltungen/eventdetail/60/-/ferienakti
 on-cromforder-scribble-book?tmpl=component
DESCRIPTION:<p>Mit Skizzenheft und Zeichenstift durch Cromford, die erste Fabrik. Worau
 f achte ich beim Zeichnen einer Spinnmaschine? Welche Details finden sich i
 m Gartensaal des Herrenhauses? Und wie lassen sich die Umgebung, der Park u
 nd das Leben rund um das Flüsschen Anger zeichnerisch festhalten? Unter fac
 hkundiger Anleitung werden Fabrik, Herrenhaus und das umliegende Gelände un
 ter die Lupe genommen und erste Motive in kleine Skizzenbücher gezeichnet. 
 Am Ende des Workshops haben alle nicht nur die Spinnmaschinen nach original
 en Vorlagen des 18. Jahrhunderts in Aktion gesehen, sondern auch ihr Cromfo
 rder Scibble Book mit Skizzen zum Leben erweckt.</p><p>&nbsp;</p><p><strong
 >Eine Anmeldung ist erforderlich.</strong> <br /> Tickets sind buchbar unte
 r 02234-9921555 oder im Webshop: <a href="http://www.shop.industriemuseum.l
 vr.de/">www.shop.industriemuseum.lvr.de</a></p><p><br /> <strong>Preise:</s
 trong></p><p>Teilnahmegebühr 8,00&nbsp;€ (inkl. Material)<br />Alter: 10 bi
 s 15&nbsp; Jahre<br />max. 12 Personen</p><p>Weitere Informationen:<br /> k
 ulturinfo rheinland, Tel.: 02234/9921-555 oder</p><p>LVR-Industriemuseum, T
 extilfabrik Cromford, Tel.: 02102/86449-0,<br /> <a href="http://www.indust
 riemuseum.lvr.de/"><span id="lblKosten">www.industriemuseum.lvr.de</span></
 a></p> <a href="https://www.cromford-ev.de/crom/veranstaltungen/eventdetail
 /60/-/ferienaktion-cromforder-scribble-book?tmpl=component">Dieser Event wu
 rde importiert von: https://www.cromford-ev.de/crom/veranstaltungen/eventde
 tail/60/-/ferienaktion-cromforder-scribble-book?tmpl=component</a>DTSTAMP:20260425T013338
DTSTART;TZID=Europe/Berlin:20230405T133000
DTEND;TZID=Europe/Berlin:20230405T160000
SEQUENCE:0
TRANSP:OPAQUE
END:VEVENT
END:VCALENDAR