BEGIN:VCALENDAR
VERSION:2.0
PRODID:-//jEvents 2.0 for Joomla//EN
CALSCALE:GREGORIAN
METHOD:PUBLISH
BEGIN:VTIMEZONE
TZID:Europe/Berlin
BEGIN:STANDARD
DTSTART:20221030T020000
RDATE:20230326T030000
TZOFFSETFROM:+0200
TZOFFSETTO:+0100
TZNAME:Europe/Berlin CET
END:STANDARD
BEGIN:STANDARD
DTSTART:20231029T020000
RDATE:20240331T030000
TZOFFSETFROM:+0200
TZOFFSETTO:+0100
TZNAME:Europe/Berlin CET
END:STANDARD
BEGIN:STANDARD
DTSTART:20241027T020000
RDATE:20250330T030000
TZOFFSETFROM:+0200
TZOFFSETTO:+0100
TZNAME:Europe/Berlin CET
END:STANDARD
BEGIN:STANDARD
DTSTART:20251026T020000
RDATE:20260329T030000
TZOFFSETFROM:+0200
TZOFFSETTO:+0100
TZNAME:Europe/Berlin CET
END:STANDARD
BEGIN:STANDARD
DTSTART:20261025T020000
RDATE:20270328T030000
TZOFFSETFROM:+0200
TZOFFSETTO:+0100
TZNAME:Europe/Berlin CET
END:STANDARD
BEGIN:STANDARD
DTSTART:20271031T020000
RDATE:20280326T030000
TZOFFSETFROM:+0200
TZOFFSETTO:+0100
TZNAME:Europe/Berlin CET
END:STANDARD
BEGIN:STANDARD
DTSTART:20281029T020000
RDATE:20290325T030000
TZOFFSETFROM:+0200
TZOFFSETTO:+0100
TZNAME:Europe/Berlin CET
END:STANDARD
BEGIN:STANDARD
DTSTART:20291028T020000
RDATE:20300331T030000
TZOFFSETFROM:+0200
TZOFFSETTO:+0100
TZNAME:Europe/Berlin CET
END:STANDARD
BEGIN:DAYLIGHT
DTSTART:20220411T133000
RDATE:20221030T020000
TZOFFSETFROM:+0100
TZOFFSETTO:+0200
TZNAME:Europe/Berlin CEST
END:DAYLIGHT
BEGIN:DAYLIGHT
DTSTART:20230326T030000
RDATE:20231029T020000
TZOFFSETFROM:+0100
TZOFFSETTO:+0200
TZNAME:Europe/Berlin CEST
END:DAYLIGHT
BEGIN:DAYLIGHT
DTSTART:20240331T030000
RDATE:20241027T020000
TZOFFSETFROM:+0100
TZOFFSETTO:+0200
TZNAME:Europe/Berlin CEST
END:DAYLIGHT
BEGIN:DAYLIGHT
DTSTART:20250330T030000
RDATE:20251026T020000
TZOFFSETFROM:+0100
TZOFFSETTO:+0200
TZNAME:Europe/Berlin CEST
END:DAYLIGHT
BEGIN:DAYLIGHT
DTSTART:20260329T030000
RDATE:20261025T020000
TZOFFSETFROM:+0100
TZOFFSETTO:+0200
TZNAME:Europe/Berlin CEST
END:DAYLIGHT
BEGIN:DAYLIGHT
DTSTART:20270328T030000
RDATE:20271031T020000
TZOFFSETFROM:+0100
TZOFFSETTO:+0200
TZNAME:Europe/Berlin CEST
END:DAYLIGHT
BEGIN:DAYLIGHT
DTSTART:20280326T030000
RDATE:20281029T020000
TZOFFSETFROM:+0100
TZOFFSETTO:+0200
TZNAME:Europe/Berlin CEST
END:DAYLIGHT
BEGIN:DAYLIGHT
DTSTART:20290325T030000
RDATE:20291028T020000
TZOFFSETFROM:+0100
TZOFFSETTO:+0200
TZNAME:Europe/Berlin CEST
END:DAYLIGHT
END:VTIMEZONE
BEGIN:VEVENT
UID:d583cbdd7260b3f5952151d87fa8d813
CATEGORIES:Museum
CREATED:20221208T160558
SUMMARY:Ferienaktion:  Light Painting
URL;VALUE=URI:https://www.cromford-ev.de/crom/veranstaltungen/eventdetail/59/-/ferienakti
 on-light-painting?tmpl=component
DESCRIPTION:<p>Malen mit Licht. Klingt wie Zauberei. Ist aber eine Fototechnik, die Kin
 der im LVR-Industriemuseum Textilfabrik Cromford ausprobieren können. Nach 
 einer Einführung in die Technik mit iPad und Taschenlampe werden eigene Lic
 htpinsel aus Strohhalmen, Plexiglas, Transparentpapier oder glitzernden Sch
 nüren gebastelt. Und dann geht es richtig los: Im abgedunkelten Raum wird m
 it den Lichtpinseln in der Luft gemalt und auf den iPads entstehen außergew
 öhnliche, bunt leuchtende Kunstwerke.</p><p><strong>Eine Anmeldung ist erfo
 rderlich.</strong> <br /> Tickets sind buchbar unter 02234-9921555 oder im 
 Webshop: <a href="http://www.shop.industriemuseum.lvr.de/">www.shop.industr
 iemuseum.lvr.de</a></p><p><br /> <strong>Preise:</strong></p><p>Kosten: 8 €
  p.P.<br />Alter: 10 bis 15 Jahre<br />max. 12 Personen</p><p><em><strong>H
 inweise: Bitte zum Basteln geeignete Kleidung tragen</strong></em></p><p>We
 itere Informationen:<br /> kulturinfo rheinland, Tel.: 02234/9921-555 oder<
 /p><p>LVR-Industriemuseum, Textilfabrik Cromford, Tel.: 02102/86449-0,<br /
 > <a href="http://www.industriemuseum.lvr.de/"><span id="lblKosten">www.ind
 ustriemuseum.lvr.de</span></a></p> <a href="https://www.cromford-ev.de/crom
 /veranstaltungen/eventdetail/59/-/ferienaktion-light-painting?tmpl=componen
 t">Dieser Event wurde importiert von: https://www.cromford-ev.de/crom/veran
 staltungen/eventdetail/59/-/ferienaktion-light-painting?tmpl=component</a>DTSTAMP:20260425T013305
DTSTART;TZID=Europe/Berlin:20230412T133000
DTEND;TZID=Europe/Berlin:20230412T160000
SEQUENCE:0
TRANSP:OPAQUE
END:VEVENT
END:VCALENDAR