BEGIN:VCALENDAR
VERSION:2.0
PRODID:-//jEvents 2.0 for Joomla//EN
CALSCALE:GREGORIAN
METHOD:PUBLISH
BEGIN:VTIMEZONE
TZID:Europe/Berlin
BEGIN:STANDARD
DTSTART:20220104T140000
RDATE:20220327T030000
TZOFFSETFROM:+0200
TZOFFSETTO:+0100
TZNAME:Europe/Berlin CET
END:STANDARD
BEGIN:STANDARD
DTSTART:20221030T020000
RDATE:20230326T030000
TZOFFSETFROM:+0200
TZOFFSETTO:+0100
TZNAME:Europe/Berlin CET
END:STANDARD
BEGIN:STANDARD
DTSTART:20231029T020000
RDATE:20240331T030000
TZOFFSETFROM:+0200
TZOFFSETTO:+0100
TZNAME:Europe/Berlin CET
END:STANDARD
BEGIN:STANDARD
DTSTART:20241027T020000
RDATE:20250330T030000
TZOFFSETFROM:+0200
TZOFFSETTO:+0100
TZNAME:Europe/Berlin CET
END:STANDARD
BEGIN:STANDARD
DTSTART:20251026T020000
RDATE:20260329T030000
TZOFFSETFROM:+0200
TZOFFSETTO:+0100
TZNAME:Europe/Berlin CET
END:STANDARD
BEGIN:STANDARD
DTSTART:20261025T020000
RDATE:20270328T030000
TZOFFSETFROM:+0200
TZOFFSETTO:+0100
TZNAME:Europe/Berlin CET
END:STANDARD
BEGIN:STANDARD
DTSTART:20271031T020000
RDATE:20280326T030000
TZOFFSETFROM:+0200
TZOFFSETTO:+0100
TZNAME:Europe/Berlin CET
END:STANDARD
BEGIN:STANDARD
DTSTART:20281029T020000
RDATE:20290325T030000
TZOFFSETFROM:+0200
TZOFFSETTO:+0100
TZNAME:Europe/Berlin CET
END:STANDARD
BEGIN:STANDARD
DTSTART:20291028T020000
RDATE:20300331T030000
TZOFFSETFROM:+0200
TZOFFSETTO:+0100
TZNAME:Europe/Berlin CET
END:STANDARD
BEGIN:DAYLIGHT
DTSTART:20220327T030000
RDATE:20221030T020000
TZOFFSETFROM:+0100
TZOFFSETTO:+0200
TZNAME:Europe/Berlin CEST
END:DAYLIGHT
BEGIN:DAYLIGHT
DTSTART:20230326T030000
RDATE:20231029T020000
TZOFFSETFROM:+0100
TZOFFSETTO:+0200
TZNAME:Europe/Berlin CEST
END:DAYLIGHT
BEGIN:DAYLIGHT
DTSTART:20240331T030000
RDATE:20241027T020000
TZOFFSETFROM:+0100
TZOFFSETTO:+0200
TZNAME:Europe/Berlin CEST
END:DAYLIGHT
BEGIN:DAYLIGHT
DTSTART:20250330T030000
RDATE:20251026T020000
TZOFFSETFROM:+0100
TZOFFSETTO:+0200
TZNAME:Europe/Berlin CEST
END:DAYLIGHT
BEGIN:DAYLIGHT
DTSTART:20260329T030000
RDATE:20261025T020000
TZOFFSETFROM:+0100
TZOFFSETTO:+0200
TZNAME:Europe/Berlin CEST
END:DAYLIGHT
BEGIN:DAYLIGHT
DTSTART:20270328T030000
RDATE:20271031T020000
TZOFFSETFROM:+0100
TZOFFSETTO:+0200
TZNAME:Europe/Berlin CEST
END:DAYLIGHT
BEGIN:DAYLIGHT
DTSTART:20280326T030000
RDATE:20281029T020000
TZOFFSETFROM:+0100
TZOFFSETTO:+0200
TZNAME:Europe/Berlin CEST
END:DAYLIGHT
BEGIN:DAYLIGHT
DTSTART:20290325T030000
RDATE:20291028T020000
TZOFFSETFROM:+0100
TZOFFSETTO:+0200
TZNAME:Europe/Berlin CEST
END:DAYLIGHT
END:VTIMEZONE
BEGIN:VEVENT
UID:43417c2d467a1bce81e17dc62179c6d0
CATEGORIES:Museum
CREATED:20221208T144939
SUMMARY:Ferienaktion:  Cromforder Tierwelt
URL;VALUE=URI:https://www.cromford-ev.de/crom/veranstaltungen/eventdetail/56/-/ferienakti
 on-cromforder-tierwelt?tmpl=component
DESCRIPTION:Tierisches Treiben in Cromford: Mäuse in der Speisekammer, Pferde in der Re
 mise, Hamster auf den Feldern, Fische im Flüsschen Anger und der Hund von F
 abrikgründer Johann Gottfried Brügelmann als sein treuer Gefährte im Herren
 haus. Welche Tiere lebten um 1800 rund um die Cromforder Textilfabrik, in d
 en Wäldern und Ländereien? Und welche Spuren lassen sich heute noch entdeck
 en?\nNach einer tierischen Erkundung der Textilfabrik Cromford und des weit
 läufigen Geländes werden die Kinder selbst kreativ. Inspiriert von der Tier
 welt rund um die Fabrik gestalten sie unter fachkundiger Anleitung ihr eige
 nes Cromforder Tier zum Mitnehmen. Dazu stehen ihnen Papiere, Bänder, Schnü
 re und weitere Materialien zur Verfügung.\nEine Anmeldung ist erforderlich.
  \n Tickets sind buchbar unter 02234-9921555 oder im Webshop: www.shop.indu
 striemuseum.lvr.de (http://www.shop.industriemuseum.lvr.de/)\n\n Preise:\nK
 osten: 8 € p.P.\nAlter: 6 bis 10 Jahre\nmax. 12 Personen\nHinweise: Bitte f
 estes Schuhwerk und zum Basteln geeignete Kleidung tragen\nWeitere Informat
 ionen:\n kulturinfo rheinland, Tel.: 02234/9921-555 oder\nLVR-Industriemuse
 um, Textilfabrik Cromford, Tel.: 02102/86449-0,\n www.industriemuseum.lvr.d
 e (http://www.industriemuseum.lvr.de/)\n Dieser Event wurde importiert von:
  https://www.cromford-ev.de/crom/veranstaltungen/eventdetail/56/-/ferienakt
 ion-cromforder-tierwelt?tmpl=component (https://www.cromford-ev.de/crom/ver
 anstaltungen/eventdetail/56/-/ferienaktion-cromforder-tierwelt?tmpl=compone
 nt)
X-ALT-DESC;FMTTYPE=text/html:<p>Tierisches Treiben in Cromford: Mäuse in der Speisekammer, Pferde in der
  Remise, Hamster auf den Feldern, Fische im Flüsschen Anger und der Hund vo
 n Fabrikgründer Johann Gottfried Brügelmann als sein treuer Gefährte im Her
 renhaus. Welche Tiere lebten um 1800 rund um die Cromforder Textilfabrik, i
 n den Wäldern und Ländereien? Und welche Spuren lassen sich heute noch entd
 ecken?</p><p>Nach einer tierischen Erkundung der Textilfabrik Cromford und 
 des weitläufigen Geländes werden die Kinder selbst kreativ. Inspiriert von 
 der Tierwelt rund um die Fabrik gestalten sie unter fachkundiger Anleitung 
 ihr eigenes Cromforder Tier zum Mitnehmen. Dazu stehen ihnen Papiere, Bände
 r, Schnüre und weitere Materialien zur Verfügung.</p><p><strong>Eine Anmeld
 ung ist erforderlich.</strong> <br /> Tickets sind buchbar unter 02234-9921
 555 oder im Webshop: <a href="http://www.shop.industriemuseum.lvr.de/">www.
 shop.industriemuseum.lvr.de</a></p><p><br /> <strong>Preise:</strong></p><p
 >Kosten: 8 € p.P.<br />Alter: 6 bis 10 Jahre<br />max. 12 Personen<br /><em
 ><strong>Hinweise: Bitte festes Schuhwerk und zum Basteln geeignete Kleidun
 g tragen</strong></em></p><p>Weitere Informationen:<br /> kulturinfo rheinl
 and, Tel.: 02234/9921-555 oder</p><p>LVR-Industriemuseum, Textilfabrik Crom
 ford, Tel.: 02102/86449-0,<br /> <a href="http://www.industriemuseum.lvr.de
 /"><span id="lblKosten">www.industriemuseum.lvr.de</span></a></p> <a href="
 https://www.cromford-ev.de/crom/veranstaltungen/eventdetail/56/-/ferienakti
 on-cromforder-tierwelt?tmpl=component">Dieser Event wurde importiert von: h
 ttps://www.cromford-ev.de/crom/veranstaltungen/eventdetail/56/-/ferienaktio
 n-cromforder-tierwelt?tmpl=component</a>DTSTAMP:20260424T153544
DTSTART;TZID=Europe/Berlin:20230105T140000
DTEND;TZID=Europe/Berlin:20230105T160000
SEQUENCE:0
TRANSP:OPAQUE
END:VEVENT
END:VCALENDAR