BEGIN:VCALENDAR
VERSION:2.0
PRODID:-//jEvents 2.0 for Joomla//EN
CALSCALE:GREGORIAN
METHOD:PUBLISH
BEGIN:VTIMEZONE
TZID:Europe/Berlin
BEGIN:STANDARD
DTSTART:20220307T190000
RDATE:20220327T030000
TZOFFSETFROM:+0200
TZOFFSETTO:+0100
TZNAME:Europe/Berlin CET
END:STANDARD
BEGIN:STANDARD
DTSTART:20221030T020000
RDATE:20230326T030000
TZOFFSETFROM:+0200
TZOFFSETTO:+0100
TZNAME:Europe/Berlin CET
END:STANDARD
BEGIN:STANDARD
DTSTART:20231029T020000
RDATE:20240331T030000
TZOFFSETFROM:+0200
TZOFFSETTO:+0100
TZNAME:Europe/Berlin CET
END:STANDARD
BEGIN:STANDARD
DTSTART:20241027T020000
RDATE:20250330T030000
TZOFFSETFROM:+0200
TZOFFSETTO:+0100
TZNAME:Europe/Berlin CET
END:STANDARD
BEGIN:STANDARD
DTSTART:20251026T020000
RDATE:20260329T030000
TZOFFSETFROM:+0200
TZOFFSETTO:+0100
TZNAME:Europe/Berlin CET
END:STANDARD
BEGIN:STANDARD
DTSTART:20261025T020000
RDATE:20270328T030000
TZOFFSETFROM:+0200
TZOFFSETTO:+0100
TZNAME:Europe/Berlin CET
END:STANDARD
BEGIN:STANDARD
DTSTART:20271031T020000
RDATE:20280326T030000
TZOFFSETFROM:+0200
TZOFFSETTO:+0100
TZNAME:Europe/Berlin CET
END:STANDARD
BEGIN:STANDARD
DTSTART:20281029T020000
RDATE:20290325T030000
TZOFFSETFROM:+0200
TZOFFSETTO:+0100
TZNAME:Europe/Berlin CET
END:STANDARD
BEGIN:STANDARD
DTSTART:20291028T020000
RDATE:20300331T030000
TZOFFSETFROM:+0200
TZOFFSETTO:+0100
TZNAME:Europe/Berlin CET
END:STANDARD
BEGIN:DAYLIGHT
DTSTART:20220327T030000
RDATE:20221030T020000
TZOFFSETFROM:+0100
TZOFFSETTO:+0200
TZNAME:Europe/Berlin CEST
END:DAYLIGHT
BEGIN:DAYLIGHT
DTSTART:20230326T030000
RDATE:20231029T020000
TZOFFSETFROM:+0100
TZOFFSETTO:+0200
TZNAME:Europe/Berlin CEST
END:DAYLIGHT
BEGIN:DAYLIGHT
DTSTART:20240331T030000
RDATE:20241027T020000
TZOFFSETFROM:+0100
TZOFFSETTO:+0200
TZNAME:Europe/Berlin CEST
END:DAYLIGHT
BEGIN:DAYLIGHT
DTSTART:20250330T030000
RDATE:20251026T020000
TZOFFSETFROM:+0100
TZOFFSETTO:+0200
TZNAME:Europe/Berlin CEST
END:DAYLIGHT
BEGIN:DAYLIGHT
DTSTART:20260329T030000
RDATE:20261025T020000
TZOFFSETFROM:+0100
TZOFFSETTO:+0200
TZNAME:Europe/Berlin CEST
END:DAYLIGHT
BEGIN:DAYLIGHT
DTSTART:20270328T030000
RDATE:20271031T020000
TZOFFSETFROM:+0100
TZOFFSETTO:+0200
TZNAME:Europe/Berlin CEST
END:DAYLIGHT
BEGIN:DAYLIGHT
DTSTART:20280326T030000
RDATE:20281029T020000
TZOFFSETFROM:+0100
TZOFFSETTO:+0200
TZNAME:Europe/Berlin CEST
END:DAYLIGHT
BEGIN:DAYLIGHT
DTSTART:20290325T030000
RDATE:20291028T020000
TZOFFSETFROM:+0100
TZOFFSETTO:+0200
TZNAME:Europe/Berlin CEST
END:DAYLIGHT
END:VTIMEZONE
BEGIN:VEVENT
UID:31a910dca614de874c9f21bfda443f64
CATEGORIES:Museum
CREATED:20221208T093527
SUMMARY:Abendführung:  Frauenleben in 200 Jahren Cromford
URL;VALUE=URI:https://www.cromford-ev.de/crom/veranstaltungen/eventdetail/48/-/abendfuehr
 ung-frauenleben-in-200-jahren-cromford?tmpl=component
DESCRIPTION:Die Textilindustrie – ein typischer Frauenarbeitsplatz. Die Führung am Inte
 rnationalen Frauentag spürt den Cromforder Frauen in 200 Jahren Fabrikgesch
 ichte nach: Von der Unternehmerin, die im Herrenhaus die Fänden in der Hand
  hielt, über die schuftenden Arbeiterinnen in der Fabrik – von 1783 bis zur
  Schließung der Fabrik im Jahr 1977.\n \nEine Anmeldung ist nicht erforderl
 ich. \n Tickets sind buchbar unter 02234-9921555 oder im Webshop: www.shop.
 industriemuseum.lvr.de (http://www.shop.industriemuseum.lvr.de/)\n\n Preise
 :\n Kosten Erwachsene 15,50 € inkl. Glas Sekt\nKinder und Jugendliche bis 1
 8 Jahre: € 3,00 \n max. 20 Personen\nWeitere Informationen:\n kulturinfo rh
 einland, Tel.: 02234/9921-555 oder\nLVR-Industriemuseum, Textilfabrik Cromf
 ord, Tel.: 02102/86449-0,\n www.industriemuseum.lvr.de (http://www.industri
 emuseum.lvr.de/)\n Dieser Event wurde importiert von: https://www.cromford-
 ev.de/crom/veranstaltungen/eventdetail/48/-/abendfuehrung-frauenleben-in-20
 0-jahren-cromford?tmpl=component (https://www.cromford-ev.de/crom/veranstal
 tungen/eventdetail/48/-/abendfuehrung-frauenleben-in-200-jahren-cromford?tm
 pl=component)
X-ALT-DESC;FMTTYPE=text/html:<p>Die Textilindustrie – ein typischer Frauenarbeitsplatz. Die Führung am I
 nternationalen Frauentag spürt den Cromforder Frauen in 200 Jahren Fabrikge
 schichte nach: Von der Unternehmerin, die im Herrenhaus die Fänden in der H
 and hielt, über die schuftenden Arbeiterinnen in der Fabrik – von 1783 bis 
 zur Schließung der Fabrik im Jahr 1977.</p><p>&nbsp;</p><p><strong>Eine Anm
 eldung ist nicht erforderlich.</strong> <br /> Tickets sind buchbar unter 0
 2234-9921555 oder im Webshop: <a href="http://www.shop.industriemuseum.lvr.
 de/">www.shop.industriemuseum.lvr.de</a></p><p><br /> <strong>Preise:</stro
 ng><br /> Kosten Erwachsene 15,50 € inkl. Glas Sekt</p><p>Kinder und Jugend
 liche bis 18 Jahre: € 3,00 <br /> max. 20 Personen</p><p>Weitere Informatio
 nen:<br /> kulturinfo rheinland, Tel.: 02234/9921-555 oder</p><p>LVR-Indust
 riemuseum, Textilfabrik Cromford, Tel.: 02102/86449-0,<br /> <a href="http:
 //www.industriemuseum.lvr.de/">www.industriemuseum.lvr.de</a></p> <a href="
 https://www.cromford-ev.de/crom/veranstaltungen/eventdetail/48/-/abendfuehr
 ung-frauenleben-in-200-jahren-cromford?tmpl=component">Dieser Event wurde i
 mportiert von: https://www.cromford-ev.de/crom/veranstaltungen/eventdetail/
 48/-/abendfuehrung-frauenleben-in-200-jahren-cromford?tmpl=component</a>DTSTAMP:20260424T203126
DTSTART;TZID=Europe/Berlin:20230308T190000
DTEND;TZID=Europe/Berlin:20230308T203000
SEQUENCE:0
TRANSP:OPAQUE
END:VEVENT
END:VCALENDAR