BEGIN:VCALENDAR
VERSION:2.0
PRODID:-//jEvents 2.0 for Joomla//EN
CALSCALE:GREGORIAN
METHOD:PUBLISH
BEGIN:VTIMEZONE
TZID:Europe/Berlin
BEGIN:STANDARD
DTSTART:20251026T020000
RDATE:20260329T030000
TZOFFSETFROM:+0200
TZOFFSETTO:+0100
TZNAME:Europe/Berlin CET
END:STANDARD
BEGIN:STANDARD
DTSTART:20261025T020000
RDATE:20270328T030000
TZOFFSETFROM:+0200
TZOFFSETTO:+0100
TZNAME:Europe/Berlin CET
END:STANDARD
BEGIN:STANDARD
DTSTART:20271031T020000
RDATE:20280326T030000
TZOFFSETFROM:+0200
TZOFFSETTO:+0100
TZNAME:Europe/Berlin CET
END:STANDARD
BEGIN:STANDARD
DTSTART:20281029T020000
RDATE:20290325T030000
TZOFFSETFROM:+0200
TZOFFSETTO:+0100
TZNAME:Europe/Berlin CET
END:STANDARD
BEGIN:STANDARD
DTSTART:20291028T020000
RDATE:20300331T030000
TZOFFSETFROM:+0200
TZOFFSETTO:+0100
TZNAME:Europe/Berlin CET
END:STANDARD
BEGIN:DAYLIGHT
DTSTART:20250418T110000
RDATE:20251026T020000
TZOFFSETFROM:+0100
TZOFFSETTO:+0200
TZNAME:Europe/Berlin CEST
END:DAYLIGHT
BEGIN:DAYLIGHT
DTSTART:20260329T030000
RDATE:20261025T020000
TZOFFSETFROM:+0100
TZOFFSETTO:+0200
TZNAME:Europe/Berlin CEST
END:DAYLIGHT
BEGIN:DAYLIGHT
DTSTART:20270328T030000
RDATE:20271031T020000
TZOFFSETFROM:+0100
TZOFFSETTO:+0200
TZNAME:Europe/Berlin CEST
END:DAYLIGHT
BEGIN:DAYLIGHT
DTSTART:20280326T030000
RDATE:20281029T020000
TZOFFSETFROM:+0100
TZOFFSETTO:+0200
TZNAME:Europe/Berlin CEST
END:DAYLIGHT
BEGIN:DAYLIGHT
DTSTART:20290325T030000
RDATE:20291028T020000
TZOFFSETFROM:+0100
TZOFFSETTO:+0200
TZNAME:Europe/Berlin CEST
END:DAYLIGHT
END:VTIMEZONE
BEGIN:VEVENT
UID:ec114661b9115465d52907dc8b30f881
CATEGORIES:Förderverein
CREATED:20260304T085622
SUMMARY:Cromford-Gespräch - Die Entwicklung großer Immobilienobjekte im Raum Düsseldorf
URL;VALUE=URI:https://www.cromford-ev.de/crom/veranstaltungen/eventdetail/463/-/cromford-
 gespraech-die-entwicklung-grosser-immobilienobjekte-im-raum-duesseldorf?tmp
 l=component
DESCRIPTION:Cromford Gespräch am Sonntag, den. 19.04.2026 von 11:00–12:30 Uhr\n im Crom
 ford / Herrenhaus\n\nDie Entwicklung großer Immobilienobjekte im Raum Düsse
 ldorf\nStefan H. Mühling\nErfahrungsbericht - aktuelle Situation - Zukunfts
 perspektive\nLiebe Mitglieder, sehr geehrte Damen und Herren,\n\nEntwicklun
 g und Realisation großer Immobilienprojekte prägen unsere Städte.\nDer Rati
 nger Stefan H. Mühling ist einer der führenden Projektentwickler im Raum Dü
 sseldorf. Er ist Geschäftsführer von „die developer“ und zeichnet verantwor
 tlich für Leuchttürme der Stadtentwicklung wie dem Kö-Bogen.\nStefan H. Müh
 ling berichtet aus seiner Arbeit und stellt sich dem Gespräch.\n\nAls studi
 erter Diplom-Ökonom ist er seit nunmehr 35 Jahren auf dem Immobilienmarkt a
 ktiv. In seiner Funktion als Geschäftsführer leitete er von 2001 bis Anfang
  2008 die Projektentwicklungsaktivitäten im STRABAG Konzern. \n2008 machte 
 er sich in Düsseldorf mit der die developer Projektentwicklung GmbH selbstä
 ndig. Der Fokus liegt auf der Entwicklung hochwertiger Anlageprojekte, insb
 esondere von Büro- und Einzelhandelsimmobilien, im westdeutschen Raum. \nZu
  den Vorzeigeprojekten des Unternehmens zählen neben dem Kö-Bogen die L’Orè
 al Deutschlandzentrale (Horizon), der Vodafone Campus Düsseldorf sowie das 
 Projekt Eclipse mit PricewaterhouseCoopers als alleinigem Mieter.\nAktuell 
 entwickeln die developer unter anderem das neue Polizeipräsidium in Essen, 
 das Lichtwerk in Berlin und das Landmark-Projekt New Heart in Düsseldorf.\n
 \nhttps://diedeveloper.de/ (https://diedeveloper.de/)\n\nWir möchten Sie he
 rzlich zu unserem 1. Cromford Gespräch 2026 einladen.\nGenießen Sie den Aus
 tausch anschließend an den Vortrag traditionell bei Wein, Wasser und einem 
 Snack!\n\nWir freuen uns auf Sie! Bitte melden Sie sich verbindlich bis zum
  16.04.2026 bitte nur unter Diese E-Mail-Adresse ist vor Spambots geschützt
 ! Zur Anzeige muss JavaScript eingeschaltet sein. an.\n\nMit uns bleibt Ges
 chichte lebendig und wirkt in die Gegenwart!\n Dieser Event wurde importier
 t von: https://www.cromford-ev.de/crom/veranstaltungen/eventdetail/463/-/cr
 omford-gespraech-die-entwicklung-grosser-immobilienobjekte-im-raum-duesseld
 orf?tmpl=component (https://www.cromford-ev.de/crom/veranstaltungen/eventde
 tail/463/-/cromford-gespraech-die-entwicklung-grosser-immobilienobjekte-im-
 raum-duesseldorf?tmpl=component)
X-ALT-DESC;FMTTYPE=text/html:<p style="text-align: center;"><strong>Cromford Gespräch&nbsp;</strong><str
 ong>am Sonntag, den. 19.04.2026 von 11:00–12:30 Uhr</strong><br /><strong>&
 nbsp;im Cromford / Herrenhaus<br /></strong><br /><strong>Die Entwicklung g
 roßer Immobilienobjekte im Raum Düsseldorf</strong><br /><span style="color
 : #ff0000;"><strong>Stefan H. Mühling</strong></span><br /><strong>Erfahrun
 gsbericht - aktuelle Situation - Zukunftsperspektive</strong></p><p>Liebe M
 itglieder, sehr geehrte Damen und Herren,</p><p><br />Entwicklung und Reali
 sation großer Immobilienprojekte prägen unsere Städte.<br />Der Ratinger St
 efan H. Mühling ist einer der führenden Projektentwickler im Raum Düsseldor
 f. Er ist Geschäftsführer von „die developer“ und zeichnet verantwortlich f
 ür Leuchttürme der Stadtentwicklung wie dem Kö-Bogen.<br />Stefan H. Mühlin
 g berichtet aus seiner Arbeit und stellt sich dem Gespräch.<br /><br />Als 
 studierter Diplom-Ökonom ist er seit nunmehr 35 Jahren auf dem Immobilienma
 rkt aktiv. In seiner Funktion als Geschäftsführer leitete er von 2001 bis A
 nfang 2008 die Projektentwicklungsaktivitäten im STRABAG Konzern. <br />200
 8 machte er sich in Düsseldorf mit der die developer Projektentwicklung Gmb
 H selbständig. Der Fokus liegt auf der Entwicklung hochwertiger&nbsp;Anlage
 projekte, insbesondere von Büro- und Einzelhandelsimmobilien, im westdeutsc
 hen Raum. <br />Zu den Vorzeigeprojekten des Unternehmens zählen neben dem 
 Kö-Bogen die L’Orèal Deutschlandzentrale (Horizon), der Vodafone Campus Düs
 seldorf sowie das Projekt Eclipse mit PricewaterhouseCoopers als alleinigem
  Mieter.<br />Aktuell entwickeln die developer unter anderem das neue Poliz
 eipräsidium in Essen, das Lichtwerk in Berlin und das Landmark-Projekt New 
 Heart in Düsseldorf.<br /><br /><a href="https://diedeveloper.de/" target="
 _blank" rel="noopener">https://diedeveloper.de/</a><br /><br />Wir möchten 
 Sie herzlich zu unserem 1. Cromford Gespräch 2026 einladen.<br />Genießen S
 ie den Austausch anschließend an den Vortrag traditionell bei Wein, Wasser 
 und einem Snack!<br /><br />Wir freuen uns auf Sie! Bitte melden Sie sich v
 erbindlich bis zum 16.04.2026 bitte nur unter <joomla-hidden-mail  is-link=
 "1" is-email="1" first="aW5kdXN0cmllbXVzZXVtLXJhdGluZ2Vu" last="bHZyLmRl" t
 ext="aW5kdXN0cmllbXVzZXVtLXJhdGluZ2VuQGx2ci5kZQ==" base="/crom" >Diese E-Ma
 il-Adresse ist vor Spambots geschützt! Zur Anzeige muss JavaScript eingesch
 altet sein.</joomla-hidden-mail> an.<br /><br />Mit uns bleibt Geschichte l
 ebendig und wirkt in die Gegenwart!</p> <a href="https://www.cromford-ev.de
 /crom/veranstaltungen/eventdetail/463/-/cromford-gespraech-die-entwicklung-
 grosser-immobilienobjekte-im-raum-duesseldorf?tmpl=component">Dieser Event 
 wurde importiert von: https://www.cromford-ev.de/crom/veranstaltungen/event
 detail/463/-/cromford-gespraech-die-entwicklung-grosser-immobilienobjekte-i
 m-raum-duesseldorf?tmpl=component</a>DTSTAMP:20260422T034758
DTSTART;TZID=Europe/Berlin:20260419T110000
DTEND;TZID=Europe/Berlin:20260419T123000
SEQUENCE:0
TRANSP:OPAQUE
END:VEVENT
END:VCALENDAR