BEGIN:VCALENDAR
VERSION:2.0
PRODID:-//jEvents 2.0 for Joomla//EN
CALSCALE:GREGORIAN
METHOD:PUBLISH
BEGIN:VTIMEZONE
TZID:Europe/Berlin
BEGIN:STANDARD
DTSTART:20220225T140000
RDATE:20220327T030000
TZOFFSETFROM:+0200
TZOFFSETTO:+0100
TZNAME:Europe/Berlin CET
END:STANDARD
BEGIN:STANDARD
DTSTART:20221030T020000
RDATE:20230326T030000
TZOFFSETFROM:+0200
TZOFFSETTO:+0100
TZNAME:Europe/Berlin CET
END:STANDARD
BEGIN:STANDARD
DTSTART:20231029T020000
RDATE:20240331T030000
TZOFFSETFROM:+0200
TZOFFSETTO:+0100
TZNAME:Europe/Berlin CET
END:STANDARD
BEGIN:STANDARD
DTSTART:20241027T020000
RDATE:20250330T030000
TZOFFSETFROM:+0200
TZOFFSETTO:+0100
TZNAME:Europe/Berlin CET
END:STANDARD
BEGIN:STANDARD
DTSTART:20251026T020000
RDATE:20260329T030000
TZOFFSETFROM:+0200
TZOFFSETTO:+0100
TZNAME:Europe/Berlin CET
END:STANDARD
BEGIN:STANDARD
DTSTART:20261025T020000
RDATE:20270328T030000
TZOFFSETFROM:+0200
TZOFFSETTO:+0100
TZNAME:Europe/Berlin CET
END:STANDARD
BEGIN:STANDARD
DTSTART:20271031T020000
RDATE:20280326T030000
TZOFFSETFROM:+0200
TZOFFSETTO:+0100
TZNAME:Europe/Berlin CET
END:STANDARD
BEGIN:STANDARD
DTSTART:20281029T020000
RDATE:20290325T030000
TZOFFSETFROM:+0200
TZOFFSETTO:+0100
TZNAME:Europe/Berlin CET
END:STANDARD
BEGIN:STANDARD
DTSTART:20291028T020000
RDATE:20300331T030000
TZOFFSETFROM:+0200
TZOFFSETTO:+0100
TZNAME:Europe/Berlin CET
END:STANDARD
BEGIN:DAYLIGHT
DTSTART:20220327T030000
RDATE:20221030T020000
TZOFFSETFROM:+0100
TZOFFSETTO:+0200
TZNAME:Europe/Berlin CEST
END:DAYLIGHT
BEGIN:DAYLIGHT
DTSTART:20230326T030000
RDATE:20231029T020000
TZOFFSETFROM:+0100
TZOFFSETTO:+0200
TZNAME:Europe/Berlin CEST
END:DAYLIGHT
BEGIN:DAYLIGHT
DTSTART:20240331T030000
RDATE:20241027T020000
TZOFFSETFROM:+0100
TZOFFSETTO:+0200
TZNAME:Europe/Berlin CEST
END:DAYLIGHT
BEGIN:DAYLIGHT
DTSTART:20250330T030000
RDATE:20251026T020000
TZOFFSETFROM:+0100
TZOFFSETTO:+0200
TZNAME:Europe/Berlin CEST
END:DAYLIGHT
BEGIN:DAYLIGHT
DTSTART:20260329T030000
RDATE:20261025T020000
TZOFFSETFROM:+0100
TZOFFSETTO:+0200
TZNAME:Europe/Berlin CEST
END:DAYLIGHT
BEGIN:DAYLIGHT
DTSTART:20270328T030000
RDATE:20271031T020000
TZOFFSETFROM:+0100
TZOFFSETTO:+0200
TZNAME:Europe/Berlin CEST
END:DAYLIGHT
BEGIN:DAYLIGHT
DTSTART:20280326T030000
RDATE:20281029T020000
TZOFFSETFROM:+0100
TZOFFSETTO:+0200
TZNAME:Europe/Berlin CEST
END:DAYLIGHT
BEGIN:DAYLIGHT
DTSTART:20290325T030000
RDATE:20291028T020000
TZOFFSETFROM:+0100
TZOFFSETTO:+0200
TZNAME:Europe/Berlin CEST
END:DAYLIGHT
END:VTIMEZONE
BEGIN:VEVENT
UID:d1e79412457a46b125d4e82f1899f454
CATEGORIES:Museum
CREATED:20221208T092330
SUMMARY:Kuratorinnenführung: Blick hinter die Kulissen – Umbau in Cromford
URL;VALUE=URI:https://www.cromford-ev.de/crom/veranstaltungen/eventdetail/46/-/kuratorinn
 enfuehrung-blick-hinter-die-kulissen-umbau-in-cromford?tmpl=component
DESCRIPTION:<p>Es tut sich was in der Textilfabrik Cromford – hinter den Kulissen wird 
 tatkräftig an der neuen Dauerausstellung gearbeitet. Die Kuratorinnenführun
 g in der Hohen Fabrik gibt spannende Einblicke in die Arbeitsprozesse, Them
 en und Herausforderungen der neu geplanten Ausstellung. Maschinenvorführung
  inklusive.</p><p>&nbsp;</p><p><strong>Eine Anmeldung ist nicht erforderlic
 h.</strong> <br /> Tickets sind buchbar unter 02234-9921555 oder im Webshop
 : <a href="http://www.shop.industriemuseum.lvr.de/">www.shop.industriemuseu
 m.lvr.de</a></p><p><br /> <strong>Preise:</strong><br /> Kosten Erwachsene 
 10,50 €</p><p>Kinder und Jugendliche bis 18 Jahre: € 3,00 <br /> max. 20 Pe
 rsonen</p><p>Weitere Informationen:<br /> kulturinfo rheinland, Tel.: 02234
 /9921-555 oder</p><p>LVR-Industriemuseum, Textilfabrik Cromford, Tel.: 0210
 2/86449-0,<br /> <a href="http://www.industriemuseum.lvr.de/">www.industrie
 museum.lvr.de</a></p> <a href="https://www.cromford-ev.de/crom/veranstaltun
 gen/eventdetail/46/-/kuratorinnenfuehrung-blick-hinter-die-kulissen-umbau-i
 n-cromford?tmpl=component">Dieser Event wurde importiert von: https://www.c
 romford-ev.de/crom/veranstaltungen/eventdetail/46/-/kuratorinnenfuehrung-bl
 ick-hinter-die-kulissen-umbau-in-cromford?tmpl=component</a>DTSTAMP:20260424T172458
DTSTART;TZID=Europe/Berlin:20230226T140000
DTEND;TZID=Europe/Berlin:20230226T153000
SEQUENCE:0
TRANSP:OPAQUE
END:VEVENT
END:VCALENDAR