BEGIN:VCALENDAR
VERSION:2.0
PRODID:-//jEvents 2.0 for Joomla//EN
CALSCALE:GREGORIAN
METHOD:PUBLISH
BEGIN:VTIMEZONE
TZID:Europe/Berlin
BEGIN:STANDARD
DTSTART:20220204T140000
RDATE:20220327T030000
TZOFFSETFROM:+0200
TZOFFSETTO:+0100
TZNAME:Europe/Berlin CET
END:STANDARD
BEGIN:STANDARD
DTSTART:20221030T020000
RDATE:20230326T030000
TZOFFSETFROM:+0200
TZOFFSETTO:+0100
TZNAME:Europe/Berlin CET
END:STANDARD
BEGIN:STANDARD
DTSTART:20231029T020000
RDATE:20240331T030000
TZOFFSETFROM:+0200
TZOFFSETTO:+0100
TZNAME:Europe/Berlin CET
END:STANDARD
BEGIN:STANDARD
DTSTART:20241027T020000
RDATE:20250330T030000
TZOFFSETFROM:+0200
TZOFFSETTO:+0100
TZNAME:Europe/Berlin CET
END:STANDARD
BEGIN:STANDARD
DTSTART:20251026T020000
RDATE:20260329T030000
TZOFFSETFROM:+0200
TZOFFSETTO:+0100
TZNAME:Europe/Berlin CET
END:STANDARD
BEGIN:STANDARD
DTSTART:20261025T020000
RDATE:20270328T030000
TZOFFSETFROM:+0200
TZOFFSETTO:+0100
TZNAME:Europe/Berlin CET
END:STANDARD
BEGIN:STANDARD
DTSTART:20271031T020000
RDATE:20280326T030000
TZOFFSETFROM:+0200
TZOFFSETTO:+0100
TZNAME:Europe/Berlin CET
END:STANDARD
BEGIN:STANDARD
DTSTART:20281029T020000
RDATE:20290325T030000
TZOFFSETFROM:+0200
TZOFFSETTO:+0100
TZNAME:Europe/Berlin CET
END:STANDARD
BEGIN:STANDARD
DTSTART:20291028T020000
RDATE:20300331T030000
TZOFFSETFROM:+0200
TZOFFSETTO:+0100
TZNAME:Europe/Berlin CET
END:STANDARD
BEGIN:DAYLIGHT
DTSTART:20220327T030000
RDATE:20221030T020000
TZOFFSETFROM:+0100
TZOFFSETTO:+0200
TZNAME:Europe/Berlin CEST
END:DAYLIGHT
BEGIN:DAYLIGHT
DTSTART:20230326T030000
RDATE:20231029T020000
TZOFFSETFROM:+0100
TZOFFSETTO:+0200
TZNAME:Europe/Berlin CEST
END:DAYLIGHT
BEGIN:DAYLIGHT
DTSTART:20240331T030000
RDATE:20241027T020000
TZOFFSETFROM:+0100
TZOFFSETTO:+0200
TZNAME:Europe/Berlin CEST
END:DAYLIGHT
BEGIN:DAYLIGHT
DTSTART:20250330T030000
RDATE:20251026T020000
TZOFFSETFROM:+0100
TZOFFSETTO:+0200
TZNAME:Europe/Berlin CEST
END:DAYLIGHT
BEGIN:DAYLIGHT
DTSTART:20260329T030000
RDATE:20261025T020000
TZOFFSETFROM:+0100
TZOFFSETTO:+0200
TZNAME:Europe/Berlin CEST
END:DAYLIGHT
BEGIN:DAYLIGHT
DTSTART:20270328T030000
RDATE:20271031T020000
TZOFFSETFROM:+0100
TZOFFSETTO:+0200
TZNAME:Europe/Berlin CEST
END:DAYLIGHT
BEGIN:DAYLIGHT
DTSTART:20280326T030000
RDATE:20281029T020000
TZOFFSETFROM:+0100
TZOFFSETTO:+0200
TZNAME:Europe/Berlin CEST
END:DAYLIGHT
BEGIN:DAYLIGHT
DTSTART:20290325T030000
RDATE:20291028T020000
TZOFFSETFROM:+0100
TZOFFSETTO:+0200
TZNAME:Europe/Berlin CEST
END:DAYLIGHT
END:VTIMEZONE
BEGIN:VEVENT
UID:0d626d29246e71c6704da7edf9563f2b
CATEGORIES:Museum
CREATED:20221208T091712
SUMMARY:Führung: Ein großbürgerlicher Haushalt um 1800
URL;VALUE=URI:https://www.cromford-ev.de/crom/veranstaltungen/eventdetail/45/-/fuehrung-e
 in-grossbuergerlicher-haushalt-um-1800?tmpl=component
DESCRIPTION: „Das Düppen Butter ist wegen der Hitze geschmolzen…“ – das kann passieren.
  Erst recht, wenn die Butter mitten im Sommer des Jahres 1817 auf einem Rhe
 inschiff unterwegs ist. Sophie Brügelmann war mit der Qualität der Butter t
 rotzdem zufrieden. Die Schwiegertochter des Firmengründers Johann Gottfried
  Brügelmann führte nicht nur seit dem Tod ihres Mannes gemeinsam mit ihrem 
 Schwager die Geschäfte in der Textilfabrik. Sie verantworte gleichzeitig de
 n Haushalt im Herrenhaus Cromford.\nBei einer Führung durch die Ausstellung
  im Herrenhaus wird anhand ausgewählter Objekte in den großbürgerlichen Hau
 shalt um 1800 eingeführt und das Thema anschließend in gemütlicher Runde ve
 rtieft. Dabei werden Ausschnitte aus Sophies Briefkopierbuch zur ihrer Haus
 haltsführung vorgelesen – Interessantes, Bemerkenswertes und Manches zum Sc
 hmunzeln.\n \nEine Anmeldung ist nicht erforderlich. \nTickets sind buchbar
  unter 02234-9921555 oder im Webshop: www.shop.industriemuseum.lvr.de (http
 ://www.shop.industriemuseum.lvr.de/)\n \n\nPreise:\nKosten Erwachsene 10,50
  €\nKinder und Jugendliche bis 18 Jahre: € 3,00 \nmax. 20 Personen\nWeitere
  Informationen:\nkulturinfo rheinland, Tel.: 02234/9921-555 oder\nLVR-Indus
 triemuseum, Textilfabrik Cromford, Tel.: 02102/86449-0,\nwww.industriemuseu
 m.lvr.de (http://www.industriemuseum.lvr.de/)\n Dieser Event wurde importie
 rt von: https://www.cromford-ev.de/crom/veranstaltungen/eventdetail/45/-/fu
 ehrung-ein-grossbuergerlicher-haushalt-um-1800?tmpl=component
X-ALT-DESC;FMTTYPE=text/html:<p>&nbsp;„Das Düppen Butter ist wegen der Hitze geschmolzen…“ – das kann pa
 ssieren. Erst recht, wenn die Butter mitten im Sommer des Jahres 1817 auf e
 inem Rheinschiff unterwegs ist. Sophie Brügelmann war mit der Qualität der 
 Butter trotzdem zufrieden. Die Schwiegertochter des Firmengründers Johann G
 ottfried Brügelmann führte nicht nur seit dem Tod ihres Mannes gemeinsam mi
 t ihrem Schwager die Geschäfte in der Textilfabrik. Sie verantworte gleichz
 eitig den Haushalt im Herrenhaus Cromford.</p><p>Bei einer Führung durch di
 e Ausstellung im Herrenhaus wird anhand ausgewählter Objekte in den großbür
 gerlichen Haushalt um 1800 eingeführt und das Thema anschließend in gemütli
 cher Runde vertieft. Dabei werden Ausschnitte aus Sophies Briefkopierbuch z
 ur ihrer Haushaltsführung vorgelesen – Interessantes, Bemerkenswertes und M
 anches zum Schmunzeln.</p><p>&nbsp;</p><p><strong>Eine Anmeldung ist nicht 
 erforderlich.</strong> <br />Tickets sind buchbar unter 02234-9921555 oder 
 im Webshop: <a href="http://www.shop.industriemuseum.lvr.de/">www.shop.indu
 striemuseum.lvr.de</a></p><p>&nbsp;</p><p><br /><span style="text-decoratio
 n: underline;"><strong>Preise:</strong></span><br />Kosten Erwachsene 10,50
  €</p><p>Kinder und Jugendliche bis 18 Jahre: € 3,00 <br />max. 20 Personen
 </p><p>Weitere Informationen:<br />kulturinfo rheinland, Tel.: 02234/9921-5
 55 oder</p><p>LVR-Industriemuseum, Textilfabrik Cromford, Tel.: 02102/86449
 -0,<br /><span id="lblKosten"><a href="http://www.industriemuseum.lvr.de/">
 www.industriemuseum.lvr.de</a></span></p> <a href="https://www.cromford-ev.
 de/crom/veranstaltungen/eventdetail/45/-/fuehrung-ein-grossbuergerlicher-ha
 ushalt-um-1800?tmpl=component">Dieser Event wurde importiert von: https://w
 ww.cromford-ev.de/crom/veranstaltungen/eventdetail/45/-/fuehrung-ein-grossb
 uergerlicher-haushalt-um-1800?tmpl=component</a>DTSTAMP:20260424T153544
DTSTART;TZID=Europe/Berlin:20230205T140000
DTEND;TZID=Europe/Berlin:20230205T153000
SEQUENCE:0
TRANSP:OPAQUE
END:VEVENT
END:VCALENDAR