BEGIN:VCALENDAR
VERSION:2.0
PRODID:-//jEvents 2.0 for Joomla//EN
CALSCALE:GREGORIAN
METHOD:PUBLISH
BEGIN:VTIMEZONE
TZID:Europe/Berlin
BEGIN:STANDARD
DTSTART:20220121T140000
RDATE:20220327T030000
TZOFFSETFROM:+0200
TZOFFSETTO:+0100
TZNAME:Europe/Berlin CET
END:STANDARD
BEGIN:STANDARD
DTSTART:20221030T020000
RDATE:20230326T030000
TZOFFSETFROM:+0200
TZOFFSETTO:+0100
TZNAME:Europe/Berlin CET
END:STANDARD
BEGIN:STANDARD
DTSTART:20231029T020000
RDATE:20240331T030000
TZOFFSETFROM:+0200
TZOFFSETTO:+0100
TZNAME:Europe/Berlin CET
END:STANDARD
BEGIN:STANDARD
DTSTART:20241027T020000
RDATE:20250330T030000
TZOFFSETFROM:+0200
TZOFFSETTO:+0100
TZNAME:Europe/Berlin CET
END:STANDARD
BEGIN:STANDARD
DTSTART:20251026T020000
RDATE:20260329T030000
TZOFFSETFROM:+0200
TZOFFSETTO:+0100
TZNAME:Europe/Berlin CET
END:STANDARD
BEGIN:STANDARD
DTSTART:20261025T020000
RDATE:20270328T030000
TZOFFSETFROM:+0200
TZOFFSETTO:+0100
TZNAME:Europe/Berlin CET
END:STANDARD
BEGIN:STANDARD
DTSTART:20271031T020000
RDATE:20280326T030000
TZOFFSETFROM:+0200
TZOFFSETTO:+0100
TZNAME:Europe/Berlin CET
END:STANDARD
BEGIN:STANDARD
DTSTART:20281029T020000
RDATE:20290325T030000
TZOFFSETFROM:+0200
TZOFFSETTO:+0100
TZNAME:Europe/Berlin CET
END:STANDARD
BEGIN:STANDARD
DTSTART:20291028T020000
RDATE:20300331T030000
TZOFFSETFROM:+0200
TZOFFSETTO:+0100
TZNAME:Europe/Berlin CET
END:STANDARD
BEGIN:DAYLIGHT
DTSTART:20220327T030000
RDATE:20221030T020000
TZOFFSETFROM:+0100
TZOFFSETTO:+0200
TZNAME:Europe/Berlin CEST
END:DAYLIGHT
BEGIN:DAYLIGHT
DTSTART:20230326T030000
RDATE:20231029T020000
TZOFFSETFROM:+0100
TZOFFSETTO:+0200
TZNAME:Europe/Berlin CEST
END:DAYLIGHT
BEGIN:DAYLIGHT
DTSTART:20240331T030000
RDATE:20241027T020000
TZOFFSETFROM:+0100
TZOFFSETTO:+0200
TZNAME:Europe/Berlin CEST
END:DAYLIGHT
BEGIN:DAYLIGHT
DTSTART:20250330T030000
RDATE:20251026T020000
TZOFFSETFROM:+0100
TZOFFSETTO:+0200
TZNAME:Europe/Berlin CEST
END:DAYLIGHT
BEGIN:DAYLIGHT
DTSTART:20260329T030000
RDATE:20261025T020000
TZOFFSETFROM:+0100
TZOFFSETTO:+0200
TZNAME:Europe/Berlin CEST
END:DAYLIGHT
BEGIN:DAYLIGHT
DTSTART:20270328T030000
RDATE:20271031T020000
TZOFFSETFROM:+0100
TZOFFSETTO:+0200
TZNAME:Europe/Berlin CEST
END:DAYLIGHT
BEGIN:DAYLIGHT
DTSTART:20280326T030000
RDATE:20281029T020000
TZOFFSETFROM:+0100
TZOFFSETTO:+0200
TZNAME:Europe/Berlin CEST
END:DAYLIGHT
BEGIN:DAYLIGHT
DTSTART:20290325T030000
RDATE:20291028T020000
TZOFFSETFROM:+0100
TZOFFSETTO:+0200
TZNAME:Europe/Berlin CEST
END:DAYLIGHT
END:VTIMEZONE
BEGIN:VEVENT
UID:d841495bf3b8a982fb7dec9b62727750
CATEGORIES:Museum
CREATED:20221208T091312
SUMMARY:Führung: "Die Brügelmanns. Eine Unternehmerdynastie in der Frühindustrialisierung."
URL;VALUE=URI:https://www.cromford-ev.de/crom/veranstaltungen/eventdetail/43/-/fuehrung-d
 ie-bruegelmanns-eine-unternehmerdynastie-in-der-fruehindustrialisierung?tmp
 l=component
DESCRIPTION: \nMithilfe der Familie zum Erfolg: Nachdem der Elberfelder Kaufmann Johann
  Gottfried Brügelmann 1783/84 in Ratingen seine Baumwollspinnerei gegründet
  hatte, unterhielt er weiterhin enge Kontakte ins Wuppertal. Denn neben der
  guten Führung des Unternehmens war ein Erfolgsgarant die Pflege eines weit
 en Netzwerks. Dieses sicherte den Ankauf von Rohstoffen, den Verkauf der Pr
 odukte sowie die Abwicklung der Geschäfte. Der Unternehmer nutzte hierfür v
 or allem die geschäftlichen Beziehungen innerhalb seiner Familie und der we
 itverzweigten Verwandtschaft.\nDie Führung durch das Herrenhaus gibt spanne
 nde Einblicke in den Aufbau und die Sicherung des Cromforder Unternehmens s
 owie in die in Heirats- und Verwandtschaftsbeziehungen der Unternehmerfamil
 ie in der Frühphase der Industrialisierung.\n \n \nEine Anmeldung ist nicht
  erforderlich. \nTickets sind buchbar unter 02234-9921555 oder im Webshop: 
 www.shop.industriemuseum.lvr.de (http://www.shop.industriemuseum.lvr.de/)\n
  \n\nPreise:\nKosten Erwachsene 10,50 €\nKinder und Jugendliche bis 18 Jahr
 e: € 3,00 \nmax. 20 Personen\nWeitere Informationen:\nkulturinfo rheinland,
  Tel.: 02234/9921-555 oder\nLVR-Industriemuseum, Textilfabrik Cromford, Tel
 .: 02102/86449-0,\nwww.industriemuseum.lvr.de (http://www.industriemuseum.l
 vr.de/)\n Dieser Event wurde importiert von: https://www.cromford-ev.de/cro
 m/veranstaltungen/eventdetail/43/-/fuehrung-die-bruegelmanns-eine-unternehm
 erdynastie-in-der-fruehindustrialisierung?tmpl=component (https://www.cromf
 ord-ev.de/crom/veranstaltungen/eventdetail/43/-/fuehrung-die-bruegelmanns-e
 ine-unternehmerdynastie-in-der-fruehindustrialisierung?tmpl=component)
X-ALT-DESC;FMTTYPE=text/html:<p>&nbsp;</p><p>Mithilfe der Familie zum Erfolg: Nachdem der Elberfelder Ka
 ufmann Johann Gottfried Brügelmann 1783/84 in Ratingen seine Baumwollspinne
 rei gegründet hatte, unterhielt er weiterhin enge Kontakte ins Wuppertal. D
 enn neben der guten Führung des Unternehmens war ein Erfolgsgarant die Pfle
 ge eines weiten Netzwerks. Dieses sicherte den Ankauf von Rohstoffen, den V
 erkauf der Produkte sowie die Abwicklung der Geschäfte. Der Unternehmer nut
 zte hierfür vor allem die geschäftlichen Beziehungen innerhalb seiner Famil
 ie und der weitverzweigten Verwandtschaft.</p><p>Die Führung durch das Herr
 enhaus gibt spannende Einblicke in den Aufbau und die Sicherung des Cromfor
 der Unternehmens sowie in die in Heirats- und Verwandtschaftsbeziehungen de
 r Unternehmerfamilie in der Frühphase der Industrialisierung.</p><p>&nbsp;<
 /p><p>&nbsp;</p><p><strong>Eine Anmeldung ist nicht erforderlich.</strong> 
 <br />Tickets sind buchbar unter 02234-9921555 oder im Webshop: <a href="ht
 tp://www.shop.industriemuseum.lvr.de/">www.shop.industriemuseum.lvr.de</a><
 /p><p>&nbsp;</p><p><br /><span style="text-decoration: underline;"><strong>
 Preise:</strong></span><br />Kosten Erwachsene 10,50 €</p><p>Kinder und Jug
 endliche bis 18 Jahre: € 3,00 <br />max. 20 Personen</p><p>Weitere Informat
 ionen:<br />kulturinfo rheinland, Tel.: 02234/9921-555 oder</p><p>LVR-Indus
 triemuseum, Textilfabrik Cromford, Tel.: 02102/86449-0,<br /><span id="lblK
 osten"><a href="http://www.industriemuseum.lvr.de/">www.industriemuseum.lvr
 .de</a></span></p> <a href="https://www.cromford-ev.de/crom/veranstaltungen
 /eventdetail/43/-/fuehrung-die-bruegelmanns-eine-unternehmerdynastie-in-der
 -fruehindustrialisierung?tmpl=component">Dieser Event wurde importiert von:
  https://www.cromford-ev.de/crom/veranstaltungen/eventdetail/43/-/fuehrung-
 die-bruegelmanns-eine-unternehmerdynastie-in-der-fruehindustrialisierung?tm
 pl=component</a>DTSTAMP:20260424T140548
DTSTART;TZID=Europe/Berlin:20230122T140000
DTEND;TZID=Europe/Berlin:20230122T153000
SEQUENCE:0
TRANSP:OPAQUE
END:VEVENT
END:VCALENDAR