BEGIN:VCALENDAR
VERSION:2.0
PRODID:-//jEvents 2.0 for Joomla//EN
CALSCALE:GREGORIAN
METHOD:PUBLISH
BEGIN:VTIMEZONE
TZID:Europe/Berlin
BEGIN:STANDARD
DTSTART:20220107T140000
RDATE:20220327T030000
TZOFFSETFROM:+0200
TZOFFSETTO:+0100
TZNAME:Europe/Berlin CET
END:STANDARD
BEGIN:STANDARD
DTSTART:20221030T020000
RDATE:20230326T030000
TZOFFSETFROM:+0200
TZOFFSETTO:+0100
TZNAME:Europe/Berlin CET
END:STANDARD
BEGIN:STANDARD
DTSTART:20231029T020000
RDATE:20240331T030000
TZOFFSETFROM:+0200
TZOFFSETTO:+0100
TZNAME:Europe/Berlin CET
END:STANDARD
BEGIN:STANDARD
DTSTART:20241027T020000
RDATE:20250330T030000
TZOFFSETFROM:+0200
TZOFFSETTO:+0100
TZNAME:Europe/Berlin CET
END:STANDARD
BEGIN:STANDARD
DTSTART:20251026T020000
RDATE:20260329T030000
TZOFFSETFROM:+0200
TZOFFSETTO:+0100
TZNAME:Europe/Berlin CET
END:STANDARD
BEGIN:STANDARD
DTSTART:20261025T020000
RDATE:20270328T030000
TZOFFSETFROM:+0200
TZOFFSETTO:+0100
TZNAME:Europe/Berlin CET
END:STANDARD
BEGIN:STANDARD
DTSTART:20271031T020000
RDATE:20280326T030000
TZOFFSETFROM:+0200
TZOFFSETTO:+0100
TZNAME:Europe/Berlin CET
END:STANDARD
BEGIN:STANDARD
DTSTART:20281029T020000
RDATE:20290325T030000
TZOFFSETFROM:+0200
TZOFFSETTO:+0100
TZNAME:Europe/Berlin CET
END:STANDARD
BEGIN:STANDARD
DTSTART:20291028T020000
RDATE:20300331T030000
TZOFFSETFROM:+0200
TZOFFSETTO:+0100
TZNAME:Europe/Berlin CET
END:STANDARD
BEGIN:DAYLIGHT
DTSTART:20220327T030000
RDATE:20221030T020000
TZOFFSETFROM:+0100
TZOFFSETTO:+0200
TZNAME:Europe/Berlin CEST
END:DAYLIGHT
BEGIN:DAYLIGHT
DTSTART:20230326T030000
RDATE:20231029T020000
TZOFFSETFROM:+0100
TZOFFSETTO:+0200
TZNAME:Europe/Berlin CEST
END:DAYLIGHT
BEGIN:DAYLIGHT
DTSTART:20240331T030000
RDATE:20241027T020000
TZOFFSETFROM:+0100
TZOFFSETTO:+0200
TZNAME:Europe/Berlin CEST
END:DAYLIGHT
BEGIN:DAYLIGHT
DTSTART:20250330T030000
RDATE:20251026T020000
TZOFFSETFROM:+0100
TZOFFSETTO:+0200
TZNAME:Europe/Berlin CEST
END:DAYLIGHT
BEGIN:DAYLIGHT
DTSTART:20260329T030000
RDATE:20261025T020000
TZOFFSETFROM:+0100
TZOFFSETTO:+0200
TZNAME:Europe/Berlin CEST
END:DAYLIGHT
BEGIN:DAYLIGHT
DTSTART:20270328T030000
RDATE:20271031T020000
TZOFFSETFROM:+0100
TZOFFSETTO:+0200
TZNAME:Europe/Berlin CEST
END:DAYLIGHT
BEGIN:DAYLIGHT
DTSTART:20280326T030000
RDATE:20281029T020000
TZOFFSETFROM:+0100
TZOFFSETTO:+0200
TZNAME:Europe/Berlin CEST
END:DAYLIGHT
BEGIN:DAYLIGHT
DTSTART:20290325T030000
RDATE:20291028T020000
TZOFFSETFROM:+0100
TZOFFSETTO:+0200
TZNAME:Europe/Berlin CEST
END:DAYLIGHT
END:VTIMEZONE
BEGIN:VEVENT
UID:b1992421760bd217f84f097986e8ffce
CATEGORIES:Museum
CREATED:20221208T073153
SUMMARY:Führung "Cromford-Ratingen. Lebenswelten zwischen erster Fabrik und Herrenhaus um 1800."
URL;VALUE=URI:https://www.cromford-ev.de/crom/veranstaltungen/eventdetail/36/-/fuehrung-c
 romford-ratingen-lebenswelten-zwischen-erster-fabrik-und-herrenhaus-um-1800
 ?tmpl=component
DESCRIPTION: \nWieso steht eigentlich in Ratingen eine Fabrik, die nach einem Ort in de
 r englischen Grafschaft Derbyshire benannt ist? Gegründet wurde die Baumwol
 lspinnerei 1783/84 vom Wuppertaler Kaufmann Johann Gottfried Brügelmann. De
 r Unternehmer hatte sich das Know-how über die ersten mechanischen, in Engl
 and entwickelten und im dortigen Cromford betriebenen Spinnmaschinen angeei
 gnet. Den Ortsnamen Cromford, der für Qualität, Innovation und Fortschritt 
 stand, übernahm er ebenfalls.\nDie Kombiführung durch die Hohe Fabrik und d
 as spätbarocke Herrenhaus gibt Einblicke in die Schaltzentrale des Unterneh
 mens und den Fabrikalltag. Zum Einsatz kommen auch die originalgetreu nachg
 ebauten Spinnmaschinen des 18. Jahrhunderts. Diese zeigen anschaulich, wie 
 Brügelmann und sein Vorbild Arkwright aus Rohbaumwolle einen festen Faden s
 pinnen ließen und damit die textile Produktion revolutionierten.\n \nEine A
 nmeldung ist nicht erforderlich. \nTickets sind buchbar unter 02234-9921555
  oder im Webshop: www.shop.industriemuseum.lvr.de (http://www.shop.industri
 emuseum.lvr.de/)\n \n\nPreise:\nKosten Erwachsene 10,50 € \nKinder und Juge
 ndliche bis 18 Jahre: € 3,00 \nmax. 20 Personen\nWeitere Informationen:\nku
 lturinfo rheinland, Tel.: 02234/9921-555 oder\nLVR-Industriemuseum, Textilf
 abrik Cromford, Tel.: 02102/86449-0,\nwww.industriemuseum.lvr.de (http://ww
 w.industriemuseum.lvr.de/)\n Dieser Event wurde importiert von: https://www
 .cromford-ev.de/crom/veranstaltungen/eventdetail/36/-/fuehrung-cromford-rat
 ingen-lebenswelten-zwischen-erster-fabrik-und-herrenhaus-um-1800?tmpl=compo
 nent
X-ALT-DESC;FMTTYPE=text/html:<p>&nbsp;</p><p>Wieso steht eigentlich in Ratingen eine Fabrik, die nach ei
 nem Ort in der englischen Grafschaft Derbyshire benannt ist? Gegründet wurd
 e die Baumwollspinnerei 1783/84 vom Wuppertaler Kaufmann Johann Gottfried B
 rügelmann. Der Unternehmer hatte sich das Know-how über die ersten mechanis
 chen, in England entwickelten und im dortigen Cromford betriebenen Spinnmas
 chinen angeeignet. Den Ortsnamen Cromford, der für Qualität, Innovation und
  Fortschritt stand, übernahm er ebenfalls.</p><p>Die Kombiführung durch die
  Hohe Fabrik und das spätbarocke Herrenhaus gibt Einblicke in die Schaltzen
 trale des Unternehmens und den Fabrikalltag. Zum Einsatz kommen auch die or
 iginalgetreu nachgebauten Spinnmaschinen des 18. Jahrhunderts. Diese zeigen
  anschaulich, wie Brügelmann und sein Vorbild Arkwright aus Rohbaumwolle ei
 nen festen Faden spinnen ließen und damit die textile Produktion revolution
 ierten.</p><p>&nbsp;</p><p><strong>Eine Anmeldung ist nicht erforderlich.</
 strong> <br />Tickets sind buchbar unter 02234-9921555 oder im Webshop: <a 
 href="http://www.shop.industriemuseum.lvr.de/">www.shop.industriemuseum.lvr
 .de</a></p><p>&nbsp;</p><p><br /><span style="text-decoration: underline;">
 <strong>Preise:</strong></span><br />Kosten Erwachsene 10,50 € </p><p>Kinde
 r und Jugendliche bis 18 Jahre: € 3,00 <br />max. 20 Personen</p><p>Weitere
  Informationen:<br />kulturinfo rheinland, Tel.: 02234/9921-555 oder</p><p>
 LVR-Industriemuseum, Textilfabrik Cromford, Tel.: 02102/86449-0,<br /><span
  id="lblKosten"><a href="http://www.industriemuseum.lvr.de/">www.industriem
 useum.lvr.de</a></span></p> <a href="https://www.cromford-ev.de/crom/verans
 taltungen/eventdetail/36/-/fuehrung-cromford-ratingen-lebenswelten-zwischen
 -erster-fabrik-und-herrenhaus-um-1800?tmpl=component">Dieser Event wurde im
 portiert von: https://www.cromford-ev.de/crom/veranstaltungen/eventdetail/3
 6/-/fuehrung-cromford-ratingen-lebenswelten-zwischen-erster-fabrik-und-herr
 enhaus-um-1800?tmpl=component</a>DTSTAMP:20260424T141314
DTSTART;TZID=Europe/Berlin:20230108T140000
DTEND;TZID=Europe/Berlin:20230108T153000
SEQUENCE:0
TRANSP:OPAQUE
END:VEVENT
END:VCALENDAR