BEGIN:VCALENDAR
VERSION:2.0
PRODID:-//jEvents 2.0 for Joomla//EN
CALSCALE:GREGORIAN
METHOD:PUBLISH
BEGIN:VTIMEZONE
TZID:Europe/Berlin
BEGIN:STANDARD
DTSTART:20220213T190000
RDATE:20220327T030000
TZOFFSETFROM:+0200
TZOFFSETTO:+0100
TZNAME:Europe/Berlin CET
END:STANDARD
BEGIN:STANDARD
DTSTART:20221030T020000
RDATE:20230326T030000
TZOFFSETFROM:+0200
TZOFFSETTO:+0100
TZNAME:Europe/Berlin CET
END:STANDARD
BEGIN:STANDARD
DTSTART:20231029T020000
RDATE:20240331T030000
TZOFFSETFROM:+0200
TZOFFSETTO:+0100
TZNAME:Europe/Berlin CET
END:STANDARD
BEGIN:STANDARD
DTSTART:20241027T020000
RDATE:20250330T030000
TZOFFSETFROM:+0200
TZOFFSETTO:+0100
TZNAME:Europe/Berlin CET
END:STANDARD
BEGIN:STANDARD
DTSTART:20251026T020000
RDATE:20260329T030000
TZOFFSETFROM:+0200
TZOFFSETTO:+0100
TZNAME:Europe/Berlin CET
END:STANDARD
BEGIN:STANDARD
DTSTART:20261025T020000
RDATE:20270328T030000
TZOFFSETFROM:+0200
TZOFFSETTO:+0100
TZNAME:Europe/Berlin CET
END:STANDARD
BEGIN:STANDARD
DTSTART:20271031T020000
RDATE:20280326T030000
TZOFFSETFROM:+0200
TZOFFSETTO:+0100
TZNAME:Europe/Berlin CET
END:STANDARD
BEGIN:STANDARD
DTSTART:20281029T020000
RDATE:20290325T030000
TZOFFSETFROM:+0200
TZOFFSETTO:+0100
TZNAME:Europe/Berlin CET
END:STANDARD
BEGIN:STANDARD
DTSTART:20291028T020000
RDATE:20300331T030000
TZOFFSETFROM:+0200
TZOFFSETTO:+0100
TZNAME:Europe/Berlin CET
END:STANDARD
BEGIN:DAYLIGHT
DTSTART:20220327T030000
RDATE:20221030T020000
TZOFFSETFROM:+0100
TZOFFSETTO:+0200
TZNAME:Europe/Berlin CEST
END:DAYLIGHT
BEGIN:DAYLIGHT
DTSTART:20230326T030000
RDATE:20231029T020000
TZOFFSETFROM:+0100
TZOFFSETTO:+0200
TZNAME:Europe/Berlin CEST
END:DAYLIGHT
BEGIN:DAYLIGHT
DTSTART:20240331T030000
RDATE:20241027T020000
TZOFFSETFROM:+0100
TZOFFSETTO:+0200
TZNAME:Europe/Berlin CEST
END:DAYLIGHT
BEGIN:DAYLIGHT
DTSTART:20250330T030000
RDATE:20251026T020000
TZOFFSETFROM:+0100
TZOFFSETTO:+0200
TZNAME:Europe/Berlin CEST
END:DAYLIGHT
BEGIN:DAYLIGHT
DTSTART:20260329T030000
RDATE:20261025T020000
TZOFFSETFROM:+0100
TZOFFSETTO:+0200
TZNAME:Europe/Berlin CEST
END:DAYLIGHT
BEGIN:DAYLIGHT
DTSTART:20270328T030000
RDATE:20271031T020000
TZOFFSETFROM:+0100
TZOFFSETTO:+0200
TZNAME:Europe/Berlin CEST
END:DAYLIGHT
BEGIN:DAYLIGHT
DTSTART:20280326T030000
RDATE:20281029T020000
TZOFFSETFROM:+0100
TZOFFSETTO:+0200
TZNAME:Europe/Berlin CEST
END:DAYLIGHT
BEGIN:DAYLIGHT
DTSTART:20290325T030000
RDATE:20291028T020000
TZOFFSETFROM:+0100
TZOFFSETTO:+0200
TZNAME:Europe/Berlin CEST
END:DAYLIGHT
END:VTIMEZONE
BEGIN:VEVENT
UID:8bb0a893e874eb06c1fbb037743e8952
CATEGORIES:Museum
CREATED:20220901T173511
SUMMARY:Abendführung: Ein Winterabend im Herrenhaus Cromford
URL;VALUE=URI:https://www.cromford-ev.de/crom/veranstaltungen/eventdetail/28/-/abendfuehr
 ung-ein-winterabend-im-herrenhaus-cromford?tmpl=component
DESCRIPTION:<p>Die erste Fabrik auf dem europäischen Kontinent – sie steht in Ratingen.
  <br />Unmittelbar am Flüsschen Anger gelegen und eingebettet in einen alte
 n englischen Landschaftspark befindet sich mit der Baumwollspinnerei Cromfo
 rd eine der ältesten erhaltenen Industrieanlagen in Deutschland. 1783/84 wu
 rde sie von dem Wuppertaler Kaufmann und Unternehmer Johann Gottfried Brüge
 lmann gegründet und steht heute für die Epoche der frühen Industrialisierun
 g im Rheinland. Über drei Generationen lebte die Fabrikantenfamilie Brügelm
 ann in dem barocken Herrenhaus Cromford, das gleichzeitig Schaltzentrale ih
 rer zahlreichen Unternehmungen war.</p><p>&nbsp;</p><p>Die Ausstellung im H
 errenhaus Cromford erzählt vom wirtschaftlichen Handeln in politisch unsich
 eren Zeiten, aber auch von ganz privaten Dingen – von Lieblingsspeisen, Jag
 dleidenschaft oder Heiratsabsichten, von dem Umgang mit den Dienstboten ode
 r den Vorbereitungen eines Festes im Gartensaal.</p><p>Die Führung am Abend
  lädt ein zu einer Entdeckungsreise durch Salons, Kabinette und Kammern und
  präsentiert die Lebenswelt einer der wichtigsten Unternehmerdynastien der 
 Rheinlande. Im Anschluss können sich die Gäste in gemütlicher Runde bei ein
 em Glas Sekt austauschen.</p><p>&nbsp;</p><p><em><strong>Eine Anmeldung ist
  erforderlich.</strong></em></p><div class="jev_evdt_desc"><p><strong>Anmel
 dung unter:</strong></p><p><strong>kulturinfo rheinland, Telefon 02234/9921
 -555<br /> </strong>oder im Webshop buchen: <a href="http://www.shop.indust
 riemuseum.lvr.de/" target="_blank" rel="noopener" title="Externer Link öffn
 et neues Fenster">www.shop.industriemuseum.lvr.de</a></p><p><br /> <strong>
 Preise:</strong><br /> Kosten Erwachsene 15,50 € inkl.ein Glas Sekt und Mus
 eumseintritt</p><p>Kinder und Jugendliche bis 18 Jahre: € 3,00 Führungsgebü
 hr, Eintritt frei</p><p>Weitere Informationen:<br /> kulturinfo rheinland, 
 Tel.: 02234/9921-555 oder</p><p>LVR-Industriemuseum, Textilfabrik Cromford,
  Tel.: 02102/86449-0,<br /> <span id="lblKosten"><a href="http://www.indust
 riemuseum.lvr.de/">www.industriemuseum.lvr.de</a></span></p></div> <a href=
 "https://www.cromford-ev.de/crom/veranstaltungen/eventdetail/28/-/abendfueh
 rung-ein-winterabend-im-herrenhaus-cromford?tmpl=component">Dieser Event wu
 rde importiert von: https://www.cromford-ev.de/crom/veranstaltungen/eventde
 tail/28/-/abendfuehrung-ein-winterabend-im-herrenhaus-cromford?tmpl=compone
 nt</a>DTSTAMP:20260424T172458
DTSTART;TZID=Europe/Berlin:20230214T190000
DTEND;TZID=Europe/Berlin:20230214T203000
SEQUENCE:0
TRANSP:OPAQUE
END:VEVENT
END:VCALENDAR