BEGIN:VCALENDAR
VERSION:2.0
PRODID:-//jEvents 2.0 for Joomla//EN
CALSCALE:GREGORIAN
METHOD:PUBLISH
BEGIN:VTIMEZONE
TZID:Europe/Berlin
BEGIN:STANDARD
DTSTART:20231029T020000
RDATE:20240331T030000
TZOFFSETFROM:+0200
TZOFFSETTO:+0100
TZNAME:Europe/Berlin CET
END:STANDARD
BEGIN:STANDARD
DTSTART:20241027T020000
RDATE:20250330T030000
TZOFFSETFROM:+0200
TZOFFSETTO:+0100
TZNAME:Europe/Berlin CET
END:STANDARD
BEGIN:STANDARD
DTSTART:20251026T020000
RDATE:20260329T030000
TZOFFSETFROM:+0200
TZOFFSETTO:+0100
TZNAME:Europe/Berlin CET
END:STANDARD
BEGIN:STANDARD
DTSTART:20261025T020000
RDATE:20270328T030000
TZOFFSETFROM:+0200
TZOFFSETTO:+0100
TZNAME:Europe/Berlin CET
END:STANDARD
BEGIN:STANDARD
DTSTART:20271031T020000
RDATE:20280326T030000
TZOFFSETFROM:+0200
TZOFFSETTO:+0100
TZNAME:Europe/Berlin CET
END:STANDARD
BEGIN:STANDARD
DTSTART:20281029T020000
RDATE:20290325T030000
TZOFFSETFROM:+0200
TZOFFSETTO:+0100
TZNAME:Europe/Berlin CET
END:STANDARD
BEGIN:STANDARD
DTSTART:20291028T020000
RDATE:20300331T030000
TZOFFSETFROM:+0200
TZOFFSETTO:+0100
TZNAME:Europe/Berlin CET
END:STANDARD
BEGIN:DAYLIGHT
DTSTART:20230922T150000
RDATE:20231029T020000
TZOFFSETFROM:+0100
TZOFFSETTO:+0200
TZNAME:Europe/Berlin CEST
END:DAYLIGHT
BEGIN:DAYLIGHT
DTSTART:20240331T030000
RDATE:20241027T020000
TZOFFSETFROM:+0100
TZOFFSETTO:+0200
TZNAME:Europe/Berlin CEST
END:DAYLIGHT
BEGIN:DAYLIGHT
DTSTART:20250330T030000
RDATE:20251026T020000
TZOFFSETFROM:+0100
TZOFFSETTO:+0200
TZNAME:Europe/Berlin CEST
END:DAYLIGHT
BEGIN:DAYLIGHT
DTSTART:20260329T030000
RDATE:20261025T020000
TZOFFSETFROM:+0100
TZOFFSETTO:+0200
TZNAME:Europe/Berlin CEST
END:DAYLIGHT
BEGIN:DAYLIGHT
DTSTART:20270328T030000
RDATE:20271031T020000
TZOFFSETFROM:+0100
TZOFFSETTO:+0200
TZNAME:Europe/Berlin CEST
END:DAYLIGHT
BEGIN:DAYLIGHT
DTSTART:20280326T030000
RDATE:20281029T020000
TZOFFSETFROM:+0100
TZOFFSETTO:+0200
TZNAME:Europe/Berlin CEST
END:DAYLIGHT
BEGIN:DAYLIGHT
DTSTART:20290325T030000
RDATE:20291028T020000
TZOFFSETFROM:+0100
TZOFFSETTO:+0200
TZNAME:Europe/Berlin CEST
END:DAYLIGHT
END:VTIMEZONE
BEGIN:VEVENT
UID:a17829337cc4a22154d7664d12e32fb3
CATEGORIES:Museum
CREATED:20240823T180810
SUMMARY:Event: Faire Bergische Kaffeetafel
URL;VALUE=URI:https://www.cromford-ev.de/crom/veranstaltungen/eventdetail/235/-/event-fai
 re-bergische-kaffeetafel?tmpl=component
DESCRIPTION:Frische Waffeln, Milchreis mit Zimt und Zucker, Stuten, Schwarzbrot und all
 erlei Aufschnitt – die reichhaltige Bergische Kaffeetafel hat Tradition in 
 der Region.\nGemeinsam mit der städtischen Steuerungsgruppe „Fairtrade-Stad
 t Ratingen“ veranstaltet das LVR-Industriemuseum Textilfabrik Cromford im C
 afé Cromford eine Faire Bergische Kaffeetafel „met allem dröm und dran“ – s
 oweit möglich aus dem fairen Handel.\nDie Veranstaltung findet statt im Rah
 men der Fairen Woche und der Ratinger Tage der Nachhaltigkeit. 2018 wurde R
 atingen erstmalig als „Fairtrade-Stadt“ ausgezeichnet und konnte auch in di
 esem Jahr den Titel erneuern.\nEine Anmeldung ist erforderlich. \n Tickets 
 sind buchbar unter 02234-9921555 oder im Webshop: www.shop.industriemuseum.
 lvr.de (http://www.shop.industriemuseum.lvr.de/)\n\n Preise:\nKosten: 19 €\
 n max. 28 Personen\nWeitere Informationen:\n kulturinfo rheinland, Tel.: 02
 234/9921-555 oder\nLVR-Industriemuseum, Textilfabrik Cromford, Tel.: 02102/
 86449-0,\n www.industriemuseum.lvr.de (http://www.industriemuseum.lvr.de/)\
 n \n Dieser Event wurde importiert von: https://www.cromford-ev.de/crom/ver
 anstaltungen/eventdetail/235/-/event-faire-bergische-kaffeetafel?tmpl=compo
 nent (https://www.cromford-ev.de/crom/veranstaltungen/eventdetail/235/-/eve
 nt-faire-bergische-kaffeetafel?tmpl=component)
X-ALT-DESC;FMTTYPE=text/html:<p>Frische Waffeln, Milchreis mit Zimt und Zucker, Stuten, Schwarzbrot und 
 allerlei Aufschnitt – die reichhaltige Bergische Kaffeetafel hat Tradition 
 in der Region.</p><p>Gemeinsam mit der städtischen Steuerungsgruppe „Fairtr
 ade-Stadt Ratingen“ veranstaltet das LVR-Industriemuseum Textilfabrik Cromf
 ord im Café Cromford eine Faire Bergische Kaffeetafel „met allem dröm und d
 ran“ – soweit möglich aus dem fairen Handel.</p><p>Die Veranstaltung findet
  statt im Rahmen der Fairen Woche und der Ratinger Tage der Nachhaltigkeit.
  2018 wurde Ratingen erstmalig als „Fairtrade-Stadt“ ausgezeichnet und konn
 te auch in diesem Jahr den Titel erneuern.</p><p><strong>Eine Anmeldung ist
  erforderlich.</strong> <br /> Tickets sind buchbar unter 02234-9921555 ode
 r im Webshop: <a href="http://www.shop.industriemuseum.lvr.de/">www.shop.in
 dustriemuseum.lvr.de</a></p><p><br /> <strong>Preise:</strong></p><p>Kosten
 : 19 €<br /> max. 28 Personen</p><p>Weitere Informationen:<br /> kulturinfo
  rheinland, Tel.: 02234/9921-555 oder</p><p>LVR-Industriemuseum, Textilfabr
 ik Cromford, Tel.: 02102/86449-0,<br /> <a href="http://www.industriemuseum
 .lvr.de/"><span id="lblKosten">www.industriemuseum.lvr.de</span></a></p><p>
 &nbsp;</p> <a href="https://www.cromford-ev.de/crom/veranstaltungen/eventde
 tail/235/-/event-faire-bergische-kaffeetafel?tmpl=component">Dieser Event w
 urde importiert von: https://www.cromford-ev.de/crom/veranstaltungen/eventd
 etail/235/-/event-faire-bergische-kaffeetafel?tmpl=component</a>DTSTAMP:20260422T074254
DTSTART;TZID=Europe/Berlin:20240922T150000
DTEND;TZID=Europe/Berlin:20240922T170000
SEQUENCE:0
TRANSP:OPAQUE
END:VEVENT
END:VCALENDAR