BEGIN:VCALENDAR
VERSION:2.0
PRODID:-//jEvents 2.0 for Joomla//EN
CALSCALE:GREGORIAN
METHOD:PUBLISH
BEGIN:VTIMEZONE
TZID:Europe/Berlin
BEGIN:STANDARD
DTSTART:20231029T020000
RDATE:20240331T030000
TZOFFSETFROM:+0200
TZOFFSETTO:+0100
TZNAME:Europe/Berlin CET
END:STANDARD
BEGIN:STANDARD
DTSTART:20241027T020000
RDATE:20250330T030000
TZOFFSETFROM:+0200
TZOFFSETTO:+0100
TZNAME:Europe/Berlin CET
END:STANDARD
BEGIN:STANDARD
DTSTART:20251026T020000
RDATE:20260329T030000
TZOFFSETFROM:+0200
TZOFFSETTO:+0100
TZNAME:Europe/Berlin CET
END:STANDARD
BEGIN:STANDARD
DTSTART:20261025T020000
RDATE:20270328T030000
TZOFFSETFROM:+0200
TZOFFSETTO:+0100
TZNAME:Europe/Berlin CET
END:STANDARD
BEGIN:STANDARD
DTSTART:20271031T020000
RDATE:20280326T030000
TZOFFSETFROM:+0200
TZOFFSETTO:+0100
TZNAME:Europe/Berlin CET
END:STANDARD
BEGIN:STANDARD
DTSTART:20281029T020000
RDATE:20290325T030000
TZOFFSETFROM:+0200
TZOFFSETTO:+0100
TZNAME:Europe/Berlin CET
END:STANDARD
BEGIN:STANDARD
DTSTART:20291028T020000
RDATE:20300331T030000
TZOFFSETFROM:+0200
TZOFFSETTO:+0100
TZNAME:Europe/Berlin CET
END:STANDARD
BEGIN:DAYLIGHT
DTSTART:20230917T180000
RDATE:20231029T020000
TZOFFSETFROM:+0100
TZOFFSETTO:+0200
TZNAME:Europe/Berlin CEST
END:DAYLIGHT
BEGIN:DAYLIGHT
DTSTART:20240331T030000
RDATE:20241027T020000
TZOFFSETFROM:+0100
TZOFFSETTO:+0200
TZNAME:Europe/Berlin CEST
END:DAYLIGHT
BEGIN:DAYLIGHT
DTSTART:20250330T030000
RDATE:20251026T020000
TZOFFSETFROM:+0100
TZOFFSETTO:+0200
TZNAME:Europe/Berlin CEST
END:DAYLIGHT
BEGIN:DAYLIGHT
DTSTART:20260329T030000
RDATE:20261025T020000
TZOFFSETFROM:+0100
TZOFFSETTO:+0200
TZNAME:Europe/Berlin CEST
END:DAYLIGHT
BEGIN:DAYLIGHT
DTSTART:20270328T030000
RDATE:20271031T020000
TZOFFSETFROM:+0100
TZOFFSETTO:+0200
TZNAME:Europe/Berlin CEST
END:DAYLIGHT
BEGIN:DAYLIGHT
DTSTART:20280326T030000
RDATE:20281029T020000
TZOFFSETFROM:+0100
TZOFFSETTO:+0200
TZNAME:Europe/Berlin CEST
END:DAYLIGHT
BEGIN:DAYLIGHT
DTSTART:20290325T030000
RDATE:20291028T020000
TZOFFSETFROM:+0100
TZOFFSETTO:+0200
TZNAME:Europe/Berlin CEST
END:DAYLIGHT
END:VTIMEZONE
BEGIN:VEVENT
UID:115ba49322f21869e03f53d2362745b6
CATEGORIES:Museum
CREATED:20240823T180434
SUMMARY:Vortrag mit Außenführung:  Cromforder Bleichwiesen
URL;VALUE=URI:https://www.cromford-ev.de/crom/veranstaltungen/eventdetail/234/-/vortrag-m
 it-aussenfuehrung-cromforder-bleichwiesen?tmpl=component
DESCRIPTION:Unweit der Textilfabrik Cromford, am Flüsschen Anger befinden sie sich: die
  Cromford Wiesen. Im 18. Jahrhundert wurde auf Wiesen hinter der Fabrik Bau
 mwollgarn gebleicht – nun hat die Stadt Ratingen die Grünfläche, die bisher
  als „Fettwiese“ genutzt wurde, mit Fördermitteln des Bundes zur „Anpassung
  urbaner Räume an den Klimawandel“ umgestaltet. Neben der Schaffung von Leb
 ensräumen für Kleinlebewesen zur Erhöhung der Artenvielfalt und einer große
 n Obstwiese wurde auch ein Spindelweg mit mehr als zwei Dutzend Färberpflan
 zen angelegt.\nMichaela Maurer, Amtsleiterin für Kommunale Dienst der Stadt
  Ratingen gibt in Ihrem Vortrag Einblicke in die Umsetzung dieses nachhalti
 gen Projekts. Das Museumsteam ordnet die Themen Bleichen und Färben von Tex
 tilien historisch ein. Bestandteil des Vortrags ist auch eine Besichtigung 
 der neu gestalteten Cromford Wiesen.\nDer Vortrag findet im Rahmen der Rati
 nger Tage der Nachhaltigkeit statt.\n \nEine Anmeldung ist erforderlich. \n
  Tickets sind buchbar unter 02234-9921555 oder im Webshop: www.shop.industr
 iemuseum.lvr.de (http://www.shop.industriemuseum.lvr.de/)\n\n Preise:\nKost
 en: Kostenfrei\n max. 35 Personen\nWeitere Informationen:\n kulturinfo rhei
 nland, Tel.: 02234/9921-555 oder\nLVR-Industriemuseum, Textilfabrik Cromfor
 d, Tel.: 02102/86449-0,\n www.industriemuseum.lvr.de (http://www.industriem
 useum.lvr.de/)\n Dieser Event wurde importiert von: https://www.cromford-ev
 .de/crom/veranstaltungen/eventdetail/234/-/vortrag-mit-aussenfuehrung-cromf
 order-bleichwiesen?tmpl=component (https://www.cromford-ev.de/crom/veransta
 ltungen/eventdetail/234/-/vortrag-mit-aussenfuehrung-cromforder-bleichwiese
 n?tmpl=component)
X-ALT-DESC;FMTTYPE=text/html:<p>Unweit der Textilfabrik Cromford, am Flüsschen Anger befinden sie sich: 
 die Cromford Wiesen. Im 18. Jahrhundert wurde auf Wiesen hinter der Fabrik 
 Baumwollgarn gebleicht – nun hat die Stadt Ratingen die Grünfläche, die bis
 her als „Fettwiese“ genutzt wurde, mit Fördermitteln des Bundes zur „Anpass
 ung urbaner Räume an den Klimawandel“ umgestaltet. Neben der Schaffung von 
 Lebensräumen für Kleinlebewesen zur Erhöhung der Artenvielfalt und einer gr
 oßen Obstwiese wurde auch ein Spindelweg mit mehr als zwei Dutzend Färberpf
 lanzen angelegt.</p><p>Michaela Maurer, Amtsleiterin für Kommunale Dienst d
 er Stadt Ratingen gibt in Ihrem Vortrag Einblicke in die Umsetzung dieses n
 achhaltigen Projekts. Das Museumsteam ordnet die Themen Bleichen und Färben
  von Textilien historisch ein. Bestandteil des Vortrags ist auch eine Besic
 htigung der neu gestalteten Cromford Wiesen.</p><p>Der Vortrag findet im Ra
 hmen der Ratinger Tage der Nachhaltigkeit statt.</p><p>&nbsp;</p><p><strong
 >Eine Anmeldung ist erforderlich.</strong> <br /> Tickets sind buchbar unte
 r 02234-9921555 oder im Webshop: <a href="http://www.shop.industriemuseum.l
 vr.de/">www.shop.industriemuseum.lvr.de</a></p><p><br /> <strong>Preise:</s
 trong></p><p>Kosten: Kostenfrei<br /> max. 35 Personen</p><p>Weitere Inform
 ationen:<br /> kulturinfo rheinland, Tel.: 02234/9921-555 oder</p><p>LVR-In
 dustriemuseum, Textilfabrik Cromford, Tel.: 02102/86449-0,<br /> <a href="h
 ttp://www.industriemuseum.lvr.de/"><span id="lblKosten">www.industriemuseum
 .lvr.de</span></a></p> <a href="https://www.cromford-ev.de/crom/veranstaltu
 ngen/eventdetail/234/-/vortrag-mit-aussenfuehrung-cromforder-bleichwiesen?t
 mpl=component">Dieser Event wurde importiert von: https://www.cromford-ev.d
 e/crom/veranstaltungen/eventdetail/234/-/vortrag-mit-aussenfuehrung-cromfor
 der-bleichwiesen?tmpl=component</a>DTSTAMP:20260422T074244
DTSTART;TZID=Europe/Berlin:20240917T180000
DTEND;TZID=Europe/Berlin:20240917T200000
SEQUENCE:0
TRANSP:OPAQUE
END:VEVENT
END:VCALENDAR