BEGIN:VCALENDAR
VERSION:2.0
PRODID:-//jEvents 2.0 for Joomla//EN
CALSCALE:GREGORIAN
METHOD:PUBLISH
BEGIN:VTIMEZONE
TZID:Europe/Berlin
BEGIN:STANDARD
DTSTART:20231029T020000
RDATE:20240331T030000
TZOFFSETFROM:+0200
TZOFFSETTO:+0100
TZNAME:Europe/Berlin CET
END:STANDARD
BEGIN:STANDARD
DTSTART:20241027T020000
RDATE:20250330T030000
TZOFFSETFROM:+0200
TZOFFSETTO:+0100
TZNAME:Europe/Berlin CET
END:STANDARD
BEGIN:STANDARD
DTSTART:20251026T020000
RDATE:20260329T030000
TZOFFSETFROM:+0200
TZOFFSETTO:+0100
TZNAME:Europe/Berlin CET
END:STANDARD
BEGIN:STANDARD
DTSTART:20261025T020000
RDATE:20270328T030000
TZOFFSETFROM:+0200
TZOFFSETTO:+0100
TZNAME:Europe/Berlin CET
END:STANDARD
BEGIN:STANDARD
DTSTART:20271031T020000
RDATE:20280326T030000
TZOFFSETFROM:+0200
TZOFFSETTO:+0100
TZNAME:Europe/Berlin CET
END:STANDARD
BEGIN:STANDARD
DTSTART:20281029T020000
RDATE:20290325T030000
TZOFFSETFROM:+0200
TZOFFSETTO:+0100
TZNAME:Europe/Berlin CET
END:STANDARD
BEGIN:STANDARD
DTSTART:20291028T020000
RDATE:20300331T030000
TZOFFSETFROM:+0200
TZOFFSETTO:+0100
TZNAME:Europe/Berlin CET
END:STANDARD
BEGIN:DAYLIGHT
DTSTART:20230922T133000
RDATE:20231029T020000
TZOFFSETFROM:+0100
TZOFFSETTO:+0200
TZNAME:Europe/Berlin CEST
END:DAYLIGHT
BEGIN:DAYLIGHT
DTSTART:20240331T030000
RDATE:20241027T020000
TZOFFSETFROM:+0100
TZOFFSETTO:+0200
TZNAME:Europe/Berlin CEST
END:DAYLIGHT
BEGIN:DAYLIGHT
DTSTART:20250330T030000
RDATE:20251026T020000
TZOFFSETFROM:+0100
TZOFFSETTO:+0200
TZNAME:Europe/Berlin CEST
END:DAYLIGHT
BEGIN:DAYLIGHT
DTSTART:20260329T030000
RDATE:20261025T020000
TZOFFSETFROM:+0100
TZOFFSETTO:+0200
TZNAME:Europe/Berlin CEST
END:DAYLIGHT
BEGIN:DAYLIGHT
DTSTART:20270328T030000
RDATE:20271031T020000
TZOFFSETFROM:+0100
TZOFFSETTO:+0200
TZNAME:Europe/Berlin CEST
END:DAYLIGHT
BEGIN:DAYLIGHT
DTSTART:20280326T030000
RDATE:20281029T020000
TZOFFSETFROM:+0100
TZOFFSETTO:+0200
TZNAME:Europe/Berlin CEST
END:DAYLIGHT
BEGIN:DAYLIGHT
DTSTART:20290325T030000
RDATE:20291028T020000
TZOFFSETFROM:+0100
TZOFFSETTO:+0200
TZNAME:Europe/Berlin CEST
END:DAYLIGHT
END:VTIMEZONE
BEGIN:VEVENT
UID:860bbaefd1431ac860e11776a38363b4
CATEGORIES:Museum
CREATED:20240823T174102
SUMMARY:Führung:  Textilfabrik Cromford. Nachhaltig Leben und Arbeiten von 1800 bis heute
URL;VALUE=URI:https://www.cromford-ev.de/crom/veranstaltungen/eventdetail/233/-/fuehrung-
 textilfabrik-cromford-nachhaltig-leben-und-arbeiten-von-1800-bis-heute?tmpl
 =component
DESCRIPTION:Sonntag, 22. September 2024, 13.30-14.30 Uhr\nDie Textilindustrie hat einen
  schlechten Ruf: Mit seinem enormen Wasserverbrauch und dem Einsatz von Pes
 tiziden ist der konventionelle Baumwollanbau alles andere als nachhaltig. U
 nd auch in der Textilproduktion gelten nach wie vor geringe Arbeits-, Sozia
 l- und Gesundheitsstandards. War das schon immer so? Die Führung durch das 
 Herrenhaus Cromford fragt nach den Arbeitsbedingungen in der ehemaligen Bau
 mwollspinnerei und schlägt einen Bogen vom nachhaltigen Leben und Arbeiten 
 von 1800 bis heute.\nDie Veranstaltung findet statt im Rahmen der Fairen Wo
 che und der Ratinger Tage der Nachhaltigkeit. 2018 wurde Ratingen erstmalig
  als „Fairtrade-Stadt“ ausgezeichnet und konnte auch in diesem Jahr den Tit
 el erneuern\n \nEine Anmeldung ist nicht erforderlich, wird aber aufgrund d
 er begrenzten Plätze empfohlen. \n Tickets sind buchbar unter 02234-9921555
  oder im Webshop: www.shop.industriemuseum.lvr.de (http://www.shop.industri
 emuseum.lvr.de/)\nPreise:\nKosten: 5,50 € für Erwachsene, 3 € für Kinder un
 d Jugendliche\nmax. 20 Personen\nWeitere Informationen:\n kulturinfo rheinl
 and, Tel.: 02234/9921-555 oder\nLVR-Industriemuseum, Textilfabrik Cromford,
  Tel.: 02102/86449-0,\n www.industriemuseum.lvr.de (http://www.industriemus
 eum.lvr.de/)\n Dieser Event wurde importiert von: https://www.cromford-ev.d
 e/crom/veranstaltungen/eventdetail/233/-/fuehrung-textilfabrik-cromford-nac
 hhaltig-leben-und-arbeiten-von-1800-bis-heute?tmpl=component
X-ALT-DESC;FMTTYPE=text/html:<p>Sonntag, 22. September 2024, 13.30-14.30 Uhr</p><p>Die Textilindustrie h
 at einen schlechten Ruf: Mit seinem enormen Wasserverbrauch und dem Einsatz
  von Pestiziden ist der konventionelle Baumwollanbau alles andere als nachh
 altig. Und auch in der Textilproduktion gelten nach wie vor geringe Arbeits
 -, Sozial- und Gesundheitsstandards. War das schon immer so? Die Führung du
 rch das Herrenhaus Cromford fragt nach den Arbeitsbedingungen in der ehemal
 igen Baumwollspinnerei und schlägt einen Bogen vom nachhaltigen Leben und A
 rbeiten von 1800 bis heute.</p><p>Die Veranstaltung findet statt im Rahmen 
 der Fairen Woche und der Ratinger Tage der Nachhaltigkeit. 2018 wurde Ratin
 gen erstmalig als „Fairtrade-Stadt“ ausgezeichnet und konnte auch in diesem
  Jahr den Titel erneuern</p><p>&nbsp;</p><p><strong>Eine Anmeldung ist nich
 t erforderlich, wird aber aufgrund der begrenzten Plätze empfohlen.</strong
 > <br /> Tickets sind buchbar unter 02234-9921555 oder im Webshop: <a href=
 "http://www.shop.industriemuseum.lvr.de/" target="_blank" rel="noopener">ww
 w.shop.industriemuseum.lvr.de</a></p><p><strong>Preise:<br /></strong>Koste
 n: 5,50 € für Erwachsene, 3 € für Kinder und Jugendliche</p><p>max. 20 Pers
 onen</p><p>Weitere Informationen:<br /> kulturinfo rheinland, Tel.: 02234/9
 921-555 oder</p><p>LVR-Industriemuseum, Textilfabrik Cromford, Tel.: 02102/
 86449-0,<br /> <a href="http://www.industriemuseum.lvr.de/"><span id="lblKo
 sten">www.industriemuseum.lvr.de</span></a></p> <a href="https://www.cromfo
 rd-ev.de/crom/veranstaltungen/eventdetail/233/-/fuehrung-textilfabrik-cromf
 ord-nachhaltig-leben-und-arbeiten-von-1800-bis-heute?tmpl=component">Dieser
  Event wurde importiert von: https://www.cromford-ev.de/crom/veranstaltunge
 n/eventdetail/233/-/fuehrung-textilfabrik-cromford-nachhaltig-leben-und-arb
 eiten-von-1800-bis-heute?tmpl=component</a>DTSTAMP:20260422T074244
DTSTART;TZID=Europe/Berlin:20240922T133000
DTEND;TZID=Europe/Berlin:20240922T143000
SEQUENCE:0
TRANSP:OPAQUE
END:VEVENT
END:VCALENDAR