BEGIN:VCALENDAR
VERSION:2.0
PRODID:-//jEvents 2.0 for Joomla//EN
CALSCALE:GREGORIAN
METHOD:PUBLISH
BEGIN:VTIMEZONE
TZID:Europe/Berlin
BEGIN:STANDARD
DTSTART:20231029T020000
RDATE:20240331T030000
TZOFFSETFROM:+0200
TZOFFSETTO:+0100
TZNAME:Europe/Berlin CET
END:STANDARD
BEGIN:STANDARD
DTSTART:20241027T020000
RDATE:20250330T030000
TZOFFSETFROM:+0200
TZOFFSETTO:+0100
TZNAME:Europe/Berlin CET
END:STANDARD
BEGIN:STANDARD
DTSTART:20251026T020000
RDATE:20260329T030000
TZOFFSETFROM:+0200
TZOFFSETTO:+0100
TZNAME:Europe/Berlin CET
END:STANDARD
BEGIN:STANDARD
DTSTART:20261025T020000
RDATE:20270328T030000
TZOFFSETFROM:+0200
TZOFFSETTO:+0100
TZNAME:Europe/Berlin CET
END:STANDARD
BEGIN:STANDARD
DTSTART:20271031T020000
RDATE:20280326T030000
TZOFFSETFROM:+0200
TZOFFSETTO:+0100
TZNAME:Europe/Berlin CET
END:STANDARD
BEGIN:STANDARD
DTSTART:20281029T020000
RDATE:20290325T030000
TZOFFSETFROM:+0200
TZOFFSETTO:+0100
TZNAME:Europe/Berlin CET
END:STANDARD
BEGIN:STANDARD
DTSTART:20291028T020000
RDATE:20300331T030000
TZOFFSETFROM:+0200
TZOFFSETTO:+0100
TZNAME:Europe/Berlin CET
END:STANDARD
BEGIN:DAYLIGHT
DTSTART:20230815T110000
RDATE:20231029T020000
TZOFFSETFROM:+0100
TZOFFSETTO:+0200
TZNAME:Europe/Berlin CEST
END:DAYLIGHT
BEGIN:DAYLIGHT
DTSTART:20240331T030000
RDATE:20241027T020000
TZOFFSETFROM:+0100
TZOFFSETTO:+0200
TZNAME:Europe/Berlin CEST
END:DAYLIGHT
BEGIN:DAYLIGHT
DTSTART:20250330T030000
RDATE:20251026T020000
TZOFFSETFROM:+0100
TZOFFSETTO:+0200
TZNAME:Europe/Berlin CEST
END:DAYLIGHT
BEGIN:DAYLIGHT
DTSTART:20260329T030000
RDATE:20261025T020000
TZOFFSETFROM:+0100
TZOFFSETTO:+0200
TZNAME:Europe/Berlin CEST
END:DAYLIGHT
BEGIN:DAYLIGHT
DTSTART:20270328T030000
RDATE:20271031T020000
TZOFFSETFROM:+0100
TZOFFSETTO:+0200
TZNAME:Europe/Berlin CEST
END:DAYLIGHT
BEGIN:DAYLIGHT
DTSTART:20280326T030000
RDATE:20281029T020000
TZOFFSETFROM:+0100
TZOFFSETTO:+0200
TZNAME:Europe/Berlin CEST
END:DAYLIGHT
BEGIN:DAYLIGHT
DTSTART:20290325T030000
RDATE:20291028T020000
TZOFFSETFROM:+0100
TZOFFSETTO:+0200
TZNAME:Europe/Berlin CEST
END:DAYLIGHT
END:VTIMEZONE
BEGIN:VEVENT
UID:00bce22e540a81704792b2d210a5d0bb
CATEGORIES:Museum
CREATED:20240410T104101
SUMMARY:Kinderführung "Vom Rohstoff zum Garn"
URL;VALUE=URI:https://www.cromford-ev.de/crom/veranstaltungen/eventdetail/209/-/kinderfue
 hrung-vom-rohstoff-zum-garn?tmpl=component
DESCRIPTION: \nIn der Textilfabrik Cromford, der ersten Fabrik auf dem Kontinent, waren
  um 1800 Dreiviertel der Belegschaft Kinder. \nWie gestaltete sich ihr Arbe
 itstag, was waren ihre Aufgaben und wie wurde vor mehr als 200 Jahren Garn 
 hergestellt?\nDie verschiedenen Schritte zur Verarbeitung von Baumwolle kön
 nen Kinder in der interaktiven Führung selbst ausprobieren.\n Anschließend 
 erleben sie, wie die vom mächtigen Wasserrad angetriebenen Spinnmaschinen s
 urren.\n \n \nEine Anmeldung ist nicht erforderlich, wird aber aufgrund der
  begrenzten Plätze empfohlen.  \nTickets sind buchbar unter 02234-9921555 o
 der im Webshop: www.shop.industriemuseum.lvr.de (http://www.shop.industriem
 useum.lvr.de/)\n \n\nPreise:\nKosten: 3 € p.P.\nAlter: ab 6 Jahren\nmax. 20
  Personen\n \nWeitere Informationen:\nkulturinfo rheinland, Tel.: 02234/992
 1-555 oder\nLVR-Industriemuseum, Textilfabrik Cromford, Tel.: 02102/86449-0
 ,\nwww.industriemuseum.lvr.de (http://www.industriemuseum.lvr.de/)\n Dieser
  Event wurde importiert von: https://www.cromford-ev.de/crom/veranstaltunge
 n/eventdetail/209/-/kinderfuehrung-vom-rohstoff-zum-garn?tmpl=component (ht
 tps://www.cromford-ev.de/crom/veranstaltungen/eventdetail/209/-/kinderfuehr
 ung-vom-rohstoff-zum-garn?tmpl=component)
X-ALT-DESC;FMTTYPE=text/html:<p>&nbsp;</p><p>In der Textilfabrik Cromford, der ersten Fabrik auf dem Kon
 tinent, waren um 1800 Dreiviertel der Belegschaft Kinder. <br />Wie gestalt
 ete sich ihr Arbeitstag, was waren ihre Aufgaben und wie wurde vor mehr als
  200 Jahren Garn hergestellt?</p><p>Die verschiedenen Schritte zur Verarbei
 tung von Baumwolle können Kinder in der interaktiven Führung selbst ausprob
 ieren.<br /> Anschließend erleben sie, wie die vom mächtigen Wasserrad ange
 triebenen Spinnmaschinen surren.</p><p>&nbsp;</p><p>&nbsp;</p><p><strong>Ei
 ne Anmeldung ist nicht erforderlich, wird aber aufgrund der begrenzten Plät
 ze empfohlen. </strong> <br />Tickets sind buchbar unter 02234-9921555 oder
  im Webshop: <a href="http://www.shop.industriemuseum.lvr.de/">www.shop.ind
 ustriemuseum.lvr.de</a></p><p>&nbsp;</p><p><br /><span style="text-decorati
 on: underline;"><strong>Preise:</strong></span></p><p>Kosten: 3 € p.P.</p><
 p>Alter: ab 6 Jahren</p><p>max. 20 Personen</p><p>&nbsp;</p><p>Weitere Info
 rmationen:<br />kulturinfo rheinland, Tel.: 02234/9921-555 oder</p><p>LVR-I
 ndustriemuseum, Textilfabrik Cromford, Tel.: 02102/86449-0,<br /><span id="
 lblKosten"><a href="http://www.industriemuseum.lvr.de/">www.industriemuseum
 .lvr.de</a></span></p> <a href="https://www.cromford-ev.de/crom/veranstaltu
 ngen/eventdetail/209/-/kinderfuehrung-vom-rohstoff-zum-garn?tmpl=component"
 >Dieser Event wurde importiert von: https://www.cromford-ev.de/crom/veranst
 altungen/eventdetail/209/-/kinderfuehrung-vom-rohstoff-zum-garn?tmpl=compon
 ent</a>DTSTAMP:20260422T130557
DTSTART;TZID=Europe/Berlin:20240815T110000
DTEND;TZID=Europe/Berlin:20240815T123000
SEQUENCE:0
TRANSP:OPAQUE
END:VEVENT
END:VCALENDAR