BEGIN:VCALENDAR
VERSION:2.0
PRODID:-//jEvents 2.0 for Joomla//EN
CALSCALE:GREGORIAN
METHOD:PUBLISH
BEGIN:VTIMEZONE
TZID:Europe/Berlin
BEGIN:STANDARD
DTSTART:20231029T020000
RDATE:20240331T030000
TZOFFSETFROM:+0200
TZOFFSETTO:+0100
TZNAME:Europe/Berlin CET
END:STANDARD
BEGIN:STANDARD
DTSTART:20241027T020000
RDATE:20250330T030000
TZOFFSETFROM:+0200
TZOFFSETTO:+0100
TZNAME:Europe/Berlin CET
END:STANDARD
BEGIN:STANDARD
DTSTART:20251026T020000
RDATE:20260329T030000
TZOFFSETFROM:+0200
TZOFFSETTO:+0100
TZNAME:Europe/Berlin CET
END:STANDARD
BEGIN:STANDARD
DTSTART:20261025T020000
RDATE:20270328T030000
TZOFFSETFROM:+0200
TZOFFSETTO:+0100
TZNAME:Europe/Berlin CET
END:STANDARD
BEGIN:STANDARD
DTSTART:20271031T020000
RDATE:20280326T030000
TZOFFSETFROM:+0200
TZOFFSETTO:+0100
TZNAME:Europe/Berlin CET
END:STANDARD
BEGIN:STANDARD
DTSTART:20281029T020000
RDATE:20290325T030000
TZOFFSETFROM:+0200
TZOFFSETTO:+0100
TZNAME:Europe/Berlin CET
END:STANDARD
BEGIN:STANDARD
DTSTART:20291028T020000
RDATE:20300331T030000
TZOFFSETFROM:+0200
TZOFFSETTO:+0100
TZNAME:Europe/Berlin CET
END:STANDARD
BEGIN:DAYLIGHT
DTSTART:20230813T133000
RDATE:20231029T020000
TZOFFSETFROM:+0100
TZOFFSETTO:+0200
TZNAME:Europe/Berlin CEST
END:DAYLIGHT
BEGIN:DAYLIGHT
DTSTART:20240331T030000
RDATE:20241027T020000
TZOFFSETFROM:+0100
TZOFFSETTO:+0200
TZNAME:Europe/Berlin CEST
END:DAYLIGHT
BEGIN:DAYLIGHT
DTSTART:20250330T030000
RDATE:20251026T020000
TZOFFSETFROM:+0100
TZOFFSETTO:+0200
TZNAME:Europe/Berlin CEST
END:DAYLIGHT
BEGIN:DAYLIGHT
DTSTART:20260329T030000
RDATE:20261025T020000
TZOFFSETFROM:+0100
TZOFFSETTO:+0200
TZNAME:Europe/Berlin CEST
END:DAYLIGHT
BEGIN:DAYLIGHT
DTSTART:20270328T030000
RDATE:20271031T020000
TZOFFSETFROM:+0100
TZOFFSETTO:+0200
TZNAME:Europe/Berlin CEST
END:DAYLIGHT
BEGIN:DAYLIGHT
DTSTART:20280326T030000
RDATE:20281029T020000
TZOFFSETFROM:+0100
TZOFFSETTO:+0200
TZNAME:Europe/Berlin CEST
END:DAYLIGHT
BEGIN:DAYLIGHT
DTSTART:20290325T030000
RDATE:20291028T020000
TZOFFSETFROM:+0100
TZOFFSETTO:+0200
TZNAME:Europe/Berlin CEST
END:DAYLIGHT
END:VTIMEZONE
BEGIN:VEVENT
UID:c6ec3bb7004bf95cf0d8d3ff2b5ca59a
CATEGORIES:Museum
CREATED:20240410T103431
SUMMARY:Ferienaktion:  Light Painting
URL;VALUE=URI:https://www.cromford-ev.de/crom/veranstaltungen/eventdetail/205/-/ferienakt
 ion-light-painting?tmpl=component
DESCRIPTION:<p>Malen mit Licht. Klingt wie Zauberei. Ist aber eine Fototechnik, die Kin
 der im LVR-Industriemuseum Textilfabrik Cromford ausprobieren können. Nach 
 einer Einführung in die Technik mit iPad und Taschenlampe werden eigene Lic
 htpinsel aus Strohhalmen, Plexiglas, Transparentpapier oder glitzernden Sch
 nüren gebastelt. Und dann geht es richtig los: Im abgedunkelten Raum wird m
 it den Lichtpinseln in der Luft gemalt und auf den iPads entstehen außergew
 öhnliche, bunt leuchtende Kunstwerke.</p><p>&nbsp;</p><p><strong>Eine Anmel
 dung ist erforderlich.</strong> <br /> Tickets sind buchbar unter 02234-992
 1555 oder im Webshop: <a href="http://www.shop.industriemuseum.lvr.de/">www
 .shop.industriemuseum.lvr.de</a></p><p><br /> <strong>Preise:</strong></p><
 p>Kosten: 8 € p.P.<br />Alter: 8 bis 12 Jahre<br />max. 12 Personen</p><p><
 em><strong>Hinweise: Bitte zum Basteln geeignete Kleidung tragen</strong></
 em></p><p>Weitere Informationen:<br /> kulturinfo rheinland, Tel.: 02234/99
 21-555 oder</p><p>LVR-Industriemuseum, Textilfabrik Cromford, Tel.: 02102/8
 6449-0,<br /> <a href="http://www.industriemuseum.lvr.de/"><span id="lblKos
 ten">www.industriemuseum.lvr.de</span></a></p> <a href="https://www.cromfor
 d-ev.de/crom/veranstaltungen/eventdetail/205/-/ferienaktion-light-painting?
 tmpl=component">Dieser Event wurde importiert von: https://www.cromford-ev.
 de/crom/veranstaltungen/eventdetail/205/-/ferienaktion-light-painting?tmpl=
 component</a>DTSTAMP:20260422T125029
DTSTART;TZID=Europe/Berlin:20240813T133000
DTEND;TZID=Europe/Berlin:20240813T160000
SEQUENCE:0
TRANSP:OPAQUE
END:VEVENT
END:VCALENDAR