BEGIN:VCALENDAR
VERSION:2.0
PRODID:-//jEvents 2.0 for Joomla//EN
CALSCALE:GREGORIAN
METHOD:PUBLISH
BEGIN:VTIMEZONE
TZID:Europe/Berlin
BEGIN:STANDARD
DTSTART:20231029T020000
RDATE:20240331T030000
TZOFFSETFROM:+0200
TZOFFSETTO:+0100
TZNAME:Europe/Berlin CET
END:STANDARD
BEGIN:STANDARD
DTSTART:20241027T020000
RDATE:20250330T030000
TZOFFSETFROM:+0200
TZOFFSETTO:+0100
TZNAME:Europe/Berlin CET
END:STANDARD
BEGIN:STANDARD
DTSTART:20251026T020000
RDATE:20260329T030000
TZOFFSETFROM:+0200
TZOFFSETTO:+0100
TZNAME:Europe/Berlin CET
END:STANDARD
BEGIN:STANDARD
DTSTART:20261025T020000
RDATE:20270328T030000
TZOFFSETFROM:+0200
TZOFFSETTO:+0100
TZNAME:Europe/Berlin CET
END:STANDARD
BEGIN:STANDARD
DTSTART:20271031T020000
RDATE:20280326T030000
TZOFFSETFROM:+0200
TZOFFSETTO:+0100
TZNAME:Europe/Berlin CET
END:STANDARD
BEGIN:STANDARD
DTSTART:20281029T020000
RDATE:20290325T030000
TZOFFSETFROM:+0200
TZOFFSETTO:+0100
TZNAME:Europe/Berlin CET
END:STANDARD
BEGIN:STANDARD
DTSTART:20291028T020000
RDATE:20300331T030000
TZOFFSETFROM:+0200
TZOFFSETTO:+0100
TZNAME:Europe/Berlin CET
END:STANDARD
BEGIN:DAYLIGHT
DTSTART:20230818T140000
RDATE:20231029T020000
TZOFFSETFROM:+0100
TZOFFSETTO:+0200
TZNAME:Europe/Berlin CEST
END:DAYLIGHT
BEGIN:DAYLIGHT
DTSTART:20240331T030000
RDATE:20241027T020000
TZOFFSETFROM:+0100
TZOFFSETTO:+0200
TZNAME:Europe/Berlin CEST
END:DAYLIGHT
BEGIN:DAYLIGHT
DTSTART:20250330T030000
RDATE:20251026T020000
TZOFFSETFROM:+0100
TZOFFSETTO:+0200
TZNAME:Europe/Berlin CEST
END:DAYLIGHT
BEGIN:DAYLIGHT
DTSTART:20260329T030000
RDATE:20261025T020000
TZOFFSETFROM:+0100
TZOFFSETTO:+0200
TZNAME:Europe/Berlin CEST
END:DAYLIGHT
BEGIN:DAYLIGHT
DTSTART:20270328T030000
RDATE:20271031T020000
TZOFFSETFROM:+0100
TZOFFSETTO:+0200
TZNAME:Europe/Berlin CEST
END:DAYLIGHT
BEGIN:DAYLIGHT
DTSTART:20280326T030000
RDATE:20281029T020000
TZOFFSETFROM:+0100
TZOFFSETTO:+0200
TZNAME:Europe/Berlin CEST
END:DAYLIGHT
BEGIN:DAYLIGHT
DTSTART:20290325T030000
RDATE:20291028T020000
TZOFFSETFROM:+0100
TZOFFSETTO:+0200
TZNAME:Europe/Berlin CEST
END:DAYLIGHT
END:VTIMEZONE
BEGIN:VEVENT
UID:96d6567f7c056e1f4ae0b1d3d93a04e5
CATEGORIES:Museum
CREATED:20240410T101531
SUMMARY:Workshop: „Ran an die Taschen!“
URL;VALUE=URI:https://www.cromford-ev.de/crom/veranstaltungen/eventdetail/201/-/workshop-
 ran-an-die-taschen?tmpl=component
DESCRIPTION:Groß, klein, mit mehreren Fächern, Knöpfen oder Reißverschluss – für jede L
 ebenslage die richtige Tasche? Die kann im LVR-Industriemuseum Textilfabrik
  Cromford selbst hergestellt werden. Egal ob Shopper, Clutch oder Etui, aus
  alten Ausstellungsbannern werden unter fachkundiger Anleitung echte Hinguc
 ker. Von Neuling bis Nähprofi kommen alle auf ihre Kosten und können am End
 e des Workshops ihren neuen Begleiter mit nach Hause nehmen.\nEine Anmeldun
 g ist nicht erforderlich, wird aber aufgrund der begrenzten Plätze empfohle
 n. \n Tickets sind buchbar unter 02234-9921555 oder im Webshop: www.shop.in
 dustriemuseum.lvr.de (http://www.shop.industriemuseum.lvr.de/)\n \nKosten: 
 frei\nAlter: 10-14 Jahre\nDer Workshop findet im Rahmen des Programms „Kult
 urrucksack NRW“ statt.\nWeitere Informationen:\n kulturinfo rheinland, Tel.
 : 02234/9921-555 oder\nLVR-Industriemuseum, Textilfabrik Cromford, Tel.: 02
 102/86449-0,\n www.industriemuseum.lvr.de (http://www.industriemuseum.lvr.d
 e/)\n Dieser Event wurde importiert von: https://www.cromford-ev.de/crom/ve
 ranstaltungen/eventdetail/201/-/workshop-ran-an-die-taschen?tmpl=component
X-ALT-DESC;FMTTYPE=text/html:<p>Groß, klein, mit mehreren Fächern, Knöpfen oder Reißverschluss – für jed
 e Lebenslage die richtige Tasche? Die kann im LVR-Industriemuseum Textilfab
 rik Cromford selbst hergestellt werden. Egal ob Shopper, Clutch oder Etui, 
 aus alten Ausstellungsbannern werden unter fachkundiger Anleitung echte Hin
 gucker. Von Neuling bis Nähprofi kommen alle auf ihre Kosten und können am 
 Ende des Workshops ihren neuen Begleiter mit nach Hause nehmen.</p><p><stro
 ng>Eine Anmeldung ist nicht erforderlich, wird aber aufgrund der begrenzten
  Plätze empfohlen.</strong> <br /> Tickets sind buchbar unter 02234-9921555
  oder im Webshop: <a href="http://www.shop.industriemuseum.lvr.de/">www.sho
 p.industriemuseum.lvr.de</a></p><p>&nbsp;</p><p>Kosten: <strong>frei</stron
 g><br />Alter: 10-14 Jahre</p><p><strong>Der Workshop findet im Rahmen des 
 Programms „Kulturrucksack NRW“ statt.</strong></p><p>Weitere Informationen:
 <br /> kulturinfo rheinland, Tel.: 02234/9921-555 oder</p><p>LVR-Industriem
 useum, Textilfabrik Cromford, Tel.: 02102/86449-0,<br /> <a href="http://ww
 w.industriemuseum.lvr.de/"><span id="lblKosten">www.industriemuseum.lvr.de<
 /span></a></p> <a href="https://www.cromford-ev.de/crom/veranstaltungen/eve
 ntdetail/201/-/workshop-ran-an-die-taschen?tmpl=component">Dieser Event wur
 de importiert von: https://www.cromford-ev.de/crom/veranstaltungen/eventdet
 ail/201/-/workshop-ran-an-die-taschen?tmpl=component</a>DTSTAMP:20260422T125855
DTSTART;TZID=Europe/Berlin:20240818T140000
DTEND;TZID=Europe/Berlin:20240818T163000
SEQUENCE:0
TRANSP:OPAQUE
END:VEVENT
END:VCALENDAR