BEGIN:VCALENDAR
VERSION:2.0
PRODID:-//jEvents 2.0 for Joomla//EN
CALSCALE:GREGORIAN
METHOD:PUBLISH
BEGIN:VTIMEZONE
TZID:Europe/Berlin
BEGIN:STANDARD
DTSTART:20230320T180000
RDATE:20230326T030000
TZOFFSETFROM:+0200
TZOFFSETTO:+0100
TZNAME:Europe/Berlin CET
END:STANDARD
BEGIN:STANDARD
DTSTART:20231029T020000
RDATE:20240331T030000
TZOFFSETFROM:+0200
TZOFFSETTO:+0100
TZNAME:Europe/Berlin CET
END:STANDARD
BEGIN:STANDARD
DTSTART:20241027T020000
RDATE:20250330T030000
TZOFFSETFROM:+0200
TZOFFSETTO:+0100
TZNAME:Europe/Berlin CET
END:STANDARD
BEGIN:STANDARD
DTSTART:20251026T020000
RDATE:20260329T030000
TZOFFSETFROM:+0200
TZOFFSETTO:+0100
TZNAME:Europe/Berlin CET
END:STANDARD
BEGIN:STANDARD
DTSTART:20261025T020000
RDATE:20270328T030000
TZOFFSETFROM:+0200
TZOFFSETTO:+0100
TZNAME:Europe/Berlin CET
END:STANDARD
BEGIN:STANDARD
DTSTART:20271031T020000
RDATE:20280326T030000
TZOFFSETFROM:+0200
TZOFFSETTO:+0100
TZNAME:Europe/Berlin CET
END:STANDARD
BEGIN:STANDARD
DTSTART:20281029T020000
RDATE:20290325T030000
TZOFFSETFROM:+0200
TZOFFSETTO:+0100
TZNAME:Europe/Berlin CET
END:STANDARD
BEGIN:STANDARD
DTSTART:20291028T020000
RDATE:20300331T030000
TZOFFSETFROM:+0200
TZOFFSETTO:+0100
TZNAME:Europe/Berlin CET
END:STANDARD
BEGIN:DAYLIGHT
DTSTART:20230326T030000
RDATE:20231029T020000
TZOFFSETFROM:+0100
TZOFFSETTO:+0200
TZNAME:Europe/Berlin CEST
END:DAYLIGHT
BEGIN:DAYLIGHT
DTSTART:20240331T030000
RDATE:20241027T020000
TZOFFSETFROM:+0100
TZOFFSETTO:+0200
TZNAME:Europe/Berlin CEST
END:DAYLIGHT
BEGIN:DAYLIGHT
DTSTART:20250330T030000
RDATE:20251026T020000
TZOFFSETFROM:+0100
TZOFFSETTO:+0200
TZNAME:Europe/Berlin CEST
END:DAYLIGHT
BEGIN:DAYLIGHT
DTSTART:20260329T030000
RDATE:20261025T020000
TZOFFSETFROM:+0100
TZOFFSETTO:+0200
TZNAME:Europe/Berlin CEST
END:DAYLIGHT
BEGIN:DAYLIGHT
DTSTART:20270328T030000
RDATE:20271031T020000
TZOFFSETFROM:+0100
TZOFFSETTO:+0200
TZNAME:Europe/Berlin CEST
END:DAYLIGHT
BEGIN:DAYLIGHT
DTSTART:20280326T030000
RDATE:20281029T020000
TZOFFSETFROM:+0100
TZOFFSETTO:+0200
TZNAME:Europe/Berlin CEST
END:DAYLIGHT
BEGIN:DAYLIGHT
DTSTART:20290325T030000
RDATE:20291028T020000
TZOFFSETFROM:+0100
TZOFFSETTO:+0200
TZNAME:Europe/Berlin CEST
END:DAYLIGHT
END:VTIMEZONE
BEGIN:VEVENT
UID:cb76484676d7cbd4f91269a7a7243a42
CATEGORIES:Förderverein
CREATED:20240316T161453
SUMMARY:Mitgliederversammlung 2024
URL;VALUE=URI:https://www.cromford-ev.de/crom/veranstaltungen/eventdetail/179/-/mitgliede
 rversammlung-2024?tmpl=component
DESCRIPTION:Einladung zur Mitgliederversammlung 2024\n \nSehr geehrte Damen und Herren,
  liebe Mitglieder,\n\nder Vorstand der Freunde und Förderer des Industriemu
 seums Cromford e.V. lädt Sie \nzur ordentlichen Mitgliederversammlung 2024 
 herzlich ein.\n \nAm Mittwoch, dem 20. März 2024, um 18:00 Uhr\nIm Industri
 emuseum Cromford, Hohe Fabrik 1. Etage\n \n \nIm Anschluss an die Mitgliede
 rversammlung – ca. 19:30 Uhr wird Frau Petra Cremer –\nBaudezernentin für S
 tadtentwicklung und Mobilität der Stadt Ratingen - über die neuen\nVorhaben
 , die für Ratingen stadtgeschichtlich von Bedeutung sind, berichten.\nZu di
 esem Vortrag sind Gäste herzlich willkommen.\n\nNach dem Vortrag lädt der V
 orstand alle anwesenden Mitglieder und Gäste zu einem kleinen\nImbiss ein. 
 So kann er in lockerer Atmosphäre Fragen beantworten und zu einem lebendige
 n\nMeinungsaustausch beitragen.\n\nWir freuen uns auf Ihr Kommen!\n \n Dies
 er Event wurde importiert von: https://www.cromford-ev.de/crom/veranstaltun
 gen/eventdetail/179/-/mitgliederversammlung-2024?tmpl=component
X-ALT-DESC;FMTTYPE=text/html:<p><strong>Einladung zur Mitgliederversammlung 2024</strong></p><p>&nbsp;</
 p><p>Sehr geehrte Damen und Herren, liebe Mitglieder,</p><p><br />der Vorst
 and der Freunde und Förderer des Industriemuseums Cromford e.V. lädt Sie <b
 r />zur ordentlichen Mitgliederversammlung 2024 herzlich ein.</p><p>&nbsp;<
 /p><p><strong>Am Mittwoch, dem 20. März 2024, um 18:00 Uhr</strong></p><p><
 strong>Im Industriemuseum Cromford, Hohe Fabrik 1. Etage</strong></p><p>&nb
 sp;</p><p>&nbsp;</p><p>Im Anschluss an die Mitgliederversammlung – ca. 19:3
 0 Uhr wird Frau Petra Cremer –<br />Baudezernentin für Stadtentwicklung und
  Mobilität der Stadt Ratingen - über die neuen<br />Vorhaben, die für Ratin
 gen stadtgeschichtlich von Bedeutung sind, berichten.<br />Zu diesem Vortra
 g sind Gäste herzlich willkommen.</p><p><br />Nach dem Vortrag lädt der Vor
 stand alle anwesenden Mitglieder und Gäste zu einem kleinen<br />Imbiss ein
 . So kann er in lockerer Atmosphäre Fragen beantworten und zu einem lebendi
 gen<br />Meinungsaustausch beitragen.</p><p><br />Wir freuen uns auf Ihr Ko
 mmen!</p><p>&nbsp;</p> <a href="https://www.cromford-ev.de/crom/veranstaltu
 ngen/eventdetail/179/-/mitgliederversammlung-2024?tmpl=component">Dieser Ev
 ent wurde importiert von: https://www.cromford-ev.de/crom/veranstaltungen/e
 ventdetail/179/-/mitgliederversammlung-2024?tmpl=component</a>DTSTAMP:20260421T204918
DTSTART;TZID=Europe/Berlin:20240320T180000
SEQUENCE:0
TRANSP:OPAQUE
END:VEVENT
END:VCALENDAR