BEGIN:VCALENDAR
VERSION:2.0
PRODID:-//jEvents 2.0 for Joomla//EN
CALSCALE:GREGORIAN
METHOD:PUBLISH
BEGIN:VTIMEZONE
TZID:Europe/Berlin
BEGIN:STANDARD
DTSTART:20231029T020000
RDATE:20240331T030000
TZOFFSETFROM:+0200
TZOFFSETTO:+0100
TZNAME:Europe/Berlin CET
END:STANDARD
BEGIN:STANDARD
DTSTART:20241027T020000
RDATE:20250330T030000
TZOFFSETFROM:+0200
TZOFFSETTO:+0100
TZNAME:Europe/Berlin CET
END:STANDARD
BEGIN:STANDARD
DTSTART:20251026T020000
RDATE:20260329T030000
TZOFFSETFROM:+0200
TZOFFSETTO:+0100
TZNAME:Europe/Berlin CET
END:STANDARD
BEGIN:STANDARD
DTSTART:20261025T020000
RDATE:20270328T030000
TZOFFSETFROM:+0200
TZOFFSETTO:+0100
TZNAME:Europe/Berlin CET
END:STANDARD
BEGIN:STANDARD
DTSTART:20271031T020000
RDATE:20280326T030000
TZOFFSETFROM:+0200
TZOFFSETTO:+0100
TZNAME:Europe/Berlin CET
END:STANDARD
BEGIN:STANDARD
DTSTART:20281029T020000
RDATE:20290325T030000
TZOFFSETFROM:+0200
TZOFFSETTO:+0100
TZNAME:Europe/Berlin CET
END:STANDARD
BEGIN:STANDARD
DTSTART:20291028T020000
RDATE:20300331T030000
TZOFFSETFROM:+0200
TZOFFSETTO:+0100
TZNAME:Europe/Berlin CET
END:STANDARD
BEGIN:DAYLIGHT
DTSTART:20230328T143000
RDATE:20231029T020000
TZOFFSETFROM:+0100
TZOFFSETTO:+0200
TZNAME:Europe/Berlin CEST
END:DAYLIGHT
BEGIN:DAYLIGHT
DTSTART:20240331T030000
RDATE:20241027T020000
TZOFFSETFROM:+0100
TZOFFSETTO:+0200
TZNAME:Europe/Berlin CEST
END:DAYLIGHT
BEGIN:DAYLIGHT
DTSTART:20250330T030000
RDATE:20251026T020000
TZOFFSETFROM:+0100
TZOFFSETTO:+0200
TZNAME:Europe/Berlin CEST
END:DAYLIGHT
BEGIN:DAYLIGHT
DTSTART:20260329T030000
RDATE:20261025T020000
TZOFFSETFROM:+0100
TZOFFSETTO:+0200
TZNAME:Europe/Berlin CEST
END:DAYLIGHT
BEGIN:DAYLIGHT
DTSTART:20270328T030000
RDATE:20271031T020000
TZOFFSETFROM:+0100
TZOFFSETTO:+0200
TZNAME:Europe/Berlin CEST
END:DAYLIGHT
BEGIN:DAYLIGHT
DTSTART:20280326T030000
RDATE:20281029T020000
TZOFFSETFROM:+0100
TZOFFSETTO:+0200
TZNAME:Europe/Berlin CEST
END:DAYLIGHT
BEGIN:DAYLIGHT
DTSTART:20290325T030000
RDATE:20291028T020000
TZOFFSETFROM:+0100
TZOFFSETTO:+0200
TZNAME:Europe/Berlin CEST
END:DAYLIGHT
END:VTIMEZONE
BEGIN:VEVENT
UID:9d4efa50bf413ccdbda7237c27f516c2
CATEGORIES:Museum
CREATED:20231204T182309
SUMMARY:Ferienaktion: Angestoßen! Kettenreaktion für Kinder zwischen 6 und 10 Jahren
URL;VALUE=URI:https://www.cromford-ev.de/crom/veranstaltungen/eventdetail/173/-/ferienakt
 ion-angestossen-kettenreaktion-fuer-kinder-zwischen-6-und-10-jahren?tmpl=co
 mponent
DESCRIPTION:Auch in den Ferien ist mächtig was los in Cromford.\nBeim gemeinsamen Bau d
 er Kettenreaktion über verschiedene Ebenen hinweg ist Teamgeist gefragt - d
 enn nur gemeinsam kann es gelingen, die Bewegung weiterzugeben. \nHat alles
  geklappt? Dann folgt das Ende mit einem lauten Knall. \nTüfteln erwünscht!
 \nKosten: 8 € p.P.\nAlter: 6 bis 10 Jahre\nmax. 12 Personen, mind. 4\nBitte
  beachten Sie, dass das Programm für Kinder zwischen 6 und 10 Jahren und zw
 ischen 9 und 12 Jahren angeboten wird.\n Dieser Event wurde importiert von:
  https://www.cromford-ev.de/crom/veranstaltungen/eventdetail/173/-/ferienak
 tion-angestossen-kettenreaktion-fuer-kinder-zwischen-6-und-10-jahren?tmpl=c
 omponent
X-ALT-DESC;FMTTYPE=text/html:<p>Auch in den Ferien ist mächtig was los in Cromford.</p><p>Beim gemeinsam
 en Bau der Kettenreaktion über verschiedene Ebenen hinweg ist Teamgeist gef
 ragt - denn nur gemeinsam kann es gelingen, die Bewegung weiterzugeben. <br
  />Hat alles geklappt? Dann folgt das Ende mit einem lauten Knall. <br />Tü
 fteln erwünscht!</p><p>Kosten:&nbsp;8 €&nbsp;p.P.</p><p>Alter: 6 bis 10 Jah
 re</p><p>max. 12 Personen, mind. 4</p><p>Bitte beachten Sie, dass das Progr
 amm für Kinder zwischen 6 und 10 Jahren und zwischen 9 und 12 Jahren angebo
 ten wird.</p> <a href="https://www.cromford-ev.de/crom/veranstaltungen/even
 tdetail/173/-/ferienaktion-angestossen-kettenreaktion-fuer-kinder-zwischen-
 6-und-10-jahren?tmpl=component">Dieser Event wurde importiert von: https://
 www.cromford-ev.de/crom/veranstaltungen/eventdetail/173/-/ferienaktion-ange
 stossen-kettenreaktion-fuer-kinder-zwischen-6-und-10-jahren?tmpl=component<
 /a>DTSTAMP:20260421T204926
DTSTART;TZID=Europe/Berlin:20240328T133000
DTEND;TZID=Europe/Berlin:20240328T160000
SEQUENCE:0
TRANSP:OPAQUE
END:VEVENT
END:VCALENDAR