BEGIN:VCALENDAR
VERSION:2.0
PRODID:-//jEvents 2.0 for Joomla//EN
CALSCALE:GREGORIAN
METHOD:PUBLISH
BEGIN:VTIMEZONE
TZID:Europe/Berlin
BEGIN:STANDARD
DTSTART:20221030T020000
RDATE:20230326T030000
TZOFFSETFROM:+0200
TZOFFSETTO:+0100
TZNAME:Europe/Berlin CET
END:STANDARD
BEGIN:STANDARD
DTSTART:20231029T020000
RDATE:20240331T030000
TZOFFSETFROM:+0200
TZOFFSETTO:+0100
TZNAME:Europe/Berlin CET
END:STANDARD
BEGIN:STANDARD
DTSTART:20241027T020000
RDATE:20250330T030000
TZOFFSETFROM:+0200
TZOFFSETTO:+0100
TZNAME:Europe/Berlin CET
END:STANDARD
BEGIN:STANDARD
DTSTART:20251026T020000
RDATE:20260329T030000
TZOFFSETFROM:+0200
TZOFFSETTO:+0100
TZNAME:Europe/Berlin CET
END:STANDARD
BEGIN:STANDARD
DTSTART:20261025T020000
RDATE:20270328T030000
TZOFFSETFROM:+0200
TZOFFSETTO:+0100
TZNAME:Europe/Berlin CET
END:STANDARD
BEGIN:STANDARD
DTSTART:20271031T020000
RDATE:20280326T030000
TZOFFSETFROM:+0200
TZOFFSETTO:+0100
TZNAME:Europe/Berlin CET
END:STANDARD
BEGIN:STANDARD
DTSTART:20281029T020000
RDATE:20290325T030000
TZOFFSETFROM:+0200
TZOFFSETTO:+0100
TZNAME:Europe/Berlin CET
END:STANDARD
BEGIN:STANDARD
DTSTART:20291028T020000
RDATE:20300331T030000
TZOFFSETFROM:+0200
TZOFFSETTO:+0100
TZNAME:Europe/Berlin CET
END:STANDARD
BEGIN:DAYLIGHT
DTSTART:20220506T140000
RDATE:20221030T020000
TZOFFSETFROM:+0100
TZOFFSETTO:+0200
TZNAME:Europe/Berlin CEST
END:DAYLIGHT
BEGIN:DAYLIGHT
DTSTART:20230326T030000
RDATE:20231029T020000
TZOFFSETFROM:+0100
TZOFFSETTO:+0200
TZNAME:Europe/Berlin CEST
END:DAYLIGHT
BEGIN:DAYLIGHT
DTSTART:20240331T030000
RDATE:20241027T020000
TZOFFSETFROM:+0100
TZOFFSETTO:+0200
TZNAME:Europe/Berlin CEST
END:DAYLIGHT
BEGIN:DAYLIGHT
DTSTART:20250330T030000
RDATE:20251026T020000
TZOFFSETFROM:+0100
TZOFFSETTO:+0200
TZNAME:Europe/Berlin CEST
END:DAYLIGHT
BEGIN:DAYLIGHT
DTSTART:20260329T030000
RDATE:20261025T020000
TZOFFSETFROM:+0100
TZOFFSETTO:+0200
TZNAME:Europe/Berlin CEST
END:DAYLIGHT
BEGIN:DAYLIGHT
DTSTART:20270328T030000
RDATE:20271031T020000
TZOFFSETFROM:+0100
TZOFFSETTO:+0200
TZNAME:Europe/Berlin CEST
END:DAYLIGHT
BEGIN:DAYLIGHT
DTSTART:20280326T030000
RDATE:20281029T020000
TZOFFSETFROM:+0100
TZOFFSETTO:+0200
TZNAME:Europe/Berlin CEST
END:DAYLIGHT
BEGIN:DAYLIGHT
DTSTART:20290325T030000
RDATE:20291028T020000
TZOFFSETFROM:+0100
TZOFFSETTO:+0200
TZNAME:Europe/Berlin CEST
END:DAYLIGHT
END:VTIMEZONE
BEGIN:VEVENT
UID:fe2fa98c07e9e380d459a002408c80e7
CATEGORIES:Museum
CREATED:20220901T171808
SUMMARY:Öffentliche Führung „Cromford-Ratingen. Die erste Fabrik auf dem Kontinent“ 
URL;VALUE=URI:https://www.cromford-ev.de/crom/veranstaltungen/eventdetail/17/-/oeffentlic
 he-fuehrung-cromford-ratingen-die-erste-fabrik-auf-dem-kontinent?tmpl=compo
 nent
DESCRIPTION:Am Anfang stand eine weitreichende Entscheidung:\nAls der Wuppertaler Kaufm
 ann Johann Gottfried Brügelmann 1783/84 vor den Toren der Stadt Ratingen ei
 ne Baumwollspinnerei nach englischem Vorbild zu errichtete, konnte er nicht
  ahnen, welch tiefgreifende Folgen dies haben würde.\nDie Anlage gilt als e
 rste Fabrik auf dem Kontinent und steht für den Beginn der Industrialisieru
 ng in Deutschland. Doch wie gelangte Brügelmann an das Geheimnis der englis
 chen Spinnmaschinen? Und wie gestaltete sich der Arbeitsalltag in der Fabri
 k?\nDie originalgetreu nachgebauten Maschinen des 18. Jahrhunderts zeigen n
 och heute, wie aus Rohbaumwolle ein fester Faden gesponnen wird: Angetriebe
 n von einem mächtigen Wasserrad werden die Vorspinnmaschinen in Bewegung ge
 setzt und zum Schluss das Herzstück des Museums, die Water Frame.\n \nMaxim
 al 20 Personen\nAnmeldung unter:\nkulturinfo rheinland, Telefon 02234/9921-
 555\n oder im Webshop buchen: www.shop.industriemuseum.lvr.de (http://www.s
 hop.industriemuseum.lvr.de/)\n\n Preise:\n Kosten Erwachsene 10,50 € inkl. 
 Museumseintritt\nKinder und Jugendliche bis 18 Jahre: € 3,00 Führungsgebühr
 , Eintritt frei\nWeitere Informationen:\n kulturinfo rheinland, Tel.: 02234
 /9921-555 oder\nLVR-Industriemuseum, Textilfabrik Cromford, Tel.: 02102/864
 49-0,\n www.industriemuseum.lvr.de (http://www.industriemuseum.lvr.de/)\n D
 ieser Event wurde importiert von: https://www.cromford-ev.de/crom/veranstal
 tungen/eventdetail/17/-/oeffentliche-fuehrung-cromford-ratingen-die-erste-f
 abrik-auf-dem-kontinent?tmpl=component
X-ALT-DESC;FMTTYPE=text/html:<p>Am Anfang stand eine weitreichende Entscheidung:<br />Als der Wuppertale
 r Kaufmann Johann Gottfried Brügelmann 1783/84 vor den Toren der Stadt Rati
 ngen eine Baumwollspinnerei nach englischem Vorbild zu errichtete, konnte e
 r nicht ahnen, welch tiefgreifende Folgen dies haben würde.</p><p>Die Anlag
 e gilt als erste Fabrik auf dem Kontinent und steht für den Beginn der Indu
 strialisierung in Deutschland. Doch wie gelangte Brügelmann an das Geheimni
 s der englischen Spinnmaschinen? Und wie gestaltete sich der Arbeitsalltag 
 in der Fabrik?<br />Die originalgetreu nachgebauten Maschinen des 18. Jahrh
 underts zeigen noch heute, wie aus Rohbaumwolle ein fester Faden gesponnen 
 wird: Angetrieben von einem mächtigen Wasserrad werden die Vorspinnmaschine
 n in Bewegung gesetzt und zum Schluss das Herzstück des Museums, die Water 
 Frame.</p><p>&nbsp;</p><p>Maximal 20 Personen</p><p><strong>Anmeldung unter
 :</strong></p><p><strong>kulturinfo rheinland, Telefon 02234/9921-555<br />
  </strong>oder im Webshop buchen: <a href="http://www.shop.industriemuseum.
 lvr.de/" target="_blank" rel="noopener" title="Externer Link öffnet neues F
 enster">www.shop.industriemuseum.lvr.de</a></p><p><br /> <strong>Preise:</s
 trong><br /> Kosten Erwachsene 10,50 € inkl. Museumseintritt</p><p>Kinder u
 nd Jugendliche bis 18 Jahre: € 3,00 Führungsgebühr, Eintritt frei</p><p>Wei
 tere Informationen:<br /> kulturinfo rheinland, Tel.: 02234/9921-555 oder</
 p><p>LVR-Industriemuseum, Textilfabrik Cromford, Tel.: 02102/86449-0,<br />
  <span id="lblKosten"><a href="http://www.industriemuseum.lvr.de/">www.indu
 striemuseum.lvr.de</a></span></p> <a href="https://www.cromford-ev.de/crom/
 veranstaltungen/eventdetail/17/-/oeffentliche-fuehrung-cromford-ratingen-di
 e-erste-fabrik-auf-dem-kontinent?tmpl=component">Dieser Event wurde importi
 ert von: https://www.cromford-ev.de/crom/veranstaltungen/eventdetail/17/-/o
 effentliche-fuehrung-cromford-ratingen-die-erste-fabrik-auf-dem-kontinent?t
 mpl=component</a>DTSTAMP:20260424T234249
DTSTART;TZID=Europe/Berlin:20230507T140000
DTEND;TZID=Europe/Berlin:20230507T153000
SEQUENCE:0
TRANSP:OPAQUE
END:VEVENT
END:VCALENDAR