BEGIN:VCALENDAR
VERSION:2.0
PRODID:-//jEvents 2.0 for Joomla//EN
CALSCALE:GREGORIAN
METHOD:PUBLISH
BEGIN:VTIMEZONE
TZID:Europe/Berlin
BEGIN:STANDARD
DTSTART:20230205T183000
RDATE:20230326T030000
TZOFFSETFROM:+0200
TZOFFSETTO:+0100
TZNAME:Europe/Berlin CET
END:STANDARD
BEGIN:STANDARD
DTSTART:20231029T020000
RDATE:20240331T030000
TZOFFSETFROM:+0200
TZOFFSETTO:+0100
TZNAME:Europe/Berlin CET
END:STANDARD
BEGIN:STANDARD
DTSTART:20241027T020000
RDATE:20250330T030000
TZOFFSETFROM:+0200
TZOFFSETTO:+0100
TZNAME:Europe/Berlin CET
END:STANDARD
BEGIN:STANDARD
DTSTART:20251026T020000
RDATE:20260329T030000
TZOFFSETFROM:+0200
TZOFFSETTO:+0100
TZNAME:Europe/Berlin CET
END:STANDARD
BEGIN:STANDARD
DTSTART:20261025T020000
RDATE:20270328T030000
TZOFFSETFROM:+0200
TZOFFSETTO:+0100
TZNAME:Europe/Berlin CET
END:STANDARD
BEGIN:STANDARD
DTSTART:20271031T020000
RDATE:20280326T030000
TZOFFSETFROM:+0200
TZOFFSETTO:+0100
TZNAME:Europe/Berlin CET
END:STANDARD
BEGIN:STANDARD
DTSTART:20281029T020000
RDATE:20290325T030000
TZOFFSETFROM:+0200
TZOFFSETTO:+0100
TZNAME:Europe/Berlin CET
END:STANDARD
BEGIN:STANDARD
DTSTART:20291028T020000
RDATE:20300331T030000
TZOFFSETFROM:+0200
TZOFFSETTO:+0100
TZNAME:Europe/Berlin CET
END:STANDARD
BEGIN:DAYLIGHT
DTSTART:20230326T030000
RDATE:20231029T020000
TZOFFSETFROM:+0100
TZOFFSETTO:+0200
TZNAME:Europe/Berlin CEST
END:DAYLIGHT
BEGIN:DAYLIGHT
DTSTART:20240331T030000
RDATE:20241027T020000
TZOFFSETFROM:+0100
TZOFFSETTO:+0200
TZNAME:Europe/Berlin CEST
END:DAYLIGHT
BEGIN:DAYLIGHT
DTSTART:20250330T030000
RDATE:20251026T020000
TZOFFSETFROM:+0100
TZOFFSETTO:+0200
TZNAME:Europe/Berlin CEST
END:DAYLIGHT
BEGIN:DAYLIGHT
DTSTART:20260329T030000
RDATE:20261025T020000
TZOFFSETFROM:+0100
TZOFFSETTO:+0200
TZNAME:Europe/Berlin CEST
END:DAYLIGHT
BEGIN:DAYLIGHT
DTSTART:20270328T030000
RDATE:20271031T020000
TZOFFSETFROM:+0100
TZOFFSETTO:+0200
TZNAME:Europe/Berlin CEST
END:DAYLIGHT
BEGIN:DAYLIGHT
DTSTART:20280326T030000
RDATE:20281029T020000
TZOFFSETFROM:+0100
TZOFFSETTO:+0200
TZNAME:Europe/Berlin CEST
END:DAYLIGHT
BEGIN:DAYLIGHT
DTSTART:20290325T030000
RDATE:20291028T020000
TZOFFSETFROM:+0100
TZOFFSETTO:+0200
TZNAME:Europe/Berlin CEST
END:DAYLIGHT
END:VTIMEZONE
BEGIN:VEVENT
UID:359fa2912727e5254232a25eb431454c
CATEGORIES:Museum
CREATED:20231204T180252
SUMMARY:Workshop: „Light Painting für Erwachsene“
URL;VALUE=URI:https://www.cromford-ev.de/crom/veranstaltungen/eventdetail/165/-/workshop-
 light-painting-fuer-erwachsene?tmpl=component
DESCRIPTION:<p>Malen mit Licht. Klingt wie Zauberei, ist aber eine Fototechnik. Nach ei
 ner Einführung in die Technik geht es richtig los: Im abgedunkelten Raum wi
 rd mit den Lichtpinseln in der Luft gemalt und auf den iPads entstehen auße
 rgewöhnliche, bunt leuchtende Kunstwerke.</p><p><strong>Eine Anmeldung ist 
 erforderlich.</strong> <br /> Tickets sind buchbar unter 02234-9921555 oder
  im Webshop: <a href="http://www.shop.industriemuseum.lvr.de/">www.shop.ind
 ustriemuseum.lvr.de</a></p><p><br /> <strong>Preise:</strong></p><p>Kosten:
  15 €<br />max. 20 Personen, min. 4</p><p><em><strong>Hinweise: Bitte zum B
 asteln geeignete Kleidung tragen</strong></em></p><p>Weitere Informationen:
 <br /> kulturinfo rheinland, Tel.: 02234/9921-555 oder</p><p>LVR-Industriem
 useum, Textilfabrik Cromford, Tel.: 02102/86449-0,<br /> <a href="http://ww
 w.industriemuseum.lvr.de/"><span id="lblKosten">www.industriemuseum.lvr.de<
 /span></a></p> <a href="https://www.cromford-ev.de/crom/veranstaltungen/eve
 ntdetail/165/-/workshop-light-painting-fuer-erwachsene?tmpl=component">Dies
 er Event wurde importiert von: https://www.cromford-ev.de/crom/veranstaltun
 gen/eventdetail/165/-/workshop-light-painting-fuer-erwachsene?tmpl=componen
 t</a>DTSTAMP:20260422T001433
DTSTART;TZID=Europe/Berlin:20240206T183000
DTEND;TZID=Europe/Berlin:20240206T200000
SEQUENCE:0
TRANSP:OPAQUE
END:VEVENT
END:VCALENDAR