BEGIN:VCALENDAR
VERSION:2.0
PRODID:-//jEvents 2.0 for Joomla//EN
CALSCALE:GREGORIAN
METHOD:PUBLISH
BEGIN:VTIMEZONE
TZID:Europe/Berlin
BEGIN:STANDARD
DTSTART:20230124T183000
RDATE:20230326T030000
TZOFFSETFROM:+0200
TZOFFSETTO:+0100
TZNAME:Europe/Berlin CET
END:STANDARD
BEGIN:STANDARD
DTSTART:20231029T020000
RDATE:20240331T030000
TZOFFSETFROM:+0200
TZOFFSETTO:+0100
TZNAME:Europe/Berlin CET
END:STANDARD
BEGIN:STANDARD
DTSTART:20241027T020000
RDATE:20250330T030000
TZOFFSETFROM:+0200
TZOFFSETTO:+0100
TZNAME:Europe/Berlin CET
END:STANDARD
BEGIN:STANDARD
DTSTART:20251026T020000
RDATE:20260329T030000
TZOFFSETFROM:+0200
TZOFFSETTO:+0100
TZNAME:Europe/Berlin CET
END:STANDARD
BEGIN:STANDARD
DTSTART:20261025T020000
RDATE:20270328T030000
TZOFFSETFROM:+0200
TZOFFSETTO:+0100
TZNAME:Europe/Berlin CET
END:STANDARD
BEGIN:STANDARD
DTSTART:20271031T020000
RDATE:20280326T030000
TZOFFSETFROM:+0200
TZOFFSETTO:+0100
TZNAME:Europe/Berlin CET
END:STANDARD
BEGIN:STANDARD
DTSTART:20281029T020000
RDATE:20290325T030000
TZOFFSETFROM:+0200
TZOFFSETTO:+0100
TZNAME:Europe/Berlin CET
END:STANDARD
BEGIN:STANDARD
DTSTART:20291028T020000
RDATE:20300331T030000
TZOFFSETFROM:+0200
TZOFFSETTO:+0100
TZNAME:Europe/Berlin CET
END:STANDARD
BEGIN:DAYLIGHT
DTSTART:20230326T030000
RDATE:20231029T020000
TZOFFSETFROM:+0100
TZOFFSETTO:+0200
TZNAME:Europe/Berlin CEST
END:DAYLIGHT
BEGIN:DAYLIGHT
DTSTART:20240331T030000
RDATE:20241027T020000
TZOFFSETFROM:+0100
TZOFFSETTO:+0200
TZNAME:Europe/Berlin CEST
END:DAYLIGHT
BEGIN:DAYLIGHT
DTSTART:20250330T030000
RDATE:20251026T020000
TZOFFSETFROM:+0100
TZOFFSETTO:+0200
TZNAME:Europe/Berlin CEST
END:DAYLIGHT
BEGIN:DAYLIGHT
DTSTART:20260329T030000
RDATE:20261025T020000
TZOFFSETFROM:+0100
TZOFFSETTO:+0200
TZNAME:Europe/Berlin CEST
END:DAYLIGHT
BEGIN:DAYLIGHT
DTSTART:20270328T030000
RDATE:20271031T020000
TZOFFSETFROM:+0100
TZOFFSETTO:+0200
TZNAME:Europe/Berlin CEST
END:DAYLIGHT
BEGIN:DAYLIGHT
DTSTART:20280326T030000
RDATE:20281029T020000
TZOFFSETFROM:+0100
TZOFFSETTO:+0200
TZNAME:Europe/Berlin CEST
END:DAYLIGHT
BEGIN:DAYLIGHT
DTSTART:20290325T030000
RDATE:20291028T020000
TZOFFSETFROM:+0100
TZOFFSETTO:+0200
TZNAME:Europe/Berlin CEST
END:DAYLIGHT
END:VTIMEZONE
BEGIN:VEVENT
UID:750db46fd22f44bbeb3416b2fcb69894
CATEGORIES:Museum
CREATED:20231204T163600
SUMMARY:Workshop: Angestoßen! Tüfteln am Abend
URL;VALUE=URI:https://www.cromford-ev.de/crom/veranstaltungen/eventdetail/158/-/workshop-
 angestossen-tuefteln-am-abend?tmpl=component
DESCRIPTION:Tüfteln ist nur was für Kinder? \nVon wegen! Beim öffentlichen Workshop sin
 d Erwachsene gefragt, gemeinsam einen Parcours auf die Beine zu stellen.\n 
 In entspannter Atmosphäre wird getüftelt und eine Kettenreaktion in Gang ge
 setzt. Wenn alles geklappt hat, gibt es am Ende einen lauten Knall!\n \nTic
 kets sind buchbar unter 02234-9921555 oder im Webshop: www.shop.industriemu
 seum.lvr.de (http://www.shop.industriemuseum.lvr.de/)\n\n Preise: 15,00 € i
 nkl. Eintritt und ein Glas Sekt oder Orangensaft\nWeitere Informationen:\n 
 kulturinfo rheinland, Tel.: 02234/9921-555 oder\nLVR-Industriemuseum, Texti
 lfabrik Cromford, Tel.: 02102/86449-0,\n www.industriemuseum.lvr.de (http:/
 /www.industriemuseum.lvr.de/)\n Dieser Event wurde importiert von: https://
 www.cromford-ev.de/crom/veranstaltungen/eventdetail/158/-/workshop-angestos
 sen-tuefteln-am-abend?tmpl=component
X-ALT-DESC;FMTTYPE=text/html:<p>Tüfteln ist nur was für Kinder? <br />Von wegen! Beim öffentlichen Works
 hop sind Erwachsene gefragt, gemeinsam einen Parcours auf die Beine zu stel
 len.<br /> In entspannter Atmosphäre wird getüftelt und eine Kettenreaktion
  in Gang gesetzt. Wenn alles geklappt hat, gibt es am Ende einen lauten Kna
 ll!</p><p>&nbsp;</p><p>Tickets sind buchbar unter 02234-9921555 oder im Web
 shop: <a href="http://www.shop.industriemuseum.lvr.de/">www.shop.industriem
 useum.lvr.de</a></p><p><br /> <strong>Preise:</strong> 15,00 € inkl. Eintri
 tt und ein Glas Sekt oder Orangensaft</p><p>Weitere Informationen:<br /> ku
 lturinfo rheinland, Tel.: 02234/9921-555 oder</p><p>LVR-Industriemuseum, Te
 xtilfabrik Cromford, Tel.: 02102/86449-0,<br /> <a href="http://www.industr
 iemuseum.lvr.de/"><span id="lblKosten">www.industriemuseum.lvr.de</span></a
 ></p> <a href="https://www.cromford-ev.de/crom/veranstaltungen/eventdetail/
 158/-/workshop-angestossen-tuefteln-am-abend?tmpl=component">Dieser Event w
 urde importiert von: https://www.cromford-ev.de/crom/veranstaltungen/eventd
 etail/158/-/workshop-angestossen-tuefteln-am-abend?tmpl=component</a>DTSTAMP:20260422T013214
DTSTART;TZID=Europe/Berlin:20240125T183000
DTEND;TZID=Europe/Berlin:20240125T203000
SEQUENCE:0
TRANSP:OPAQUE
END:VEVENT
END:VCALENDAR