BEGIN:VCALENDAR
VERSION:2.0
PRODID:-//jEvents 2.0 for Joomla//EN
CALSCALE:GREGORIAN
METHOD:PUBLISH
BEGIN:VTIMEZONE
TZID:Europe/Berlin
BEGIN:STANDARD
DTSTART:20221030T020000
RDATE:20230326T030000
TZOFFSETFROM:+0200
TZOFFSETTO:+0100
TZNAME:Europe/Berlin CET
END:STANDARD
BEGIN:STANDARD
DTSTART:20231029T020000
RDATE:20240331T030000
TZOFFSETFROM:+0200
TZOFFSETTO:+0100
TZNAME:Europe/Berlin CET
END:STANDARD
BEGIN:STANDARD
DTSTART:20241027T020000
RDATE:20250330T030000
TZOFFSETFROM:+0200
TZOFFSETTO:+0100
TZNAME:Europe/Berlin CET
END:STANDARD
BEGIN:STANDARD
DTSTART:20251026T020000
RDATE:20260329T030000
TZOFFSETFROM:+0200
TZOFFSETTO:+0100
TZNAME:Europe/Berlin CET
END:STANDARD
BEGIN:STANDARD
DTSTART:20261025T020000
RDATE:20270328T030000
TZOFFSETFROM:+0200
TZOFFSETTO:+0100
TZNAME:Europe/Berlin CET
END:STANDARD
BEGIN:STANDARD
DTSTART:20271031T020000
RDATE:20280326T030000
TZOFFSETFROM:+0200
TZOFFSETTO:+0100
TZNAME:Europe/Berlin CET
END:STANDARD
BEGIN:STANDARD
DTSTART:20281029T020000
RDATE:20290325T030000
TZOFFSETFROM:+0200
TZOFFSETTO:+0100
TZNAME:Europe/Berlin CET
END:STANDARD
BEGIN:STANDARD
DTSTART:20291028T020000
RDATE:20300331T030000
TZOFFSETFROM:+0200
TZOFFSETTO:+0100
TZNAME:Europe/Berlin CET
END:STANDARD
BEGIN:DAYLIGHT
DTSTART:20220520T140000
RDATE:20221030T020000
TZOFFSETFROM:+0100
TZOFFSETTO:+0200
TZNAME:Europe/Berlin CEST
END:DAYLIGHT
BEGIN:DAYLIGHT
DTSTART:20230326T030000
RDATE:20231029T020000
TZOFFSETFROM:+0100
TZOFFSETTO:+0200
TZNAME:Europe/Berlin CEST
END:DAYLIGHT
BEGIN:DAYLIGHT
DTSTART:20240331T030000
RDATE:20241027T020000
TZOFFSETFROM:+0100
TZOFFSETTO:+0200
TZNAME:Europe/Berlin CEST
END:DAYLIGHT
BEGIN:DAYLIGHT
DTSTART:20250330T030000
RDATE:20251026T020000
TZOFFSETFROM:+0100
TZOFFSETTO:+0200
TZNAME:Europe/Berlin CEST
END:DAYLIGHT
BEGIN:DAYLIGHT
DTSTART:20260329T030000
RDATE:20261025T020000
TZOFFSETFROM:+0100
TZOFFSETTO:+0200
TZNAME:Europe/Berlin CEST
END:DAYLIGHT
BEGIN:DAYLIGHT
DTSTART:20270328T030000
RDATE:20271031T020000
TZOFFSETFROM:+0100
TZOFFSETTO:+0200
TZNAME:Europe/Berlin CEST
END:DAYLIGHT
BEGIN:DAYLIGHT
DTSTART:20280326T030000
RDATE:20281029T020000
TZOFFSETFROM:+0100
TZOFFSETTO:+0200
TZNAME:Europe/Berlin CEST
END:DAYLIGHT
BEGIN:DAYLIGHT
DTSTART:20290325T030000
RDATE:20291028T020000
TZOFFSETFROM:+0100
TZOFFSETTO:+0200
TZNAME:Europe/Berlin CEST
END:DAYLIGHT
END:VTIMEZONE
BEGIN:VEVENT
UID:3c3f5fb2c856a31b99938724245353a0
CATEGORIES:Museum
CREATED:20230816T182824
SUMMARY:Familienführung:  Kindheit in Cromford
URL;VALUE=URI:https://www.cromford-ev.de/crom/veranstaltungen/eventdetail/111/-/familienf
 uehrung-kindheit-in-cromford?tmpl=component
DESCRIPTION:Gegensätzlicher konnte Kindheit kaum sein: Vor 200 Jahren arbeiteten schon 
 sechsjährige Kinder in Cromford an den Spinnmaschinen, manchmal zusammen mi
 t älteren Geschwistern oder ihren Eltern.\nMit dem Lohn, den sie nach einem
  zehnstündigen Arbeitstag bekamen, unterstützten sie ihre Familien. Ganz an
 ders sah die Kindheit von Johann Gottfried Junior und Jakob Wilhelm aus, di
 e als Söhne des Fabrikgründers Brügelmann im Herrenhaus Cromford aufwuchsen
 .\nSie lernten lesen, schreiben und rechnen, und sollten später die Baumwol
 lspinnerei leiten.\nDie Führung durch Fabrik und Herrenhaus schildert ansch
 aulich die unterschiedlichen Lebenswelten der Kinder. Maschinenvorführung i
 nklusive.\n \nEine Anmeldung ist nicht erforderlich. \n Tickets sind buchba
 r unter 02234-9921555 oder im Webshop: www.shop.industriemuseum.lvr.de (htt
 p://www.shop.industriemuseum.lvr.de/)\n\n Preise:\n Kosten Erwachsene 10,50
  €\nKinder und Jugendliche bis 18 Jahre: 3,00 € \n max. 20 Personen\nWeiter
 e Informationen:\n kulturinfo rheinland, Tel.: 02234/9921-555 oder\nLVR-Ind
 ustriemuseum, Textilfabrik Cromford, Tel.: 02102/86449-0,\n www.industriemu
 seum.lvr.de (http://www.industriemuseum.lvr.de/)\n Dieser Event wurde impor
 tiert von: https://www.cromford-ev.de/crom/veranstaltungen/eventdetail/111/
 -/familienfuehrung-kindheit-in-cromford?tmpl=component
X-ALT-DESC;FMTTYPE=text/html:<p>Gegensätzlicher konnte Kindheit kaum sein: Vor 200 Jahren arbeiteten sch
 on sechsjährige Kinder in Cromford an den Spinnmaschinen, manchmal zusammen
  mit älteren Geschwistern oder ihren Eltern.</p><p>Mit dem Lohn, den sie na
 ch einem zehnstündigen Arbeitstag bekamen, unterstützten sie ihre Familien.
  Ganz anders sah die Kindheit von Johann Gottfried Junior und Jakob Wilhelm
  aus, die als Söhne des Fabrikgründers Brügelmann im Herrenhaus Cromford au
 fwuchsen.</p><p>Sie lernten lesen, schreiben und rechnen, und sollten späte
 r die Baumwollspinnerei leiten.</p><p>Die Führung durch Fabrik und Herrenha
 us schildert anschaulich die unterschiedlichen Lebenswelten der Kinder. Mas
 chinenvorführung inklusive.</p><p>&nbsp;</p><p><strong>Eine Anmeldung ist n
 icht erforderlich.</strong> <br /> Tickets sind buchbar unter 02234-9921555
  oder im Webshop: <a href="http://www.shop.industriemuseum.lvr.de/">www.sho
 p.industriemuseum.lvr.de</a></p><p><br /> <strong>Preise:</strong><br /> Ko
 sten Erwachsene 10,50 €</p><p>Kinder und Jugendliche bis 18 Jahre: 3,00 € <
 br /> max. 20 Personen</p><p>Weitere Informationen:<br /> kulturinfo rheinl
 and, Tel.: 02234/9921-555 oder</p><p>LVR-Industriemuseum, Textilfabrik Crom
 ford, Tel.: 02102/86449-0,<br /> <a href="http://www.industriemuseum.lvr.de
 /"><span id="lblKosten">www.industriemuseum.lvr.de</span></a></p> <a href="
 https://www.cromford-ev.de/crom/veranstaltungen/eventdetail/111/-/familienf
 uehrung-kindheit-in-cromford?tmpl=component">Dieser Event wurde importiert 
 von: https://www.cromford-ev.de/crom/veranstaltungen/eventdetail/111/-/fami
 lienfuehrung-kindheit-in-cromford?tmpl=component</a>DTSTAMP:20260424T220700
DTSTART;TZID=Europe/Berlin:20230521T140000
DTEND;TZID=Europe/Berlin:20230521T153000
SEQUENCE:0
TRANSP:OPAQUE
END:VEVENT
END:VCALENDAR