BEGIN:VCALENDAR
VERSION:2.0
PRODID:-//jEvents 2.0 for Joomla//EN
CALSCALE:GREGORIAN
METHOD:PUBLISH
BEGIN:VTIMEZONE
TZID:Europe/Berlin
BEGIN:STANDARD
DTSTART:20221030T020000
RDATE:20230326T030000
TZOFFSETFROM:+0200
TZOFFSETTO:+0100
TZNAME:Europe/Berlin CET
END:STANDARD
BEGIN:STANDARD
DTSTART:20231029T020000
RDATE:20240331T030000
TZOFFSETFROM:+0200
TZOFFSETTO:+0100
TZNAME:Europe/Berlin CET
END:STANDARD
BEGIN:STANDARD
DTSTART:20241027T020000
RDATE:20250330T030000
TZOFFSETFROM:+0200
TZOFFSETTO:+0100
TZNAME:Europe/Berlin CET
END:STANDARD
BEGIN:STANDARD
DTSTART:20251026T020000
RDATE:20260329T030000
TZOFFSETFROM:+0200
TZOFFSETTO:+0100
TZNAME:Europe/Berlin CET
END:STANDARD
BEGIN:STANDARD
DTSTART:20261025T020000
RDATE:20270328T030000
TZOFFSETFROM:+0200
TZOFFSETTO:+0100
TZNAME:Europe/Berlin CET
END:STANDARD
BEGIN:STANDARD
DTSTART:20271031T020000
RDATE:20280326T030000
TZOFFSETFROM:+0200
TZOFFSETTO:+0100
TZNAME:Europe/Berlin CET
END:STANDARD
BEGIN:STANDARD
DTSTART:20281029T020000
RDATE:20290325T030000
TZOFFSETFROM:+0200
TZOFFSETTO:+0100
TZNAME:Europe/Berlin CET
END:STANDARD
BEGIN:STANDARD
DTSTART:20291028T020000
RDATE:20300331T030000
TZOFFSETFROM:+0200
TZOFFSETTO:+0100
TZNAME:Europe/Berlin CET
END:STANDARD
BEGIN:DAYLIGHT
DTSTART:20220705T133000
RDATE:20221030T020000
TZOFFSETFROM:+0100
TZOFFSETTO:+0200
TZNAME:Europe/Berlin CEST
END:DAYLIGHT
BEGIN:DAYLIGHT
DTSTART:20230326T030000
RDATE:20231029T020000
TZOFFSETFROM:+0100
TZOFFSETTO:+0200
TZNAME:Europe/Berlin CEST
END:DAYLIGHT
BEGIN:DAYLIGHT
DTSTART:20240331T030000
RDATE:20241027T020000
TZOFFSETFROM:+0100
TZOFFSETTO:+0200
TZNAME:Europe/Berlin CEST
END:DAYLIGHT
BEGIN:DAYLIGHT
DTSTART:20250330T030000
RDATE:20251026T020000
TZOFFSETFROM:+0100
TZOFFSETTO:+0200
TZNAME:Europe/Berlin CEST
END:DAYLIGHT
BEGIN:DAYLIGHT
DTSTART:20260329T030000
RDATE:20261025T020000
TZOFFSETFROM:+0100
TZOFFSETTO:+0200
TZNAME:Europe/Berlin CEST
END:DAYLIGHT
BEGIN:DAYLIGHT
DTSTART:20270328T030000
RDATE:20271031T020000
TZOFFSETFROM:+0100
TZOFFSETTO:+0200
TZNAME:Europe/Berlin CEST
END:DAYLIGHT
BEGIN:DAYLIGHT
DTSTART:20280326T030000
RDATE:20281029T020000
TZOFFSETFROM:+0100
TZOFFSETTO:+0200
TZNAME:Europe/Berlin CEST
END:DAYLIGHT
BEGIN:DAYLIGHT
DTSTART:20290325T030000
RDATE:20291028T020000
TZOFFSETFROM:+0100
TZOFFSETTO:+0200
TZNAME:Europe/Berlin CEST
END:DAYLIGHT
END:VTIMEZONE
BEGIN:VEVENT
UID:ae65d8bb3ef948b0ecf9f9a1bfd87f4f
CATEGORIES:Museum
CREATED:20230427T193151
SUMMARY:Ferienaktion:  Light Painting
URL;VALUE=URI:https://www.cromford-ev.de/crom/veranstaltungen/eventdetail/104/-/ferienakt
 ion-light-painting?tmpl=component
DESCRIPTION:Malen mit Licht. Klingt wie Zauberei. Ist aber eine Fototechnik, die Kinder
  im LVR-Industriemuseum Textilfabrik Cromford ausprobieren können. Nach ein
 er Einführung in die Technik mit iPad und Taschenlampe werden eigene Lichtp
 insel aus Strohhalmen, Plexiglas, Transparentpapier oder glitzernden Schnür
 en gebastelt. Und dann geht es richtig los: Im abgedunkelten Raum wird mit 
 den Lichtpinseln in der Luft gemalt und auf den iPads entstehen außergewöhn
 liche, bunt leuchtende Kunstwerke.\nEine Anmeldung ist erforderlich. \n Tic
 kets sind buchbar unter 02234-9921555 oder im Webshop: www.shop.industriemu
 seum.lvr.de (http://www.shop.industriemuseum.lvr.de/)\n\n Preise:\nKosten: 
 8 € p.P.\nAlter: 8 bis 12 Jahre\nmax. 12 Personen\nHinweise: Bitte zum Bast
 eln geeignete Kleidung tragen\nWeitere Informationen:\n kulturinfo rheinlan
 d, Tel.: 02234/9921-555 oder\nLVR-Industriemuseum, Textilfabrik Cromford, T
 el.: 02102/86449-0,\n www.industriemuseum.lvr.de (http://www.industriemuseu
 m.lvr.de/)\n Dieser Event wurde importiert von: https://www.cromford-ev.de/
 crom/veranstaltungen/eventdetail/104/-/ferienaktion-light-painting?tmpl=com
 ponent
X-ALT-DESC;FMTTYPE=text/html:<p>Malen mit Licht. Klingt wie Zauberei. Ist aber eine Fototechnik, die Kin
 der im LVR-Industriemuseum Textilfabrik Cromford ausprobieren können. Nach 
 einer Einführung in die Technik mit iPad und Taschenlampe werden eigene Lic
 htpinsel aus Strohhalmen, Plexiglas, Transparentpapier oder glitzernden Sch
 nüren gebastelt. Und dann geht es richtig los: Im abgedunkelten Raum wird m
 it den Lichtpinseln in der Luft gemalt und auf den iPads entstehen außergew
 öhnliche, bunt leuchtende Kunstwerke.</p><p><strong>Eine Anmeldung ist erfo
 rderlich.</strong> <br /> Tickets sind buchbar unter 02234-9921555 oder im 
 Webshop: <a href="http://www.shop.industriemuseum.lvr.de/">www.shop.industr
 iemuseum.lvr.de</a></p><p><br /> <strong>Preise:</strong></p><p>Kosten: 8 €
  p.P.<br />Alter: 8 bis 12 Jahre<br />max. 12 Personen</p><p><em><strong>Hi
 nweise: Bitte zum Basteln geeignete Kleidung tragen</strong></em></p><p>Wei
 tere Informationen:<br /> kulturinfo rheinland, Tel.: 02234/9921-555 oder</
 p><p>LVR-Industriemuseum, Textilfabrik Cromford, Tel.: 02102/86449-0,<br />
  <a href="http://www.industriemuseum.lvr.de/"><span id="lblKosten">www.indu
 striemuseum.lvr.de</span></a></p> <a href="https://www.cromford-ev.de/crom/
 veranstaltungen/eventdetail/104/-/ferienaktion-light-painting?tmpl=componen
 t">Dieser Event wurde importiert von: https://www.cromford-ev.de/crom/veran
 staltungen/eventdetail/104/-/ferienaktion-light-painting?tmpl=component</a>DTSTAMP:20260425T012712
DTSTART;TZID=Europe/Berlin:20230706T133000
DTEND;TZID=Europe/Berlin:20230706T160000
SEQUENCE:0
TRANSP:OPAQUE
END:VEVENT
END:VCALENDAR